Workbook
Name Kab_Buton_Utara: DASAR!$A$1:$K$79
Name kd_daerah: #REF!
Name kd_daerah: #REF!
Name kd_daerah: #REF!
Name kd_daerah: #REF!
Name kd_daerah: #REF!
Name kd_daerah: #REF!
Name kode: #REF!
Name kode: #REF!
Name kode: #REF!
Name kode: #REF!
Name kode: #REF!
Name kode: #REF!
Name nmdaerah: #REF!
Name nmdaerah: #REF!
Name nmdaerah: #REF!
Name nmdaerah: #REF!
Name nmdaerah: #REF!
Name nmdaerah: #REF!
Name penduduk: #REF!
Name penduduk: #REF!
Name penduduk: #REF!
Name penduduk: #REF!
Name penduduk: #REF!
Name penduduk: #REF!

Sheet LAMPIRAN DBHP
C2: LAMPIRAN | D2: : PERATURAN BUPATI BUTON UTARA
D3: NOMOR | E3: : 6 TAHUN 2021
D4: TANGGAL | E4: : 15-2-2021
D5: TENTANG | E5: : TATA CARA PEMBAGIAN, PENGGUNAAN DAN PENETAPAN ....RINCIAN DANA BAGI HASIL PAJAK DAERAH DAN RETRIBUSI ....DAERAH KEPADA DESA DI KABUPATEN BUTON UTARA ....TAHUN ANGGARAN 2021.
B9: No. | C9: Kecamatan | D9: Nama Desa | E9: Dana Bagi Hasil Pajak Per Desa | F9: Dana Bagi Hasil Retribusi Per Desa | G9: Total Bagi Hasil Pajak dan Retribusi Daerah yang diterima desa
B12: (1) | C12: (2) | D12: (3) | E12: (5) | F12: (6) | G12: (19)= (4) + (7)
B13: 1 | C13: =DASAR!B2 -> KULISUSU | D13: =DASAR!D2 -> TRIWACUWACU | E13: =P!I13 -> 4001000 | F13: ='R'!I13 -> 4516000 | G13: =E13+F13 -> 8517000
B14: 2 | C14: =DASAR!B3 -> KULISUSU | D14: =DASAR!D3 -> WACULAEA | E14: =P!I14 -> 2230000 | F14: ='R'!I14 -> 2517000 | G14: =E14+F14 -> 4747000
B15: 3 | C15: =DASAR!B4 -> KULISUSU | D15: =DASAR!D4 -> E'ELAHAJI | E15: =P!I15 -> 4961000 | F15: ='R'!I15 -> 5601000 | G15: =E15+F15 -> 10562000
B16: 4 | C16: =DASAR!B5 -> KULISUSU | D16: =DASAR!D5 -> TOMOAHI | E16: =P!I16 -> 4315000 | F16: ='R'!I16 -> 4871000 | G16: =E16+F16 -> 9186000
B17: 5 | C17: =DASAR!B6 -> KULISUSU | D17: =DASAR!D6 -> KALIBU | E17: =P!I17 -> 3136000 | F17: ='R'!I17 -> 3540000 | G17: =E17+F17 -> 6676000
B18: 6 | C18: =DASAR!B7 -> KULISUSU | D18: =DASAR!D7 -> JAMPAKA | E18: =P!I18 -> 4085000 | F18: ='R'!I18 -> 4612000 | G18: =E18+F18 -> 8697000
B19: 7 | C19: =DASAR!B8 -> KULISUSU | D19: =DASAR!D8 -> LOJI | E19: =P!I19 -> 3155000 | F19: ='R'!I19 -> 3561000 | G19: =E19+F19 -> 6716000
B20: 8 | C20: =DASAR!B9 -> KULISUSU | D20: =DASAR!D9 -> LINSOWU | E20: =P!I20 -> 3335000 | F20: ='R'!I20 -> 3765000 | G20: =E20+F20 -> 7100000
B21: 9 | C21: =DASAR!B10 -> KULISUSU | D21: =DASAR!D10 -> ROMBO | E21: =P!I21 -> 1707000 | F21: ='R'!I21 -> 1927000 | G21: =E21+F21 -> 3634000
B22: 10 | C22: =DASAR!B11 -> KULISUSU | D22: =DASAR!D11 -> WASALABOSE | E22: =P!I22 -> 3252000 | F22: ='R'!I22 -> 3671000 | G22: =E22+F22 -> 6923000
B23: 11 | C23: =DASAR!B12 -> KULISUSU | D23: =DASAR!D12 -> MALALANDA | E23: =P!I23 -> 2048000 | F23: ='R'!I23 -> 2312000 | G23: =E23+F23 -> 4360000
B24: 12 | C24: =DASAR!B13 -> KULISUSU | D24: =DASAR!D13 -> LEMO'EA | E24: =P!I24 -> 2695000 | F24: ='R'!I24 -> 3042000 | G24: =E24+F24 -> 5737000
... B90: 78 | C90: =DASAR!B79 -> WAKORUMBA UTARA | D90: =DASAR!D79 -> LABA JAYA | E90: =P!I90 -> 3722000 | F90: ='R'!I90 -> 4201000 | G90: =E90+F90 -> 7923000
B92: Total | E92: =DASAR!F81 -> 1 | G92: =SUM(G13:G90) -> 472018800
C94: Kontrol Penghitungan
C95: Pagu Dana Desa Kabupaten
C96: Hasil Perhitungan Pagu Dana Desa Kabupaten | J96: =P!E95 -> 221726000
C97: Pagu Alokasi Dasar | F97: BUPATI BUTON UTARA, | J97: ='R'!E95 -> 250292800
C98: Hasil Hitung Alokasi Dasar | J98: =J96+J97 -> 472018800
C99: Pagu Alokasi Formula | F99: ttd
C100: Hasil Hitung Alokasi Formula
C101: Jumlah Desa | F101: H. ABU HASAN

Sheet LAMPIRAN
C2: LAMPIRAN | D2: : PERATURAN BUPATI BUTON UTARA
D3: NOMOR | E3: :
D4: TANGGAL | E4: :
D5: TENTANG | E5: : TATA CARA PEMBAGIAN, PENGGUNAAN DAN PENETAPAN ....RINCIAN DANA BAGI HASIL PAJAK DAERAH DAN RETRIBUSI ....DAERAH KEPADA DESA DI KABUPATEN BUTON UTARA ....TAHUN ANGGARAN 2020.
B9: No. | C9: Kecamatan | D9: Nama Desa | E9: Bagi Hasil Pajak dan Retribusi Daerah (Merata) | F9: Bagi Hasil Pajak Dan Retribusi Daerah (Proposional) | I9: Total Bagi Hasil Pajak dan Retribusi Daerah yang diterima desa
F11: % Realisasi PDRD Desa thdp Total Realisasi PDRD Seluruh Desa | G11: Total Bagi Hasil PDRD yang dibagi Proposional | H11: Total Bagi Hasil PDRD Proposional yang diterima Desa
B12: (1) | C12: (2) | D12: (3) | E12: (4) | F12: (5) | G12: (6) | H12: (7)=(5)X(6) | I12: (19)= (4) + (7)
B13: 1 | C13: =DASAR!B2 -> KULISUSU | D13: =DASAR!D2 -> TRIWACUWACU | E13: =E$97 -> 1705584.6 | F13: =DASAR!F2 -> 0.025880369 | G13: =E$99 -> 88690400 | H13: =F13*G13 -> 2295340.3 | I13: =ROUND(E13+H13,-3) -> 4001000
B14: 2 | C14: =DASAR!B3 -> KULISUSU | D14: =DASAR!D3 -> WACULAEA | E14: =E$97 -> 1705584.6 | F14: =DASAR!F3 -> 0.00591358 | G14: =E$99 -> 88690400 | H14: =F14*G14 -> 524477.78 | I14: =ROUND(E14+H14,-3) -> 2230000
B15: 3 | C15: =DASAR!B4 -> KULISUSU | D15: =DASAR!D4 -> E'ELAHAJI | E15: =E$97 -> 1705584.6 | F15: =DASAR!F4 -> 0.036709844 | G15: =E$99 -> 88690400 | H15: =F15*G15 -> 3255810.7 | I15: =ROUND(E15+H15,-3) -> 4961000
B16: 4 | C16: =DASAR!B5 -> KULISUSU | D16: =DASAR!D5 -> TOMOAHI | E16: =E$97 -> 1705584.6 | F16: =DASAR!F5 -> 0.029421308 | G16: =E$99 -> 88690400 | H16: =F16*G16 -> 2609387.6 | I16: =ROUND(E16+H16,-3) -> 4315000
B17: 5 | C17: =DASAR!B6 -> KULISUSU | D17: =DASAR!D6 -> KALIBU | E17: =E$97 -> 1705584.6 | F17: =DASAR!F6 -> 0.016129369 | G17: =E$99 -> 88690400 | H17: =F17*G17 -> 1430520.2 | I17: =ROUND(E17+H17,-3) -> 3136000
B18: 6 | C18: =DASAR!B7 -> KULISUSU | D18: =DASAR!D7 -> JAMPAKA | E18: =E$97 -> 1705584.6 | F18: =DASAR!F7 -> 0.02683288 | G18: =E$99 -> 88690400 | H18: =F18*G18 -> 2379818.9 | I18: =ROUND(E18+H18,-3) -> 4085000
B19: 7 | C19: =DASAR!B8 -> KULISUSU | D19: =DASAR!D8 -> LOJI | E19: =E$97 -> 1705584.6 | F19: =DASAR!F8 -> 0.016340661 | G19: =E$99 -> 88690400 | H19: =F19*G19 -> 1449259.7 | I19: =ROUND(E19+H19,-3) -> 3155000
B20: 8 | C20: =DASAR!B9 -> KULISUSU | D20: =DASAR!D9 -> LINSOWU | E20: =E$97 -> 1705584.6 | F20: =DASAR!F9 -> 0.018371268 | G20: =E$99 -> 88690400 | H20: =F20*G20 -> 1629355.1 | I20: =ROUND(E20+H20,-3) -> 3335000
B21: 9 | C21: =DASAR!B10 -> KULISUSU | D21: =DASAR!D10 -> ROMBO | E21: =E$97 -> 1705584.6 | F21: =DASAR!F10 -> 1.3891276e-05 | G21: =E$99 -> 88690400 | H21: =F21*G21 -> 1232.0228 | I21: =ROUND(E21+H21,-3) -> 1707000
B22: 10 | C22: =DASAR!B11 -> KULISUSU | D22: =DASAR!D11 -> WASALABOSE | E22: =E$97 -> 1705584.6 | F22: =DASAR!F11 -> 0.017434854 | G22: =E$99 -> 88690400 | H22: =F22*G22 -> 1546304.2 | I22: =ROUND(E22+H22,-3) -> 3252000
B23: 11 | C23: =DASAR!B12 -> KULISUSU | D23: =DASAR!D12 -> MALALANDA | E23: =E$97 -> 1705584.6 | F23: =DASAR!F12 -> 0.0038620303 | G23: =E$99 -> 88690400 | H23: =F23*G23 -> 342525.01 | I23: =ROUND(E23+H23,-3) -> 2048000
B24: 12 | C24: =DASAR!B13 -> KULISUSU | D24: =DASAR!D13 -> LEMO'EA | E24: =E$97 -> 1705584.6 | F24: =DASAR!F13 -> 0.011151155 | G24: =E$99 -> 88690400 | H24: =F24*G24 -> 989000.4 | I24: =ROUND(E24+H24,-3) -> 2695000
... B47: 35 | C47: =DASAR!B36 -> BONEGUNU | D47: =DASAR!D36 -> TATOMBULI | E47: =E$97 -> 1705584.6 | F47: =DASAR!F36 -> 0.0075676642 | G47: =E$99 -> 88690400 | H47: =F47*G47 -> 671179.17 | I47: =ROUND(E47+H47,-3) -> 2377000
B48: 36 | C48: =DASAR!B37 -> BONEGUNU | D48: =DASAR!D37 -> RANTE GOLA | E48: =E$97 -> 1705584.6 | F48: =DASAR!F37 -> 0.0040682991 | G48: =E$99 -> 88690400 | H48: =F48*G48 -> 360819.07 | I48: =ROUND(E48+H48,-3)-2000 -> 2064000
B49: 37 | C49: =DASAR!B38 -> BONEGUNU | D49: =DASAR!D38 -> NGAPA'EA | E49: =E$97 -> 1705584.6 | F49: =DASAR!F38 -> 0.008352738 | G49: =E$99 -> 88690400 | H49: =F49*G49 -> 740807.68 | I49: =ROUND(E49+H49,-3) -> 2446000
B50: 38 | C50: =DASAR!B39 -> BONEGUNU | D50: =DASAR!D39 -> KOBORUNO | E50: =E$97 -> 1705584.6 | F50: =DASAR!F39 -> 0.0046368662 | G50: =E$99 -> 88690400 | H50: =F50*G50 -> 411245.52 | I50: =ROUND(E50+H50,-3) -> 2117000
B51: 39 | C51: =DASAR!B40 -> BONEGUNU | D51: =DASAR!D40 -> DAMAI LABORONA | E51: =E$97 -> 1705584.6 | F51: =DASAR!F40 -> 0 | G51: =E$99 -> 88690400 | H51: =F51*G51 -> 0 | I51: =ROUND(E51+H51,-3) -> 1706000
B52: 40 | C52: =DASAR!B41 -> KULISUSU BARAT | D52: =DASAR!D41 -> KOTAWO | E52: =E$97 -> 1705584.6 | F52: =DASAR!F41 -> 0.0096193446 | G52: =E$99 -> 88690400 | H52: =F52*G52 -> 853143.52 | I52: =ROUND(E52+H52,-3) -> 2559000
B53: 41 | C53: =DASAR!B42 -> KULISUSU BARAT | D53: =DASAR!D42 -> KARYA BHAKTI | E53: =E$97 -> 1705584.6 | F53: =DASAR!F42 -> 0.013190461 | G53: =E$99 -> 88690400 | H53: =F53*G53 -> 1169867.3 | I53: =ROUND(E53+H53,-3) -> 2875000
B54: 42 | C54: =DASAR!B43 -> KULISUSU BARAT | D54: =DASAR!D43 -> MARGAKARYA | E54: =E$97 -> 1705584.6 | F54: =DASAR!F43 -> 0.041191314 | G54: =E$99 -> 88690400 | H54: =F54*G54 -> 3653274.1 | I54: =ROUND(E54+H54,-3) -> 5359000
B55: 43 | C55: =DASAR!B44 -> KULISUSU BARAT | D55: =DASAR!D44 -> KASULATOMBI | E55: =E$97 -> 1705584.6 | F55: =DASAR!F44 -> 0.0099862632 | G55: =E$99 -> 88690400 | H55: =F55*G55 -> 885685.67 | I55: =ROUND(E55+H55,-3) -> 2591000
B56: 44 | C56: =DASAR!B45 -> KULISUSU BARAT | D56: =DASAR!D45 -> DAMPALA JAYA | E56: =E$97 -> 1705584.6 | F56: =DASAR!F45 -> 0.011859129 | G56: =E$99 -> 88690400 | H56: =F56*G56 -> 1051790.9 | I56: =ROUND(E56+H56,-3) -> 2757000
B57: 45 | C57: =DASAR!B46 -> KULISUSU BARAT | D57: =DASAR!D46 -> RAHMAT BARU | E57: =E$97 -> 1705584.6 | F57: =DASAR!F46 -> 0.0065539234 | G57: =E$99 -> 88690400 | H57: =F57*G57 -> 581270.09 | I57: =ROUND(E57+H57,-3) -> 2287000
B58: 46 | C58: =DASAR!B47 -> KULISUSU BARAT | D58: =DASAR!D47 -> SOLOY AGUNG | E58: =E$97 -> 1705584.6 | F58: =DASAR!F47 -> 0 | G58: =E$99 -> 88690400 | H58: =F58*G58 -> 0 | I58: =ROUND(E58+H58,-3) -> 1706000
B59: 47 | C59: =DASAR!B48 -> KULISUSU BARAT | D59: =DASAR!D48 -> BUMI LAPERO | E59: =E$97 -> 1705584.6 | F59: =DASAR!F48 -> 0.014687246 | G59: =E$99 -> 88690400 | H59: =F59*G59 -> 1302617.7 | I59: =ROUND(E59+H59,-3) -> 3008000
B60: 48 | C60: =DASAR!B49 -> KULISUSU BARAT | D60: =DASAR!D49 -> KARYA MULYA | E60: =E$97 -> 1705584.6 | F60: =DASAR!F49 -> 0 | G60: =E$99 -> 88690400 | H60: =F60*G60 -> 0 | I60: =ROUND(E60+H60,-3) -> 1706000
... B90: 78 | C90: =DASAR!B79 -> WAKORUMBA UTARA | D90: =DASAR!D79 -> LABA JAYA | E90: =E$97 -> 1705584.6 | F90: =DASAR!F79 -> 0.022731367 | G90: =E$99 -> 88690400 | H90: =F90*G90 -> 2016054 | I90: =ROUND(E90+H90,-3) -> 3722000
B92: Total | E92: =SUM(E13:E90) -> 1.330356e+08 | F92: =DASAR!F81 -> 1 | H92: =SUM(H13:H90) -> 88690400 | I92: =SUM(I13:I90) -> 221726000
C94: Kontrol Penghitungan
C95: Pagu Dana Desa Kabupaten | E95: 221726000
C96: Hasil Perhitungan Pagu Dana Desa Kabupaten | E96: =I92 -> 221726000
C97: Pagu Alokasi Dasar | E97: =(E95*60%)/78 -> 1705584.6 | G97: BUPATI BUTON UTARA,
C98: Hasil Hitung Alokasi Dasar | E98: =E90 -> 1705584.6
C99: Pagu Alokasi Formula | E99: =E95*40% -> 88690400
C100: Hasil Hitung Alokasi Formula | E100: =H92 -> 88690400
C101: Jumlah Desa | E101: 78 | G101: H. ABU HASAN
E104: =E95-I92 -> 0

Sheet P
C2: LAMPIRAN | D2: : PERATURAN BUPATI BUTON UTARA
D3: NOMOR | E3: :
D4: TANGGAL | E4: :
D5: TENTANG | E5: : TATA CARA PEMBAGIAN DAN PENETAPAN RINCIAN DANA DESA SETIAP DESA KABUPATEN BUTON UTARA TAHUN ANGGARAN 2017.
B9: No. | C9: Kecamatan | D9: Nama Desa | E9: Bagi Hasil Pajak dan Retribusi Daerah (Merata) | F9: Bagi Hasil Pajak Dan Retribusi Daerah (Proposional) | I9: Total Bagi Hasil Pajak dan Retribusi Daerah yang diterima desa
F11: % Realisasi PDRD Desa thdp Total Realisasi PDRD Seluruh Desa | G11: Total Bagi Hasil PDRD yang dibagi Proposional | H11: Total Bagi Hasil PDRD Proposional yang diterima Desa
B12: (1) | C12: (2) | D12: (3) | E12: (4) | F12: (5) | G12: (6) | H12: (7)=(5)X(6) | I12: (19)= (4) + (7)
B13: 1 | C13: =DASAR!B2 -> KULISUSU | D13: =DASAR!D2 -> TRIWACUWACU | E13: =E$97 -> 1705584.6 | F13: =DASAR!F2 -> 0.025880369 | G13: =E$99 -> 88690400 | H13: =F13*G13 -> 2295340.3 | I13: =ROUND(E13+H13,-3) -> 4001000
B14: 2 | C14: =DASAR!B3 -> KULISUSU | D14: =DASAR!D3 -> WACULAEA | E14: =E$97 -> 1705584.6 | F14: =DASAR!F3 -> 0.00591358 | G14: =E$99 -> 88690400 | H14: =F14*G14 -> 524477.78 | I14: =ROUND(E14+H14,-3) -> 2230000
B15: 3 | C15: =DASAR!B4 -> KULISUSU | D15: =DASAR!D4 -> E'ELAHAJI | E15: =E$97 -> 1705584.6 | F15: =DASAR!F4 -> 0.036709844 | G15: =E$99 -> 88690400 | H15: =F15*G15 -> 3255810.7 | I15: =ROUND(E15+H15,-3) -> 4961000
B16: 4 | C16: =DASAR!B5 -> KULISUSU | D16: =DASAR!D5 -> TOMOAHI | E16: =E$97 -> 1705584.6 | F16: =DASAR!F5 -> 0.029421308 | G16: =E$99 -> 88690400 | H16: =F16*G16 -> 2609387.6 | I16: =ROUND(E16+H16,-3) -> 4315000
B17: 5 | C17: =DASAR!B6 -> KULISUSU | D17: =DASAR!D6 -> KALIBU | E17: =E$97 -> 1705584.6 | F17: =DASAR!F6 -> 0.016129369 | G17: =E$99 -> 88690400 | H17: =F17*G17 -> 1430520.2 | I17: =ROUND(E17+H17,-3) -> 3136000
B18: 6 | C18: =DASAR!B7 -> KULISUSU | D18: =DASAR!D7 -> JAMPAKA | E18: =E$97 -> 1705584.6 | F18: =DASAR!F7 -> 0.02683288 | G18: =E$99 -> 88690400 | H18: =F18*G18 -> 2379818.9 | I18: =ROUND(E18+H18,-3) -> 4085000
B19: 7 | C19: =DASAR!B8 -> KULISUSU | D19: =DASAR!D8 -> LOJI | E19: =E$97 -> 1705584.6 | F19: =DASAR!F8 -> 0.016340661 | G19: =E$99 -> 88690400 | H19: =F19*G19 -> 1449259.7 | I19: =ROUND(E19+H19,-3) -> 3155000
B20: 8 | C20: =DASAR!B9 -> KULISUSU | D20: =DASAR!D9 -> LINSOWU | E20: =E$97 -> 1705584.6 | F20: =DASAR!F9 -> 0.018371268 | G20: =E$99 -> 88690400 | H20: =F20*G20 -> 1629355.1 | I20: =ROUND(E20+H20,-3) -> 3335000
B21: 9 | C21: =DASAR!B10 -> KULISUSU | D21: =DASAR!D10 -> ROMBO | E21: =E$97 -> 1705584.6 | F21: =DASAR!F10 -> 1.3891276e-05 | G21: =E$99 -> 88690400 | H21: =F21*G21 -> 1232.0228 | I21: =ROUND(E21+H21,-3) -> 1707000
B22: 10 | C22: =DASAR!B11 -> KULISUSU | D22: =DASAR!D11 -> WASALABOSE | E22: =E$97 -> 1705584.6 | F22: =DASAR!F11 -> 0.017434854 | G22: =E$99 -> 88690400 | H22: =F22*G22 -> 1546304.2 | I22: =ROUND(E22+H22,-3) -> 3252000
B23: 11 | C23: =DASAR!B12 -> KULISUSU | D23: =DASAR!D12 -> MALALANDA | E23: =E$97 -> 1705584.6 | F23: =DASAR!F12 -> 0.0038620303 | G23: =E$99 -> 88690400 | H23: =F23*G23 -> 342525.01 | I23: =ROUND(E23+H23,-3) -> 2048000
B24: 12 | C24: =DASAR!B13 -> KULISUSU | D24: =DASAR!D13 -> LEMO'EA | E24: =E$97 -> 1705584.6 | F24: =DASAR!F13 -> 0.011151155 | G24: =E$99 -> 88690400 | H24: =F24*G24 -> 989000.4 | I24: =ROUND(E24+H24,-3) -> 2695000
... B57: 45 | C57: =DASAR!B46 -> KULISUSU BARAT | D57: =DASAR!D46 -> RAHMAT BARU | E57: =E$97 -> 1705584.6 | F57: =DASAR!F46 -> 0.0065539234 | G57: =E$99 -> 88690400 | H57: =F57*G57 -> 581270.09 | I57: =ROUND(E57+H57,-3) -> 2287000
B58: 46 | C58: =DASAR!B47 -> KULISUSU BARAT | D58: =DASAR!D47 -> SOLOY AGUNG | E58: =E$97 -> 1705584.6 | F58: =DASAR!F47 -> 0 | G58: =E$99 -> 88690400 | H58: =F58*G58 -> 0 | I58: =ROUND(E58+H58,-3)-2000 -> 1704000
B59: 47 | C59: =DASAR!B48 -> KULISUSU BARAT | D59: =DASAR!D48 -> BUMI LAPERO | E59: =E$97 -> 1705584.6 | F59: =DASAR!F48 -> 0.014687246 | G59: =E$99 -> 88690400 | H59: =F59*G59 -> 1302617.7 | I59: =ROUND(E59+H59,-3) -> 3008000
B60: 48 | C60: =DASAR!B49 -> KULISUSU BARAT | D60: =DASAR!D49 -> KARYA MULYA | E60: =E$97 -> 1705584.6 | F60: =DASAR!F49 -> 0 | G60: =E$99 -> 88690400 | H60: =F60*G60 -> 0 | I60: =ROUND(E60+H60,-3) -> 1706000
B61: 49 | C61: =DASAR!B50 -> KULISUSU BARAT | D61: =DASAR!D50 -> LAMBALE | E61: =E$97 -> 1705584.6 | F61: =DASAR!F50 -> 0.004281569 | G61: =E$99 -> 88690400 | H61: =F61*G61 -> 379734.07 | I61: =ROUND(E61+H61,-3) -> 2085000
B62: 50 | C62: =DASAR!B51 -> KULISUSU BARAT | D62: =DASAR!D51 -> LAPANDEWA | E62: =E$97 -> 1705584.6 | F62: =DASAR!F51 -> 0.0198834 | G62: =E$99 -> 88690400 | H62: =F62*G62 -> 1763466.7 | I62: =ROUND(E62+H62,-3) -> 3469000
B63: 51 | C63: =DASAR!B52 -> KULISUSU BARAT | D63: =DASAR!D52 -> LAUKI | E63: =E$97 -> 1705584.6 | F63: =DASAR!F52 -> 0.0056068023 | G63: =E$99 -> 88690400 | H63: =F63*G63 -> 497269.54 | I63: =ROUND(E63+H63,-3) -> 2203000
B64: 52 | C64: =DASAR!B53 -> KULISUSU BARAT | D64: =DASAR!D53 -> MEKAR JAYA | E64: =E$97 -> 1705584.6 | F64: =DASAR!F53 -> 0.026994116 | G64: =E$99 -> 88690400 | H64: =F64*G64 -> 2394119 | I64: =ROUND(E64+H64,-3) -> 4100000
B65: 53 | C65: =DASAR!B54 -> KULISUSU BARAT | D65: =DASAR!D54 -> LABULANDA | E65: =E$97 -> 1705584.6 | F65: =DASAR!F54 -> 0.00027897849 | G65: =E$99 -> 88690400 | H65: =F65*G65 -> 24742.714 | I65: =ROUND(E65+H65,-3) -> 1730000
B66: 54 | C66: =DASAR!B55 -> KULISUSU UTARA | D66: =DASAR!D55 -> KOROLABU | E66: =E$97 -> 1705584.6 | F66: =DASAR!F55 -> 0.0081927328 | G66: =E$99 -> 88690400 | H66: =F66*G66 -> 726616.75 | I66: =ROUND(E66+H66,-3) -> 2432000
B67: 55 | C67: =DASAR!B56 -> KULISUSU UTARA | D67: =DASAR!D56 -> TOROMBIA | E67: =E$97 -> 1705584.6 | F67: =DASAR!F56 -> 0.0075585293 | G67: =E$99 -> 88690400 | H67: =F67*G67 -> 670368.99 | I67: =ROUND(E67+H67,-3) -> 2376000
B68: 56 | C68: =DASAR!B57 -> KULISUSU UTARA | D68: =DASAR!D57 -> LAMOAHI | E68: =E$97 -> 1705584.6 | F68: =DASAR!F57 -> 0.0066185345 | G68: =E$99 -> 88690400 | H68: =F68*G68 -> 587000.47 | I68: =ROUND(E68+H68,-3) -> 2293000
B69: 57 | C69: =DASAR!B58 -> KULISUSU UTARA | D69: =DASAR!D58 -> LANOSANGIA | E69: =E$97 -> 1705584.6 | F69: =DASAR!F58 -> 0.015005667 | G69: =E$99 -> 88690400 | H69: =F69*G69 -> 1330858.6 | I69: =ROUND(E69+H69,-3) -> 3036000
B70: 58 | C70: =DASAR!B59 -> KULISUSU UTARA | D70: =DASAR!D59 -> PEBAOA | E70: =E$97 -> 1705584.6 | F70: =DASAR!F59 -> 0.012935045 | G70: =E$99 -> 88690400 | H70: =F70*G70 -> 1147214.3 | I70: =ROUND(E70+H70,-3) -> 2853000
... B90: 78 | C90: =DASAR!B79 -> WAKORUMBA UTARA | D90: =DASAR!D79 -> LABA JAYA | E90: =E$97 -> 1705584.6 | F90: =DASAR!F79 -> 0.022731367 | G90: =E$99 -> 88690400 | H90: =F90*G90 -> 2016054 | I90: =ROUND(E90+H90,-3) -> 3722000
B92: Total | E92: =SUM(E13:E90) -> 1.330356e+08 | F92: =DASAR!F81 -> 1 | G92: =SUM(G13:G90) -> 6917851200 | H92: =SUM(H13:H90) -> 88690400 | I92: =SUM(I13:I90) -> 221726000
C94: Kontrol Penghitungan | G94: Bobot
C95: Pagu Dana Desa Kabupaten | E95: 221726000 | G95: JP | H95: 0.25
C96: Hasil Perhitungan Pagu Dana Desa Kabupaten | E96: =I92 -> 221726000 | G96: AK | H96: 0.35
C97: Pagu Alokasi Dasar | E97: =(E95*60%)/78 -> 1705584.6 | G97: LW | H97: 0.1
C98: Hasil Hitung Alokasi Dasar | E98: =E90 -> 1705584.6 | G98: IKG | H98: 0.3
C99: Pagu Alokasi Formula | E99: =E95*40% -> 88690400
C100: Hasil Hitung Alokasi Formula | E100: =H92 -> 88690400
C101: Jumlah Desa | E101: 78
E104: =E95-I92 -> 0

Sheet KK_Simulasi (2)
B1: Kertas Kerja (Worksheet) Penghitungan Dana Desa Setiap Desa
B3: KABUPATEN/KOTA
B4: TAHUN ANGGARAN 2017
B6: No. | C6: Kecamatan | D6: Nama Desa | E6: Alokasi Dasar | F6: Alokasi Formula | T6: Pagu Dana Desa per-Desa
F7: Jumlah Penduduk | I7: Jumlah Penduduk Miskin | L7: Luas Wilayah | O7: IKG | R7: Total Bobot | S7: Alokasi Formula
F8: Jumlah Penduduk | G8: Rasio Jumlah Penduduk | H8: Bobot | I8: Jumlah Penduduk Miskin | J8: Rasio Jumlah Penduduk Miskin | K8: Bobot | L8: Luas Wilayah | M8: Rasio Luas Wilayah | N8: Bobot | O8: Indeks Kesulitan Geografis | P8: Rasio Indeks Kesulitan Geografis | Q8: Bobot
B9: (1) | C9: (2) | D9: (3) | E9: (4) | F9: (5) | G9: (6) | H9: (7) | I9: (8) | J9: (9) | K9: (10) | L9: (11) | M9: (12) | N9: (13) | O9: (14) | P9: (15) | Q9: (16) | R9: (17) = (7) + (10) + (13) + (16) | S9: (18) | T9: (19)= (4) + (18)
B10: 1 | C10: =DASAR!B2 -> KULISUSU | D10: =DASAR!D2 -> TRIWACUWACU
B11: 2 | C11: =DASAR!B3 -> KULISUSU | D11: =DASAR!D3 -> WACULAEA
B12: 3 | C12: =DASAR!B4 -> KULISUSU | D12: =DASAR!D4 -> E'ELAHAJI
B13: 4 | C13: =DASAR!B5 -> KULISUSU | D13: =DASAR!D5 -> TOMOAHI
B14: 5 | C14: =DASAR!B6 -> KULISUSU | D14: =DASAR!D6 -> KALIBU
B15: 6 | C15: =DASAR!B7 -> KULISUSU | D15: =DASAR!D7 -> JAMPAKA
B16: 7 | C16: =DASAR!B8 -> KULISUSU | D16: =DASAR!D8 -> LOJI
B17: 8 | C17: =DASAR!B9 -> KULISUSU | D17: =DASAR!D9 -> LINSOWU
B18: 9 | C18: =DASAR!B10 -> KULISUSU | D18: =DASAR!D10 -> ROMBO
B19: 10 | C19: =DASAR!B11 -> KULISUSU | D19: =DASAR!D11 -> WASALABOSE
B20: 11 | C20: =DASAR!B12 -> KULISUSU | D20: =DASAR!D12 -> MALALANDA
B21: 12 | C21: =DASAR!B13 -> KULISUSU | D21: =DASAR!D13 -> LEMO'EA
... B87: 78 | C87: =DASAR!B79 -> WAKORUMBA UTARA | D87: =DASAR!D79 -> LABA JAYA
B89: Total | E89: =SUM(E10:E87) -> 0 | F89: =SUM(F10:F87) -> 0
C91: Kontrol Penghitungan | G91: Bobot
C92: Pagu Dana Desa Kabupaten X | G92: JP | H92: 0.25
C93: Hasil Perhitungan Pagu Dana Desa Kabupaten X | G93: AK | H93: 0.35
C94: Pagu Alokasi Dasar | G94: LW | H94: 0.1
C95: Hasil Hitung Alokasi Dasar | G95: IKG | H95: 0.3
C96: Pagu Alokasi Formula
C97: Hasil Hitung Alokasi Formula
C98: Jumlah Desa
H99: Mengetahui, | Q99: Tempat Kedudukan, DD/MM/YYYY
G101: Pejabat SKPKD (n) | K101: Pejabat di Bidang Pemberdayaan Masyarakat Desa (0) | Q101: Petugas Penghitung Dana Desa (p)
G102: (eselon II) | K102: (eselon II) | Q102: (eselon III)
G106: Nama Jelas | K106: Nama Jelas | Q106: Nama Jelas
G107: NIP | K107: NIP | Q107: NIP

Sheet R
C2: LAMPIRAN | D2: : PERATURAN BUPATI BUTON UTARA
D3: NOMOR | E3: :
D4: TANGGAL | E4: :
D5: TENTANG | E5: : TATA CARA PEMBAGIAN DAN PENETAPAN RINCIAN DANA DESA SETIAP DESA KABUPATEN BUTON UTARA TAHUN ANGGARAN 2017.
B9: No. | C9: Kecamatan | D9: Nama Desa | E9: Bagi Hasil Pajak dan Retribusi Daerah (Merata) | F9: Bagi Hasil Pajak Dan Retribusi Daerah (Proposional) | I9: Total Bagi Hasil Pajak dan Retribusi Daerah yang diterima desa
F11: % Realisasi PDRD Desa thdp Total Realisasi PDRD Seluruh Desa | G11: Total Bagi Hasil PDRD yang dibagi Proposional | H11: Total Bagi Hasil PDRD Proposional yang diterima Desa
B12: (1) | C12: (2) | D12: (3) | E12: (4) | F12: (5) | G12: (6) | H12: (7)=(5)X(6) | I12: (19)= (4) + (7)
B13: 1 | C13: =DASAR!B2 -> KULISUSU | D13: =DASAR!D2 -> TRIWACUWACU | E13: =E$97 -> 1925329.2 | F13: =DASAR!F2 -> 0.025880369 | G13: =E$99 -> 100117120 | H13: =F13*G13 -> 2591068 | I13: =ROUND(E13+H13,-3) -> 4516000
B14: 2 | C14: =DASAR!B3 -> KULISUSU | D14: =DASAR!D3 -> WACULAEA | E14: =E$97 -> 1925329.2 | F14: =DASAR!F3 -> 0.00591358 | G14: =E$99 -> 100117120 | H14: =F14*G14 -> 592050.6 | I14: =ROUND(E14+H14,-3) -> 2517000
B15: 3 | C15: =DASAR!B4 -> KULISUSU | D15: =DASAR!D4 -> E'ELAHAJI | E15: =E$97 -> 1925329.2 | F15: =DASAR!F4 -> 0.036709844 | G15: =E$99 -> 100117120 | H15: =F15*G15 -> 3675283.9 | I15: =ROUND(E15+H15,-3) -> 5601000
B16: 4 | C16: =DASAR!B5 -> KULISUSU | D16: =DASAR!D5 -> TOMOAHI | E16: =E$97 -> 1925329.2 | F16: =DASAR!F5 -> 0.029421308 | G16: =E$99 -> 100117120 | H16: =F16*G16 -> 2945576.6 | I16: =ROUND(E16+H16,-3) -> 4871000
B17: 5 | C17: =DASAR!B6 -> KULISUSU | D17: =DASAR!D6 -> KALIBU | E17: =E$97 -> 1925329.2 | F17: =DASAR!F6 -> 0.016129369 | G17: =E$99 -> 100117120 | H17: =F17*G17 -> 1614825.9 | I17: =ROUND(E17+H17,-3) -> 3540000
B18: 6 | C18: =DASAR!B7 -> KULISUSU | D18: =DASAR!D7 -> JAMPAKA | E18: =E$97 -> 1925329.2 | F18: =DASAR!F7 -> 0.02683288 | G18: =E$99 -> 100117120 | H18: =F18*G18 -> 2686430.7 | I18: =ROUND(E18+H18,-3) -> 4612000
B19: 7 | C19: =DASAR!B8 -> KULISUSU | D19: =DASAR!D8 -> LOJI | E19: =E$97 -> 1925329.2 | F19: =DASAR!F8 -> 0.016340661 | G19: =E$99 -> 100117120 | H19: =F19*G19 -> 1635979.9 | I19: =ROUND(E19+H19,-3) -> 3561000
B20: 8 | C20: =DASAR!B9 -> KULISUSU | D20: =DASAR!D9 -> LINSOWU | E20: =E$97 -> 1925329.2 | F20: =DASAR!F9 -> 0.018371268 | G20: =E$99 -> 100117120 | H20: =F20*G20 -> 1839278.4 | I20: =ROUND(E20+H20,-3) -> 3765000
B21: 9 | C21: =DASAR!B10 -> KULISUSU | D21: =DASAR!D10 -> ROMBO | E21: =E$97 -> 1925329.2 | F21: =DASAR!F10 -> 1.3891276e-05 | G21: =E$99 -> 100117120 | H21: =F21*G21 -> 1390.7545 | I21: =ROUND(E21+H21,-3) -> 1927000
B22: 10 | C22: =DASAR!B11 -> KULISUSU | D22: =DASAR!D11 -> WASALABOSE | E22: =E$97 -> 1925329.2 | F22: =DASAR!F11 -> 0.017434854 | G22: =E$99 -> 100117120 | H22: =F22*G22 -> 1745527.4 | I22: =ROUND(E22+H22,-3) -> 3671000
B23: 11 | C23: =DASAR!B12 -> KULISUSU | D23: =DASAR!D12 -> MALALANDA | E23: =E$97 -> 1925329.2 | F23: =DASAR!F12 -> 0.0038620303 | G23: =E$99 -> 100117120 | H23: =F23*G23 -> 386655.35 | I23: =ROUND(E23+H23,-3) -> 2312000
B24: 12 | C24: =DASAR!B13 -> KULISUSU | D24: =DASAR!D13 -> LEMO'EA | E24: =E$97 -> 1925329.2 | F24: =DASAR!F13 -> 0.011151155 | G24: =E$99 -> 100117120 | H24: =F24*G24 -> 1116421.5 | I24: =ROUND(E24+H24,-3) -> 3042000
... B82: 70 | C82: =DASAR!B71 -> WAKORUMBA UTARA | D82: =DASAR!D71 -> MATALAGI | E82: =E$97 -> 1925329.2 | F82: =DASAR!F71 -> 0.031025117 | G82: =E$99 -> 100117120 | H82: =F82*G82 -> 3106145.4 | I82: =ROUND(E82+H82,-3) -> 5031000
B83: 71 | C83: =DASAR!B72 -> WAKORUMBA UTARA | D83: =DASAR!D72 -> WANTULASI | E83: =E$97 -> 1925329.2 | F83: =DASAR!F72 -> 0.036261184 | G83: =E$99 -> 100117120 | H83: =F83*G83 -> 3630365.3 | I83: =ROUND(E83+H83,-3)-200 -> 5555800
B84: 72 | C84: =DASAR!B73 -> WAKORUMBA UTARA | D84: =DASAR!D73 -> LABUAN BAJO | E84: =E$97 -> 1925329.2 | F84: =DASAR!F73 -> 0.01380922 | G84: =E$99 -> 100117120 | H84: =F84*G84 -> 1382539.3 | I84: =ROUND(E84+H84,-3) -> 3308000
B85: 73 | C85: =DASAR!B74 -> WAKORUMBA UTARA | D85: =DASAR!D74 -> LABARAGA | E85: =E$97 -> 1925329.2 | F85: =DASAR!F74 -> 0.0096062618 | G85: =E$99 -> 100117120 | H85: =F85*G85 -> 961751.26 | I85: =ROUND(E85+H85,-3) -> 2887000
B86: 74 | C86: =DASAR!B75 -> WAKORUMBA UTARA | D86: =DASAR!D75 -> WAMORAPA | E86: =E$97 -> 1925329.2 | F86: =DASAR!F75 -> 0.0066063657 | G86: =E$99 -> 100117120 | H86: =F86*G86 -> 661410.31 | I86: =ROUND(E86+H86,-3) -> 2587000
B87: 75 | C87: =DASAR!B76 -> WAKORUMBA UTARA | D87: =DASAR!D76 -> SUMAMPENO | E87: =E$97 -> 1925329.2 | F87: =DASAR!F76 -> 0.0081748158 | G87: =E$99 -> 100117120 | H87: =F87*G87 -> 818439.01 | I87: =ROUND(E87+H87,-3) -> 2744000
B88: 76 | C88: =DASAR!B77 -> WAKORUMBA UTARA | D88: =DASAR!D77 -> OENGKAPALA | E88: =E$97 -> 1925329.2 | F88: =DASAR!F77 -> 0.011757529 | G88: =E$99 -> 100117120 | H88: =F88*G88 -> 1177129.9 | I88: =ROUND(E88+H88,-3) -> 3102000
B89: 77 | C89: =DASAR!B78 -> WAKORUMBA UTARA | D89: =DASAR!D78 -> LABUKO | E89: =E$97 -> 1925329.2 | F89: =DASAR!F78 -> 0.0077242356 | G89: =E$99 -> 100117120 | H89: =F89*G89 -> 773328.22 | I89: =ROUND(E89+H89,-3) -> 2699000
B90: 78 | C90: =DASAR!B79 -> WAKORUMBA UTARA | D90: =DASAR!D79 -> LABA JAYA | E90: =E$97 -> 1925329.2 | F90: =DASAR!F79 -> 0.022731367 | G90: =E$99 -> 100117120 | H90: =F90*G90 -> 2275799 | I90: =ROUND(E90+H90,-3) -> 4201000
B92: Total | E92: =SUM(E13:E90) -> 1.5017568e+08 | F92: =DASAR!F81 -> 1 | G92: =SUM(G13:G90) -> 7809135360 | H92: =SUM(H13:H90) -> 1.0011712e+08 | I92: =SUM(I13:I90) -> 250292800
C94: Kontrol Penghitungan | G94: Bobot
C95: Pagu Dana Desa Kabupaten | E95: 250292800 | G95: JP | H95: 0.25
C96: Hasil Perhitungan Pagu Dana Desa Kabupaten | E96: =I92 -> 250292800 | G96: AK | H96: 0.35
C97: Pagu Alokasi Dasar | E97: =(E95*60%)/78 -> 1925329.2 | G97: LW | H97: 0.1
C98: Hasil Hitung Alokasi Dasar | E98: =E90 -> 1925329.2 | G98: IKG | H98: 0.3
C99: Pagu Alokasi Formula | E99: =E95*40% -> 100117120
C100: Hasil Hitung Alokasi Formula | E100: =H92 -> 1.0011712e+08
C101: Jumlah Desa | E101: 78
E104: =E95-I92 -> 0

Sheet DASAR
A1: kdkec | B1: urkec | C1: kddesa | D1: urdesa | E1: REAL PAJAK | H1: jp | I1: jpm | J1: lw | K1: ikg | Q1: REAL PAJAK
A2: 12 | B2: KULISUSU | C2: 1 | D2: TRIWACUWACU | E2: 9315332 | F2: =E2/E$81 -> 0.025880369 | H2: 498 | I2: 143 | J2: 54.57885 | K2: 36.029773 | Q2: 9315332
A3: 12 | B3: KULISUSU | C3: 2 | D3: WACULAEA | E3: 2128523 | F3: =E3/E$81 -> 0.00591358 | H3: 500 | I3: 53 | J3: 55.655691 | K3: 35.528974 | Q3: 9393993
A4: 12 | B4: KULISUSU | C4: 3 | D4: E'ELAHAJI | E4: 13213273 | F4: =E4/E$81 -> 0.036709844 | H4: 878 | I4: 61 | J4: 34.572273 | K4: 28.353249 | Q4: 13177730
A5: 12 | B5: KULISUSU | C5: 4 | D5: TOMOAHI | E5: 10589851 | F5: =E5/E$81 -> 0.029421308 | H5: 971 | I5: 31 | J5: 43.266349 | K5: 30.785327 | Q5: 10589851
A6: 12 | B6: KULISUSU | C6: 5 | D6: KALIBU | E6: 5805575 | F6: =E6/E$81 -> 0.016129369 | H6: 925 | I6: 65 | J6: 32.588618 | K6: 20.263974 | Q6: 5621725
A7: 12 | B7: KULISUSU | C7: 6 | D7: JAMPAKA | E7: 9658177 | F7: =E7/E$81 -> 0.02683288 | H7: 591 | I7: 150 | J7: 48.027121 | K7: 34.641109 | Q7: 9658177
A8: 12 | B8: KULISUSU | C8: 7 | D8: LOJI | E8: 5881627 | F8: =E8/E$81 -> 0.016340661 | H8: 1176 | I8: 98 | J8: 1.6165917 | K8: 35.679887 | Q8: 5881627
A9: 12 | B9: KULISUSU | C9: 11 | D9: LINSOWU | E9: 6612520 | F9: =E9/E$81 -> 0.018371268 | H9: 996 | I9: 123 | J9: 7.6512407 | K9: 22.626918 | Q9: 6612520
A10: 12 | B10: KULISUSU | C10: 13 | D10: ROMBO | E10: 5000 | F10: =E10/E$81 -> 1.3891276e-05 | H10: 1039 | I10: 155 | J10: 0.95215439 | K10: 41.017188 | Q10: 7561603
A11: 12 | B11: KULISUSU | C11: 18 | D11: WASALABOSE | E11: 6275469 | F11: =E11/E$81 -> 0.017434854 | H11: 772 | I11: 88 | J11: 4.272245 | K11: 43.603939 | Q11: 6275469
A12: 12 | B12: KULISUSU | C12: 19 | D12: MALALANDA | E12: 1390092 | F12: =E12/E$81 -> 0.0038620303 | H12: 624 | I12: 111 | J12: 4.8976766 | K12: 35.293403 | Q12: 1367187
A13: 12 | B13: KULISUSU | C13: 20 | D13: LEMO'EA | E13: 4013726 | F13: =E13/E$81 -> 0.011151155 | H13: 714 | I13: 113 | J13: 1.5858445 | K13: 38.474841 | Q13: 4013726
... A33: 32 | B33: BONEGUNU | C33: 7 | D33: WAODE KALOWO | E33: 2260098 | F33: =E33/E$81 -> 0.0062791289 | H33: 481 | I33: 59 | J33: 124.45443 | K33: 63.245888 | Q33: 2260098
A34: 32 | B34: BONEGUNU | C34: 8 | D34: LAANO IPI | E34: =Sheet2!H69 -> 2773394 | F34: =E34/E$81 -> 0.0077051962 | H34: 367 | I34: 86 | J34: 10.86698 | K34: 36.277216 | Q34: 2773394
A35: 32 | B35: BONEGUNU | C35: 9 | D35: EENSUMALA | E35: =Sheet2!H71 -> 3538697 | F35: =E35/E$81 -> 0.0098314032 | H35: 359 | I35: 48 | J35: 6.8011028 | K35: 49.087403 | Q35: 3538697
A36: 32 | B36: BONEGUNU | C36: 13 | D36: TATOMBULI | E36: =Sheet2!H73 -> 2723891 | F36: =E36/E$81 -> 0.0075676642 | H36: 258 | I36: 105 | J36: 24.83881 | K36: 37.418693 | Q36: 2723891
A37: 32 | B37: BONEGUNU | C37: 14 | D37: RANTE GOLA | E37: 1464336 | F37: =E37/E$81 -> 0.0040682991 | H37: 510 | I37: 43 | J37: 49.793788 | K37: 37.520794 | Q37: 1464336
A38: 32 | B38: BONEGUNU | C38: 15 | D38: NGAPA'EA | E38: =Sheet2!H75 -> 3006469 | F38: =E38/E$81 -> 0.008352738 | H38: 450 | I38: 62 | J38: 120.99737 | K38: 38.893645 | Q38: 3006469
A39: 32 | B39: BONEGUNU | C39: 16 | D39: KOBORUNO | E39: =Sheet2!H72 -> 1668985 | F39: =E39/E$81 -> 0.0046368662 | H39: 202 | I39: 30 | J39: 6.8011028 | K39: 48.447433 | Q39: 1668985
A40: 32 | B40: BONEGUNU | C40: 17 | D40: DAMAI LABORONA | E40: 0 | F40: =E40/E$81 -> 0 | H40: 1104 | I40: 173 | J40: 19.271476 | K40: 58.609953 | Q40: 3540347
A41: 42 | B41: KULISUSU BARAT | C41: 1 | D41: KOTAWO | E41: 3462369 | F41: =E41/E$81 -> 0.0096193446 | H41: 563 | I41: 55 | J41: 66.039156 | K41: 33.717014 | Q41: 3462369
A42: 42 | B42: KULISUSU BARAT | C42: 2 | D42: KARYA BHAKTI | E42: 4747750 | F42: =E42/E$81 -> 0.013190461 | H42: 562 | I42: 30 | J42: 8.7655765 | K42: 52.522714 | Q42: 8524199
A43: 42 | B43: KULISUSU BARAT | C43: 3 | D43: MARGAKARYA | E43: 14826325 | F43: =E43/E$81 -> 0.041191314 | H43: 464 | I43: 32 | J43: 13.298423 | K43: 29.274697 | Q43: 14826325
A44: 42 | B44: KULISUSU BARAT | C44: 4 | D44: KASULATOMBI | E44: 3594437 | F44: =E44/E$81 -> 0.0099862632 | H44: 711 | I44: 148 | J44: 1.8078881 | K44: 35.096537 | Q44: 3594437
A45: 42 | B45: KULISUSU BARAT | C45: 5 | D45: DAMPALA JAYA | E45: 4268553 | F45: =E45/E$81 -> 0.011859129 | H45: 585 | I45: 53 | J45: 35.724846 | K45: 37.893849 | Q45: 10568723
A46: 42 | B46: KULISUSU BARAT | C46: 6 | D46: RAHMAT BARU | E46: 2359007 | F46: =E46/E$81 -> 0.0065539234 | H46: 307 | I46: 74 | J46: 5.6675857 | K46: 36.938044 | Q46: 5465015
A47: 42 | B47: KULISUSU BARAT | C47: 7 | D47: SOLOY AGUNG | E47: 0 | F47: =E47/E$81 -> 0 | H47: 586 | I47: 156 | J47: 10.405687 | K47: 26.768903 | Q47: 16845751
A48: 42 | B48: KULISUSU BARAT | C48: 8 | D48: BUMI LAPERO | E48: 5286500 | F48: =E48/E$81 -> 0.014687246 | H48: 245 | I48: 5 | J48: 50.498188 | K48: 44.206094 | Q48: 8625625
A49: 42 | B49: KULISUSU BARAT | C49: 9 | D49: KARYA MULYA | E49: 0 | F49: =E49/E$81 -> 0 | H49: 357 | I49: 81 | J49: 19.923742 | K49: 33.360117 | Q49: 7826841
A50: 42 | B50: KULISUSU BARAT | C50: 10 | D50: LAMBALE | E50: 1541100 | F50: =E50/E$81 -> 0.004281569 | H50: 768 | I50: 139 | J50: 65.789031 | K50: 46.320842 | Q50: 1541100
A51: 42 | B51: KULISUSU BARAT | C51: 11 | D51: LAPANDEWA | E51: 7156794 | F51: =E51/E$81 -> 0.0198834 | H51: 601 | I51: 158 | J51: 36.157762 | K51: 55.614603 | Q51: 9341336
... A59: 52 | B59: KULISUSU UTARA | C59: 5 | D59: PEBAOA | E59: 4655816 | F59: =E59/E$81 -> 0.012935045 | H59: 778 | I59: 176 | J59: 78.552738 | K59: 31.72021 | Q59: 4655816
A60: 52 | B60: KULISUSU UTARA | C60: 6 | D60: PETETEA'A | E60: =Sheet2!H47 -> 10289155 | F60: =E60/E$81 -> 0.028585898 | H60: 153 | I60: 14 | J60: 65.596637 | K60: 46.761022 | Q60: 10289155
A61: 52 | B61: KULISUSU UTARA | C61: 7 | D61: LELAMO | E61: 3804828 | F61: =E61/E$81 -> 0.010570783 | H61: 1160 | I61: 45 | J61: 3.0255982 | K61: 29.098913 | Q61: 3804828
A62: 52 | B62: KULISUSU UTARA | C62: 8 | D62: WAODEBURI | E62: 8531299 | F62: =E62/E$81 -> 0.023702126 | H62: 1743 | I62: 111 | J62: 4.1863753 | K62: 39.302981 | Q62: 8531299
A63: 52 | B63: KULISUSU UTARA | C63: 9 | D63: ULU NAMBO | E63: 4912670 | F63: =E63/E$81 -> 0.013648651 | H63: 970 | I63: 55 | J63: 2.7392205 | K63: 30.218365 | Q63: 4912670
A64: 52 | B64: KULISUSU UTARA | C64: 10 | D64: BIRA | E64: 2728835 | F64: =E64/E$81 -> 0.0075813999 | H64: 404 | I64: 100 | J64: 2.2192892 | K64: 38.384181 | Q64: 2728835
A65: 52 | B65: KULISUSU UTARA | C65: 11 | D65: E'ERINERE | E65: 1840389 | F65: =E65/E$81 -> 0.0051130702 | H65: 296 | I65: 9 | J65: 6.4536035 | K65: 37.026082 | Q65: 1840389
A66: 52 | B66: KULISUSU UTARA | C66: 12 | D66: LABELETE | E66: 4742756 | F66: =E66/E$81 -> 0.013176586 | H66: 447 | I66: 5 | J66: 4.0248784 | K66: 41.885358 | Q66: 4742756
A67: 52 | B67: KULISUSU UTARA | C67: 13 | D67: WAMBOULE | E67: 4087005 | F67: =E67/E$81 -> 0.011354743 | H67: 500 | I67: 43 | J67: 4.5417067 | K67: 28.333279 | Q67: 4007005
A68: 52 | B68: KULISUSU UTARA | C68: 14 | D68: WOWONGA JAYA | E68: 2321437 | F68: =E68/E$81 -> 0.0064495443 | H68: 426 | I68: 41 | J68: 3.6020656 | K68: 32.980678 | Q68: 2321437
A69: 62 | B69: WAKORUMBA UTARA | C69: 1 | D69: LASIWA | E69: 4407833 | F69: =E69/E$81 -> 0.012246085 | H69: 708 | I69: 129 | J69: 4.0690359 | K69: 38.181287 | Q69: 4407833
A70: 62 | B70: WAKORUMBA UTARA | C70: 2 | D70: LAEA | E70: 6245412 | F70: =E70/E$81 -> 0.017351348 | H70: 900 | I70: 86 | J70: 0.20363882 | K70: 40.553282 | Q70: 6245412
A71: 62 | B71: WAKORUMBA UTARA | C71: 3 | D71: MATALAGI | E71: 11167123 | F71: =E71/E$81 -> 0.031025117 | H71: 500 | I71: 94 | J71: 6.8011028 | K71: 33.389111 | Q71: 11167123
A72: 62 | B72: WAKORUMBA UTARA | C72: 4 | D72: WANTULASI | E72: 13051783 | F72: =E72/E$81 -> 0.036261184 | H72: 1178 | I72: 97 | J72: 2.7884522 | K72: 30.107292 | Q72: 13051783
... A75: 62 | B75: WAKORUMBA UTARA | C75: 9 | D75: WAMORAPA | E75: 2377883 | F75: =E75/E$81 -> 0.0066063657 | H75: 299 | I75: 62 | J75: 3.5193555 | K75: 27.860443 | Q75: 2377883
A76: 62 | B76: WAKORUMBA UTARA | C76: 10 | D76: SUMAMPENO | E76: =Sheet2!H103 -> 2942428 | F76: =E76/E$81 -> 0.0081748158 | H76: 310 | I76: 48 | J76: 16.291105 | K76: 42.383942 | Q76: 2942428
A77: 62 | B77: WAKORUMBA UTARA | C77: 11 | D77: OENGKAPALA | E77: 4231983 | F77: =E77/E$81 -> 0.011757529 | H77: 451 | I77: 26 | J77: 10.408354 | K77: 36.103707 | Q77: 4231983
A78: 62 | B78: WAKORUMBA UTARA | C78: 12 | D78: LABUKO | E78: 2780247 | F78: =E78/E$81 -> 0.0077242356 | H78: 352 | I78: 105 | J78: 7.2661355 | K78: 56.977288 | Q78: 3015429
A79: 62 | B79: WAKORUMBA UTARA | C79: 13 | D79: LABA JAYA | E79: 8181886 | F79: =E79/E$81 -> 0.022731367 | H79: 506 | I79: 158 | J79: 15.166459 | K79: 40.431739 | Q79: 8181886
E81: =SUM(E2:E79) -> 359938141 | F81: =SUM(F2:F79) -> 1 | Q81: 431792329

Sheet DATA
A1: TARGET DAN REALISASI
A2: PAJAK BUMI DAN BANGUNAN PERDESAAN DAN PERKOTAAN
A3: BADAN KEUANGAN DAERAH KABUPATEN BUTON UTARA TAHUN PAJAK 2019
A5: NO | B5: NAMA KEL./DESA | C5: JUMLAH OBYEK PAJAK | D5: TARGET | E5: REALISASI | F5: PERSENTASE | G5: SISA TARGET
F6: (%)
A7: KECAMATAN KULISUSU
A8: 1 | B8: KELURAHAN LIPU | C8: 376 | D8: 9667024 | E8: =8130+5343951+1965035+1191350 -> 8508466 | F8: =E8/D8 -> 0.8801536 | G8: =D8-E8 -> 1158558
A9: 2 | B9: KELURAHAN BANGKUDU | C9: 721 | D9: 22462352 | E9: =70077+8706429+12760+3632661+3279453 -> 15701380 | F9: =E9/D9 -> 0.69900872 | G9: =D9-E9 -> 6760972
A10: 3 | B10: KELURAHAN LEMO | C10: 312 | D10: 4706134 | E10: =3401633+967268+337233+179777+179777 -> 5065688 | F10: =E10/D10 -> 1.0764011 | G10: =D10-E10 -> -359554
A11: 4 | B11: KELURAHAN BONELIPU | C11: 688 | D11: 7295452 | E11: =1513285+773698+409360+387226+144008 -> 3227577 | F11: =E11/D11 -> 0.44240946 | G11: =D11-E11 -> 4067875
A12: 5 | B12: KELURAHAN LAKONEA | C12: 291 | D12: 7288601 | E12: =105780+22568+2252380+3300242 -> 5680970 | F12: =E12/D12 -> 0.77943216 | G12: =D12-E12 -> 1607631
A13: 6 | B13: KELURAHAN SARA'EA | C13: 220 | D13: 6474770 | E13: =8750+2199678+1059189+65650+2365204+34599+135080 -> 5868150 | F13: =E13/D13 -> 0.90631019 | G13: =D13-E13 -> 606620
A14: 7 | B14: KELURAHAN WANDAKA | C14: 405 | D14: 12982218 | E14: =7138837+2022302+671407 -> 9832546 | F14: =E14/D14 -> 0.75738568 | G14: =D14-E14 -> 3149672
A15: 8 | B15: DESA EELAHAJI | C15: 506 | D15: 13177730 | E15: =36002+13177730 -> 13213732 | F15: =E15/D15 -> 1.002732 | G15: =D15-E15 -> -36002
A16: 9 | B16: DESA TOMOAHI | C16: 479 | D16: 10589851 | E16: 10589851 | F16: =E16/D16 -> 1 | G16: =D16-E16 -> 0
A17: 10 | B17: DESA TRIWACU-WACU | C17: 631 | D17: 9315332 | E17: =8055022+1260310 -> 9315332 | F17: =E17/D17 -> 1 | G17: =D17-E17 -> 0
A18: 11 | B18: DESA WACU LAEA | C18: 323 | D18: 9393993 | E18: =2128523 -> 2128523 | F18: =E18/D18 -> 0.22658341 | G18: =D18-E18 -> 7265470
A19: 12 | B19: DESA LINSOWU | C19: 292 | D19: 6612520 | E19: =6612520 -> 6612520 | F19: =E19/D19 -> 1 | G19: =D19-E19 -> 0
A20: 13 | B20: DESA JAMPAKA | C20: 426 | D20: 9658177 | E20: =9658177 -> 9658177 | F20: =E20/D20 -> 1 | G20: =D20-E20 -> 0
A21: 14 | B21: DESA ROMBO | C21: 582 | D21: 7561603 | E21: =5000 -> 5000 | F21: =E21/D21 -> 0.00066123545 | G21: =D21-E21 -> 7556603
A22: 15 | B22: DESA KALIBU | C22: 491 | D22: 5621725 | E22: =183850+5621725 -> 5805575 | F22: =E22/D22 -> 1.0327035 | G22: =D22-E22 -> -183850
A23: 16 | B23: DESA LOJI | C23: 264 | D23: 5881627 | E23: =5881627 -> 5881627 | F23: =E23/D23 -> 1 | G23: =D23-E23 -> 0
A24: 17 | B24: DESA LAANGKE | C24: 207 | D24: 2384541 | E24: =2384541+11065+33650 -> 2429256 | F24: =E24/D24 -> 1.018752 | G24: =D24-E24 -> -44715
A25: 18 | B25: DESA KADACUA | C25: 174 | D25: 4680479 | E25: =2289742+449536+148509+1440181+352511 -> 4680479 | F25: =E25/D25 -> 1 | G25: =D25-E25 -> 0
A26: 19 | B26: DESA WASALABOSE | C26: 269 | D26: 6275469 | E26: =6275469 -> 6275469 | F26: =E26/D26 -> 1 | G26: =D26-E26 -> 0
A27: 20 | B27: DESA BANU-BANUA JAYA | C27: 215 | D27: 1689772 | E27: =1689772 -> 1689772 | F27: =E27/D27 -> 1 | G27: =D27-E27 -> 0
A28: 21 | B28: DESA LEMO EA | C28: 203 | D28: 4013726 | E28: =4013726 -> 4013726 | F28: =E28/D28 -> 1 | G28: =D28-E28 -> 0
A29: 22 | B29: DESA MALALANDA | C29: 167 | D29: 1367187 | E29: =1367187+22905 -> 1390092 | F29: =E29/D29 -> 1.0167534 | G29: =D29-E29 -> -22905
A30: 23 | B30: DESA LANTAGI | C30: 150 | D30: 1202441 | E30: =1202441 -> 1202441 | F30: =E30/D30 -> 1 | G30: =D30-E30 -> 0
B31: JUMLAH | C31: =SUM(C8:C30) -> 8392 | D31: =SUM(D8:D30) -> 170302724 | E31: =SUM(E8:E30) -> 138776349 | F31: =E31/D31 -> 0.81488038 | G31: =D31-E31 -> 31526375
A32: KECAMATAN KULISUSU UTARA
A33: 1 | B33: DESA WAODE BURI | C33: 510 | D33: 8531299 | E33: =8531299 -> 8531299 | F33: =E33/D33 -> 1 | G33: =D33-E33 -> 0
A34: 2 | B34: DESA ULUNAMBO | C34: 354 | D34: 4912670 | E34: =4912670 -> 4912670 | F34: =E34/D34 -> 1 | G34: =D34-E34 -> 0
A35: 3 | B35: DESA LELAMO | C35: 266 | D35: 3804828 | E35: =3804828 -> 3804828 | F35: =E35/D35 -> 1 | G35: =D35-E35 -> 0
A36: 4 | B36: DESA PETETEA | C36: 376 | D36: 10289155 | E36: =10289155 -> 10289155 | F36: =E36/D36 -> 1 | G36: =D36-E36 -> 0
A37: 5 | B37: DESA PEBAOA | C37: 313 | D37: 4655816 | E37: =4655816 -> 4655816 | F37: =E37/D37 -> 1 | G37: =D37-E37 -> 0
A38: 6 | B38: DESA LANOSANGIA | C38: 392 | D38: 5401112 | E38: =5401112 -> 5401112 | F38: =E38/D38 -> 1 | G38: =D38-E38 -> 0
A39: 7 | B39: DESA LAMOAHI | C39: 160 | D39: 2382263 | E39: =2382263 -> 2382263 | F39: =E39/D39 -> 1 | G39: =D39-E39 -> 0
A40: 8 | B40: DESA TOROMBIA | C40: 172 | D40: 2720603 | E40: =2720603 -> 2720603 | F40: =E40/D40 -> 1 | G40: =D40-E40 -> 0
A41: 9 | B41: DESA KUROLABU | C41: 207 | D41: 2948877 | E41: =2948877 -> 2948877 | F41: =E41/D41 -> 1 | G41: =D41-E41 -> 0
A42: 10 | B42: DESA LABELETE | C42: 280 | D42: 4742756 | E42: =4742756 -> 4742756 | F42: =E42/D42 -> 1 | G42: =D42-E42 -> 0
A43: 11 | B43: DESA WAMBOULE | C43: 236 | D43: 4007005 | E43: =4087005 -> 4087005 | F43: =E43/D43 -> 1.019965 | G43: =D43-E43 -> -80000
A44: 12 | B44: DESA EE RINERE | C44: 177 | D44: 1840389 | E44: =1840389 -> 1840389 | F44: =E44/D44 -> 1 | G44: =D44-E44 -> 0
A45: 13 | B45: DESA WOWONGA JAYA | C45: 145 | D45: 2321437 | E45: =2321437 -> 2321437 | F45: =E45/D45 -> 1 | G45: =D45-E45 -> 0
A46: 14 | B46: DESA BIRA | C46: 166 | D46: 2728835 | E46: =2728835 -> 2728835 | F46: =E46/D46 -> 1 | G46: =D46-E46 -> 0
B47: JUMLAH | C47: =SUM(C33:C46) -> 3754 | D47: =SUM(D33:D46) -> 61287045 | E47: =SUM(E33:E46) -> 61367045 | F47: =E47/D47 -> 1.0013053 | G47: =D47-E47 -> -80000
A48: KECAMATAN KULISUSU BARAT
A49: 1 | B49: DESA KOTAWO | C49: 113 | D49: 3462369 | E49: =3462369 -> 3462369 | F49: =E49/D49 -> 1 | G49: =D49-E49 -> 0
A50: 2 | B50: DESA RAHMAT BARU | C50: 388 | D50: 5465015 | E50: =2359007 -> 2359007 | F50: =E50/D50 -> 0.43165609 | G50: =D50-E50 -> 3106008
A51: 3 | B51: DESA DAMPALA JAYA | C51: 627 | D51: 10568723 | E51: =4268553 -> 4268553 | F51: =E51/D51 -> 0.40388541 | G51: =D51-E51 -> 6300170
A52: 4 | B52: DESA MARGA KARYA | C52: 838 | D52: 14826325 | E52: =14826325 -> 14826325 | F52: =E52/D52 -> 1 | G52: =D52-E52 -> 0
A53: 5 | B53: DESA KARYA BAKTI | C53: 504 | D53: 8524199 | E53: =3695750+1052000 -> 4747750 | F53: =E53/D53 -> 0.55697315 | G53: =D53-E53 -> 3776449
A54: 6 | B54: DESA LAPANDEWA | C54: 269 | D54: 9341336 | E54: =6617871+538923 -> 7156794 | F54: =E54/D54 -> 0.76614244 | G54: =D54-E54 -> 2184542
A55: 7 | B55: DESA LABULANDA | C55: 211 | D55: 5061765 | E55: =5000+95415 -> 100415 | F55: =E55/D55 -> 0.019837942 | G55: =D55-E55 -> 4961350
A56: 8 | B56: DESA LAAUKI | C56: 213 | D56: 8379286 | E56: =2018102 -> 2018102 | F56: =E56/D56 -> 0.24084415 | G56: =D56-E56 -> 6361184
A57: 9 | B57: DESA MEKAR JAYA | C57: 501 | D57: 10090001 | E57: =9716212 -> 9716212 | F57: =E57/D57 -> 0.96295451 | G57: =D57-E57 -> 373789
A58: 10 | B58: DESA KARYA MULIA | C58: 371 | D58: 7826841 | F58: =E58/D58 -> 0 | G58: =D58-E58 -> 7826841
A59: 11 | B59: DESA BUMI LAPERO | C59: 326 | D59: 8625625 | E59: =5286500 -> 5286500 | F59: =E59/D59 -> 0.61288312 | G59: =D59-E59 -> 3339125
A60: 12 | B60: DESA LAMBALE | C60: 95 | D60: 1541100 | E60: =1541000 -> 1541000 | F60: =E60/D60 -> 0.99993511 | G60: =D60-E60 -> 100
A61: 13 | B61: DESA SOLOI AGUNG | C61: 1059 | D61: 16845751 | F61: =E61/D61 -> 0 | G61: =D61-E61 -> 16845751
A62: 14 | B62: DESA KASULATOMBI | C62: 159 | D62: 3594437 | E62: =3594437 -> 3594437 | F62: =E62/D62 -> 1 | G62: =D62-E62 -> 0
B63: JUMLAH | C63: =SUM(C49:C62) -> 5674 | D63: =SUM(D49:D62) -> 114152773 | E63: =SUM(E49:E62) -> 59077464 | F63: =E63/D63 -> 0.51752982 | G63: =D63-E63 -> 55075309
A68: KECAMATAN BONEGUNU
A69: 1 | B69: KELURAHAN BURANGA | C69: 223 | D69: 3137258 | E69: =2077913+482180 -> 2560093 | F69: =E69/D69 -> 0.81602884 | G69: =D69-E69 -> 577165
A70: 2 | B70: KELURAHAN BONEGUNU | C70: 674 | D70: 8054375 | E70: =1509859+100760+1009687 -> 2620306 | F70: =E70/D70 -> 0.32532704 | G70: =D70-E70 -> 5434069
A71: 3 | B71: DESA WAODE KALOWO | C71: 205 | D71: 2260098 | E71: =2260098 -> 2260098 | F71: =E71/D71 -> 1 | G71: =D71-E71 -> 0
A72: 4 | B72: DESA KOEPISINO | C72: 294 | D72: 2331698 | E72: =2331698 -> 2331698 | F72: =E72/D72 -> 1 | G72: =D72-E72 -> 0
A73: 5 | B73: DESA LANOIPI | C73: 92 | D73: 2773394 | E73: =2773394 -> 2773394 | F73: =E73/D73 -> 1 | G73: =D73-E73 -> 0
A74: 6 | B74: DESA GUNUNG SARI | C74: 542 | D74: 7933875 | E74: =6000000 -> 6000000 | F74: =E74/D74 -> 0.75625089 | G74: =D74-E74 -> 1933875
A75: 7 | B75: DESA EEN SUMALA | C75: 251 | D75: 3538697 | E75: =3538697 -> 3538697 | F75: =E75/D75 -> 1 | G75: =D75-E75 -> 0
A76: 8 | B76: DESA RONTA | C76: 178 | D76: 3073372 | E76: =2270397 -> 2270397 | F76: =E76/D76 -> 0.7387316 | G76: =D76-E76 -> 802975
A77: 9 | B77: DESA WAODE ANGKALO | C77: 594 | D77: 9166903 | E77: =604554+6405970+996849 -> 8007373 | F77: =E77/D77 -> 0.87350908 | G77: =D77-E77 -> 1159530
A78: 10 | B78: DESA LANGERE | C78: 191 | D78: 1926427 | E78: =813312+1113115 -> 1926427 | F78: =E78/D78 -> 1 | G78: =D78-E78 -> 0
A79: 11 | B79: DESA LABORONA | C79: 300 | D79: 3540347 | F79: =E79/D79 -> 0 | G79: =D79-E79 -> 3540347
A80: 12 | B80: DESA KOBORUNO | C80: 33 | D80: 1668985 | E80: =1668985 -> 1668985 | F80: =E80/D80 -> 1 | G80: =D80-E80 -> 0
A81: 13 | B81: DESA NGAPAEA | C81: 251 | D81: 3006469 | E81: =3006469 -> 3006469 | F81: =E81/D81 -> 1 | G81: =D81-E81 -> 0
A82: 14 | B82: DESA TATOMBULI | C82: 128 | D82: 2723891 | E82: =2723891 -> 2723891 | F82: =E82/D82 -> 1 | G82: =D82-E82 -> 0
A83: 15 | B83: DESA RANTE GOLA | C83: 118 | D83: 1464336 | E83: =1464336 -> 1464336 | F83: =E83/D83 -> 1 | G83: =D83-E83 -> 0
B84: JUMLAH | C84: =SUM(C69:C83) -> 4074 | D84: =SUM(D69:D83) -> 56600125 | E84: =SUM(E69:E83) -> 43152164 | F84: =E84/D84 -> 0.76240404 | G84: =D84-E84 -> 13447961
A85: KECAMATAN KAMBOWA
A86: 1 | B86: KELURAHAN KAMBOWA | C86: 365 | D86: 6450043 | E86: =3029525+94655+747147 -> 3871327 | F86: =E86/D86 -> 0.60020174 | G86: =D86-E86 -> 2578716
A87: 2 | B87: DESA MATA | C87: 398 | D87: 4852397 | E87: =1917020+2935377 -> 4852397 | F87: =E87/D87 -> 1 | G87: =D87-E87 -> 0 | I87: 1200000 | J87: =G87 -> 0 | K87: =I87-J87 -> 1200000
A88: 3 | B88: DESA KONDE | C88: 227 | D88: 2334551 | E88: =2334551 -> 2334551 | F88: =E88/D88 -> 1 | G88: =D88-E88 -> 0
A89: 4 | B89: DESA LAGUNDI | C89: 341 | D89: 8652405 | E89: =8652405 -> 8652405 | F89: =E89/D89 -> 1 | G89: =D89-E89 -> 0
A90: 5 | B90: DESA PONGKOWULU | C90: 411 | D90: 6903854 | E90: =6903854 -> 6903854 | F90: =E90/D90 -> 1 | G90: =D90-E90 -> 0
A91: 6 | B91: DESA MORINDINO | C91: 236 | D91: 7116786 | E91: =7116786 -> 7116786 | F91: =E91/D91 -> 1 | G91: =D91-E91 -> 0
A92: 7 | B92: DESA LAHUMOKO JAYA | C92: 330 | D92: 4061539 | E92: =4061539 -> 4061539 | F92: =E92/D92 -> 1 | G92: =D92-E92 -> 0
A93: 8 | B93: DESA BUBU | C93: 453 | D93: 7542848 | E93: 7542848 | F93: =E93/D93 -> 1 | G93: =D93-E93 -> 0
A94: 9 | B94: DESA BUBU BARAT | C94: 237 | D94: 5939089 | E94: =5770514+168575 -> 5939089 | F94: =E94/D94 -> 1 | G94: =D94-E94 -> 0
A95: 10 | B95: DESA BALUARA | C95: 196 | D95: 3500088 | E95: 3500088 | F95: =E95/D95 -> 1 | G95: =D95-E95 -> 0
A96: 11 | B96: DESA BENTE | C96: 150 | D96: 1912394 | E96: =1912394 -> 1912394 | F96: =E96/D96 -> 1 | G96: =D96-E96 -> 0
B97: JUMLAH | C97: =SUM(C86:C96) -> 3344 | D97: =SUM(D86:D96) -> 59265994 | E97: =SUM(E86:E96) -> 56687278 | F97: =E97/D97 -> 0.95648911 | G97: =D97-E97 -> 2578716
A98: KECAMATAN WAKORUMBA UTARA
A99: 1 | B99: KELURAHAN LABUAN | C99: 352 | D99: 7946374 | E99: =1466308+4026440+726733 -> 6219481 | F99: =E99/D99 -> 0.78268164 | G99: =D99-E99 -> 1726893
A100: 2 | B100: DESA LASIWA | C100: 257 | D100: 4407833 | E100: =4407833 -> 4407833 | F100: =E100/D100 -> 1 | G100: =D100-E100 -> 0
A101: 3 | B101: DESA MATALAGI | C101: 432 | D101: 11167123 | E101: =11167123 -> 11167123 | F101: =E101/D101 -> 1 | G101: =D101-E101 -> 0
A102: 4 | B102: DESA LAEA | C102: 317 | D102: 6245412 | E102: =6245412 -> 6245412 | F102: =E102/D102 -> 1 | G102: =D102-E102 -> 0
A103: 5 | B103: KELURAHAN LABUAN WOLIO | C103: 314 | D103: 5263459 | E103: =911109+3872350+290468 -> 5073927 | F103: =E103/D103 -> 0.96399098 | G103: =D103-E103 -> 189532
A104: 6 | B104: DESA WANTULASI | C104: 719 | D104: 13051783 | E104: 13051783 | F104: =E104/D104 -> 1 | G104: =D104-E104 -> 0
A105: 7 | B105: DESA LABUAN BAJO | C105: 255 | D105: 4970465 | E105: =4970465 -> 4970465 | F105: =E105/D105 -> 1 | G105: =D105-E105 -> 0
...

Sheet Sheet2
E6: 1. KECAMATAN KULISUSU
E7: NO | F7: NAMA DESA | G7: TARGET | H7: REALISASI
E8: 1 | F8: LANTAGI | G8: 1202441 | H8: 1202441
E9: 2 | F9: MALALANDA | G9: 1367187 | H9: 1367187
E10: 3 | F10: LEMO EA | G10: 4021230 | H10: 3876648
E11: 4 | F11: LINSOWU | G11: 6660671 | H11: 6660671
E12: 5 | F12: LOJI | G12: 5902222 | H12: 5902222
E13: 6 | F13: KALIBU | G13: 4981680 | H13: 4904965
E14: 7 | F14: E’ELAHAJI | G14: 11690874 | H14: 11690874
E15: 8 | F15: JAMPAKA | G15: 9667151 | H15: 9667151
E16: 9 | F16: TOMOAHI | G16: 10678980 | H16: 10678980
E17: 10 | F17: ROMBO | G17: 7613126 | H17: 7613126
E18: 11 | F18: WACU LAEA | G18: 9393993 | H18: 9393993
E19: 12 | F19: TRI WACU-WACU | G19: 7757332 | H19: 7757332
... E23: 16 | F23: WASALABOSE | G23: 5365343 | H23: 5365343
E25: 2. KECAMATAN KULISUSU BARAT
E26: NO | F26: NAMA DESA | G26: TARGET | H26: REALISASI
E27: 1 | F27: KOTAWO | G27: 3473721 | H27: 3473721
E28: 2 | F28: KARYA BHAKTI | G28: 8520214 | H28: 5110934
E29: 3 | F29: MARGA KARYA | G29: 14301950 | H29: 14301950
E30: 4 | F30: KASULATOMBI | G30: 3596831 | H30: 3596831
E31: 5 | F31: DAMPALA JAYA | G31: 10549877 | H31: 10549877
E32: 6 | F32: RAHMAT BARU | G32: 5335495 | H32: 2225159
E33: 7 | F33: SOLOY AGUNG | G33: 15560256 | H33: 15560256
E34: 8 | F34: BUMI LAPERO | G34: 7260000 | H34: 5795375
E35: 9 | F35: KARYA MULYA | G35: 7745303 | H35: 3172577
E36: 10 | F36: LABULANDA | G36: 5173340 | H36: 5173340
E37: 11 | F37: LAMBALE | G37: 1569179 | H37: 1569179
E38: 12 | F38: LAPANDEWA | G38: 9323981 | H38: 2424104
... E40: 14 | F40: MEKAR JAYA | G40: 10115946 | H40: 9696196
E42: 3. KECAMATAN KULISUSU UTARA
E43: NO | F43: NAMA DESA | G43: TARGET | H43: REALISASI
E44: 1 | F44: WA ODE BURI | G44: 9454719 | H44: 9454719
E45: 2 | F45: LELAMO | G45: 3868469 | H45: 3868469
E46: 3 | F46: ULUNAMBO | G46: 4963346 | H46: 4963346
E47: 4 | F47: PETETEA’A | G47: 10289155 | H47: 10289155
E48: 5 | F48: PEBAOA | G48: 4686761 | H48: 0
E49: 6 | F49: LANOSANGIA | G49: 5404746 | H49: 5404746
E50: 7 | F50: TOROMBIA | G50: 2725718 | H50: 2725718
E51: 8 | F51: LAMOAHI | G51: 2389219 | H51: 2389219
E52: 9 | F52: KUROLABU | G52: 2951543 | H52: 2951543
E53: 10 | F53: BIRA | G53: 2761801 | H53: 2761801
E54: 11 | F54: WOWONGA JAYA | G54: 2359056 | H54: 0
E55: 12 | F55: LABELETE | G55: 4242597 | H55: 4242597
... E57: 14 | F57: WAMBOULE | G57: 4422565 | H57: 4422565
E62: 4. KECAMATAN BONEGUNU
E63: NO | F63: NAMA DESA | G63: TARGET | H63: REALISASI
E64: 1 | F64: GUNUNG SARI | G64: 7933875 | H64: 7933875
E65: 2 | F65: RONTA | G65: 3073372 | H65: 3073372
E66: 3 | F66: LANGERE | G66: 1932959 | H66: 1396000
E67: 4 | F67: KOEPISINO | G67: 2338460 | H67: 1937191
E68: 5 | F68: WA ODE KALOWO | G68: 2260098 | H68: 2260098
E69: 6 | F69: LAANOIPI | G69: 2773394 | H69: 2773394
E70: 7 | F70: WA ODE ANGKALO | G70: 8523153 | H70: 8523153
E71: 8 | F71: E’ENSUMALA | G71: 3538697 | H71: 3538697
E72: 9 | F72: KOBORUNO | G72: 1668985 | H72: 1668985
E73: 10 | F73: TATOMBULI | G73: 2723891 | H73: 2723891
E74: 11 | F74: RANTEGOLA | G74: 1474336 | H74: 98740
E75: 12 | F75: NGAPA’EA | G75: 3006469 | H75: 3006469
E76: 13 | F76: DAMAI LABORONA | G76: 3544197 | H76: 3544197
E79: 5. KECAMATAN KAMBOWA
E80: NO | F80: NAMA DESA | G80: TARGET | H80: REALISASI
E81: 1 | F81: KONDE | G81: 2350248 | H81: 2350248
E82: 2 | F82: BUBU | G82: 7542848 | H82: 7542848
E83: 3 | F83: LAHUMOKO | G83: 4079039 | H83: 4079039
E84: 4 | F84: LAGUNDI | G84: 8652405 | H84: 8652405
E85: 5 | F85: PONGKOWULU | G85: 6861854 | H85: 6861854
E86: 6 | F86: MATA | G86: 4852397 | H86: 4852397
E87: 7 | F87: BENTE | G87: 1916810 | H87: 1916810
E88: 8 | F88: BALUARA | G88: 3627834 | H88: 3627834
E89: 9 | F89: BUBU BARAT | G89: 5942139 | H89: 5778064
E90: 10 | F90: MORINDINO | G90: 7067686 | H90: 6784084
E92: 6. KECAMATAN WAKORUMBA UTARA
E93: NO | F93: NAMA DESA | G93: TARGET | H93: REALISASI
E94: 1 | F94: LASIWA | G94: 4772472 | H94: 4772472
E95: 2 | F95: LAEYA | G95: 6257548 | H95: 6257548
E96: 3 | F96: MATALAGI | G96: 9461134 | H96: 9284634
E97: 4 | F97: WANTULASI | G97: 13125904 | H97: 13125904
E98: 5 | F98: LABUAN BAJO | G98: 5434479 | H98: 5010541
E99: 6 | F99: LABARAGA | G99: 3855485 | H99: 3855485
E100: 7 | F100: LABUKO | G100: 3015429 | H100: 2553752
E101: 8 | F101: WAMORAPA | G101: 2494801 | H101: 2318194
E102: 9 | F102: LABA JAYA | G102: 8198427 | H102: 8198427
E103: 10 | F103: SUMAMPENO | G103: 2942428 | H103: 2942428
E104: 11 | F104: OENGKAPALA | G104: 4387751 | H104: 2150380
