Workbook
Name CARI: INDIRECT("DATA!A5:A"&COUNTIF([2]DATA!$A$5:$A$548,"?*")+5,TRUE)
Name kd_daerah: #REF!
Name kd_daerah: #REF!
Name kd_daerah: #REF!
Name kd_daerah: #REF!
Name kd_daerah: #REF!
Name kd_daerah: #REF!
Name kd_daerah: #REF!
Name kd_daerah: #REF!
Name kd_daerah: #REF!
Name kode: #REF!
Name kode: #REF!
Name kode: #REF!
Name kode: #REF!
Name kode: #REF!
Name kode: #REF!
Name kode: #REF!
Name kode: #REF!
Name kode: #REF!
Name nmdaerah: #REF!
Name nmdaerah: #REF!
Name nmdaerah: #REF!
Name nmdaerah: #REF!
Name nmdaerah: #REF!
Name nmdaerah: #REF!
Name nmdaerah: #REF!
Name nmdaerah: #REF!
Name nmdaerah: #REF!
Name penduduk: #REF!
Name penduduk: #REF!
Name penduduk: #REF!
Name penduduk: #REF!
Name penduduk: #REF!
Name penduduk: #REF!
Name penduduk: #REF!
Name penduduk: #REF!
Name penduduk: #REF!
Name PER.DANA: INDIRECT("PER.DANA!A5:A"&COUNTIF([2]PER.DANA!$A$5:$A$548,"?*")+5,TRUE)
Name PER.TAHUN: INDIRECT("PER.TAHUN!A5:A"&COUNTIF([2]PER.TAHUN!$A$5:$A$548,"?*")+5,TRUE)

Sheet LAMPIRAN PERUBAHAN (lama)
AK1: =AK2+AK3 -> 12200000
C2: LAMPIRAN | D2: : PERATURAN BUPATI BUTON UTARA | AK2: 5000000
D3: NOMOR | E3: : | AK3: =600000*12 -> 7200000
D4: TANGGAL | E4: : | AK4: =(1000000+900000+800000+(700000*2))*12 -> 49200000 | AL4: 81000000
D5: TENTANG | E5: : PERUBAHAN ATAS PERATURAN BUPATI BUTON UTARA NOMOR 02 TENTANG PEDOMAN PENGALOKASIAN DAN PENGGUNAAN ALOKASI DANA DESA KABUPATEN BUTON UTARA TAHUN ANGGARAN 2020 | AK5: =AK4+5000000 -> 54200000
AK6: =AK4+AK3+AK2 -> 61400000
B7: No. | C7: Kecamatan | D7: Nama Desa | E7: Alokasi Dasar | F7: Klasifikasi Desa IDM | G7: Desil JPM | H7: Alokasi Formula | T7: Total Bobot | U7: Alokasi Formula | V7: Pagu Alokasi Dana Desa per-Desa | W7: SILTAP | Z7: Tunjangan | AE7: Operasional | AH7: Pembangunan/ Pengadaan | AK7: =AK4+AK3 -> 56400000
H8: Jumlah Penduduk | K8: Jumlah Penduduk Miskin | N8: Luas Wilayah | Q8: IKG | AK8: =AC11+AD11 -> 61800000
H9: Jumlah Penduduk | I9: Rasio Jumlah Penduduk | J9: Bobot | K9: Jumlah Penduduk Miskin | L9: Rasio Jumlah Penduduk Miskin | M9: Bobot | N9: Luas Wilayah | O9: Rasio Luas Wilayah | P9: Bobot | Q9: Indeks Kesulitan Geografis | R9: Rasio Indeks Kesulitan Geografis | S9: Bobot | W9: Kades | X9: Sekdes | Y9: Kaur, Seksi dan Kadus | Z9: BPJS Ketenagakerjaan | AA9: BPJS Kesehatan 4% | AB9: BPJS Kesehatan 1% | AC9: Kepala Desa dan Perangkat | AD9: BPD | AE9: Kantor | AF9: BPD | AG9: LKD
B10: (1) | C10: (2) | D10: (3) | E10: (4) | F10: (5) | G10: (6) | H10: (8) | I10: (9) | J10: (10) | K10: (11) | L10: (12) | M10: (13) | N10: (14) | O10: (15) | P10: (16) | Q10: (17) | R10: (18) | S10: (19) | T10: (20) = (10) + (13) + (16) + (19) | U10: (5) | V10: (6)=(4)+(5) | W10: (7) | X10: (8) | Y10: (9) | Z10: (10) | AA10: (11) | AB10: (12) | AC10: (13) | AD10: (14) | AE10: (15) | AF10: (16) | AG10: (17) | AH10: (18) | AI10: =W11+X11+Y11+Z11+AA11+AB11+AC11+AD11+AF11 -> 3.3736438e+08
B11: 1 | C11: =FORMULASI!C11 -> Kulisusu | D11: =FORMULASI!D11 -> Tri Wacu-Wacu | E11: =FORMULASI!E11 -> 485793000 | F11: ='7410 Kab. Buton Utara (2)'!D10 -> Sangat Tertinggal | G11: ='7410 Kab. Buton Utara'!E10 -> 3 | H11: ='7410 Kab. Buton Utara'!F10 -> 368 | I11: =H11/$H$90 -> 0.0076945594 | J11: =I11*$I$93 -> 0.00076945594 | K11: ='7410 Kab. Buton Utara'!G10 -> 48 | L11: =K11/$K$90 -> 0.0062467465 | M11: =L11*$I$94 -> 0.0031233732 | N11: ='7410 Kab. Buton Utara'!H10 -> 60.578715 | O11: =N11/$N$90 -> 0.034753131 | P11: =O11*$I$95 -> 0.0052129697 | Q11: ='7410 Kab. Buton Utara'!I10 -> 39.358392 | R11: =Q11/$Q$90 -> 0.01087413 | S11: =R11*$I$96 -> 0.0027185325 | T11: =J11+M11+P11+S11 -> 0.011824331 | U11: =FORMULASI!U11 -> 75294000 | V11: =FORMULASI!V11 -> 561087000 | W11: =3000000*12 -> 36000000 | X11: =2225000*12 -> 26700000 | Y11: =((2023000*6)+(2023000*2))*12 -> 194208000 | Z11: =((3000000*0.54%)+(2225000*0.54%)+((2023000*0.54%)*8))*12 -> 1387303.2 | AA11: 0 | AB11: =(W11+X11+Y11)*1% -> 2569080 | AC11: =((150000*1)+(100000*9))*12 -> 12600000 | AD11: 49200000 | AE11: =V11*10% -> 56108700 | AF11: 14700000 | AG11: 92000000 | AH11: =V11-(W11+X11+Y11+AA11+AB11+AE11+AF11+AG11+AC11+AD11+Z11) -> 75613917 | AJ11: =(AH11/AN11)*100 -> 13.476327 | AK11: =W11+X11+Y11 -> 256908000 | AL11: =AA11+AB11 -> 2569080 | AM11: =W11+X11+Y11+Z11+AA11+AB11+AC11+AD11+AE11+AF11+AG11+AH11 -> 561087000 | AN11: =V11 -> 561087000 | AO11: =AM11-AN11 -> 0 | AV11: kepala desa | AW11: 3000000 | AX11: 0.0054 | AY11: =AW11*AX11 -> 16200 | AZ11: 16200 | BB11: kepala desa | BC11: 3000000 | BD11: 0.01 | BE11: =BC11*BD11 -> 30000 | BF11: 30000
B12: 2 | C12: =FORMULASI!C12 -> Kulisusu | D12: =FORMULASI!D12 -> Waculaea | E12: =FORMULASI!E12 -> 485793000 | F12: ='7410 Kab. Buton Utara (2)'!D12 -> Tertinggal | G12: ='7410 Kab. Buton Utara'!E12 -> 5 | H12: ='7410 Kab. Buton Utara'!F12 -> 240 | I12: =H12/$H$90 -> 0.0050181909 | J12: =I12*$I$93 -> 0.00050181909 | K12: ='7410 Kab. Buton Utara'!G12 -> 105 | L12: =K12/$K$90 -> 0.013664758 | M12: =L12*$I$94 -> 0.006832379 | N12: ='7410 Kab. Buton Utara'!H12 -> 24.83881 | O12: =N12/$N$90 -> 0.014249666 | P12: =O12*$I$95 -> 0.0021374498 | Q12: ='7410 Kab. Buton Utara'!I12 -> 48.442036 | R12: =Q12/$Q$90 -> 0.013383804 | S12: =R12*$I$96 -> 0.003345951 | T12: =J12+M12+P12+S12 -> 0.012817599 | U12: =FORMULASI!U12 -> 50064000 | V12: =FORMULASI!V12 -> 535857000 | W12: =3000000*12 -> 36000000 | X12: =2225000*12 -> 26700000 | Y12: =((2023000*6)+(2023000*2))*12 -> 194208000 | Z12: =((3000000*0.54%)+(2225000*0.54%)+((2023000*0.54%)*8))*12 -> 1387303.2 | AA12: 0 | AB12: =(W12+X12+Y12)*1% -> 2569080 | AC12: =((150000*1)+(100000*9))*12 -> 12600000 | AD12: 49200000 | AE12: =V12*10% -> 53585700 | AF12: 14700000 | AG12: 92000000 | AH12: =V12-(W12+X12+Y12+AA12+AB12+AE12+AF12+AG12+AC12+AD12+Z12) -> 52906917 | AJ12: =(AH12/AN12)*100 -> 9.8733275 | AK12: =W12+X12+Y12 -> 256908000 | AL12: =AA12+AB12 -> 2569080 | AM12: =W12+X12+Y12+Z12+AA12+AB12+AC12+AD12+AE12+AF12+AG12+AH12 -> 535857000 | AN12: =V12 -> 535857000 | AO12: =AM12-AN12 -> 0 | AV12: sekdes | AW12: 2225000 | AX12: 0.0054 | AY12: =AW12*AX12 -> 12015 | AZ12: 12015 | BB12: sekdes | BC12: 2552014 | BD12: 0.01 | BE12: =BC12*BD12 -> 25520.14 | BF12: 25520
B13: 3 | C13: =FORMULASI!C13 -> Kulisusu | D13: =FORMULASI!D13 -> Eelahaji | E13: =FORMULASI!E13 -> 485793000 | F13: ='7410 Kab. Buton Utara (2)'!D15 -> Tertinggal | G13: ='7410 Kab. Buton Utara'!E15 -> 1 | H13: ='7410 Kab. Buton Utara'!F15 -> 418 | I13: =H13/$H$90 -> 0.0087400159 | J13: =I13*$I$93 -> 0.00087400159 | K13: ='7410 Kab. Buton Utara'!G15 -> 13 | L13: =K13/$K$90 -> 0.0016918272 | M13: =L13*$I$94 -> 0.00084591359 | N13: ='7410 Kab. Buton Utara'!H15 -> 19.917515 | O13: =N13/$N$90 -> 0.01142639 | P13: =O13*$I$95 -> 0.0017139585 | Q13: ='7410 Kab. Buton Utara'!I15 -> 54.790809 | R13: =Q13/$Q$90 -> 0.015137874 | S13: =R13*$I$96 -> 0.0037844685 | T13: =J13+M13+P13+S13 -> 0.0072183422 | U13: =FORMULASI!U13 -> 47822000 | V13: =FORMULASI!V13 -> 533615000 | W13: =3000000*12 -> 36000000 | X13: =2225000*12 -> 26700000 | Y13: =((2023000*6)+(2023000*2))*12 -> 194208000 | Z13: =((3000000*0.54%)+(2225000*0.54%)+((2023000*0.54%)*8))*12 -> 1387303.2 | AA13: 0 | AB13: =(W13+X13+Y13)*1% -> 2569080 | AC13: =((150000*1)+(100000*9))*12 -> 12600000 | AD13: 49200000 | AE13: =V13*10% -> 53361500 | AF13: 14700000 | AG13: 92000000 | AH13: =V13-(W13+X13+Y13+AA13+AB13+AE13+AF13+AG13+AC13+AD13+Z13) -> 50889117 | AJ13: =(AH13/AN13)*100 -> 9.5366728 | AK13: =W13+X13+Y13 -> 256908000 | AL13: =AA13+AB13 -> 2569080 | AM13: =W13+X13+Y13+Z13+AA13+AB13+AC13+AD13+AE13+AF13+AG13+AH13 -> 533615000 | AN13: =V13 -> 533615000 | AO13: =AM13-AN13 -> 0 | AV13: kaur | AW13: 2023000 | AX13: 0.0054 | AY13: =AW13*AX13 -> 10924.2 | AZ13: 10924 | BB13: kaur | BC13: 2552014 | BD13: 0.01 | BE13: =BC13*BD13 -> 25520.14 | BF13: 25520
B14: 4 | C14: =FORMULASI!C14 -> Kulisusu | D14: =FORMULASI!D14 -> Tomoahi | E14: =FORMULASI!E14 -> 485793000 | F14: ='7410 Kab. Buton Utara (2)'!D20 -> Tertinggal | G14: ='7410 Kab. Buton Utara'!E20 -> 3 | H14: ='7410 Kab. Buton Utara'!F20 -> 418 | I14: =H14/$H$90 -> 0.0087400159 | J14: =I14*$I$93 -> 0.00087400159 | K14: ='7410 Kab. Buton Utara'!G20 -> 62 | L14: =K14/$K$90 -> 0.0080687142 | M14: =L14*$I$94 -> 0.0040343571 | N14: ='7410 Kab. Buton Utara'!H20 -> 120.99737 | O14: =N14/$N$90 -> 0.069414437 | P14: =O14*$I$95 -> 0.010412166 | Q14: ='7410 Kab. Buton Utara'!I20 -> 58.255129 | R14: =Q14/$Q$90 -> 0.016095014 | S14: =R14*$I$96 -> 0.0040237534 | T14: =J14+M14+P14+S14 -> 0.019344278 | U14: =FORMULASI!U14 -> 41480000 | V14: =FORMULASI!V14 -> 527273000 | W14: =3000000*12 -> 36000000 | X14: =2225000*12 -> 26700000 | Y14: =((2023000*6)+(2023000*2))*12 -> 194208000 | Z14: =((3000000*0.54%)+(2225000*0.54%)+((2023000*0.54%)*8))*12 -> 1387303.2 | AA14: 0 | AB14: =(W14+X14+Y14)*1% -> 2569080 | AC14: =((150000*1)+(100000*9))*12 -> 12600000 | AD14: 49200000 | AE14: =V14*10% -> 52727300 | AF14: 14700000 | AG14: 92000000 | AH14: =V14-(W14+X14+Y14+AA14+AB14+AE14+AF14+AG14+AC14+AD14+Z14) -> 45181317 | AJ14: =(AH14/AN14)*100 -> 8.568866 | AK14: =W14+X14+Y14 -> 256908000 | AL14: =AA14+AB14 -> 2569080 | AM14: =W14+X14+Y14+Z14+AA14+AB14+AC14+AD14+AE14+AF14+AG14+AH14 -> 527273000 | AN14: =V14 -> 527273000 | AO14: =AM14-AN14 -> 0 | AV14: kaur | AW14: 2023000 | AX14: 0.0054 | AY14: =AW14*AX14 -> 10924.2 | AZ14: 10924 | BB14: kaur | BC14: 2552014 | BD14: 0.01 | BE14: =BC14*BD14 -> 25520.14 | BF14: 25520
B15: 5 | C15: =FORMULASI!C15 -> Kulisusu | D15: =FORMULASI!D15 -> Kalibu | E15: =FORMULASI!E15 -> 485793000 | F15: ='7410 Kab. Buton Utara (2)'!D28 -> Sangat Tertinggal | G15: ='7410 Kab. Buton Utara'!E28 -> 2 | H15: ='7410 Kab. Buton Utara'!F28 -> 204 | I15: =H15/$H$90 -> 0.0042654623 | J15: =I15*$I$93 -> 0.00042654623 | K15: ='7410 Kab. Buton Utara'!G28 -> 30 | L15: =K15/$K$90 -> 0.0039042166 | M15: =L15*$I$94 -> 0.0019521083 | N15: ='7410 Kab. Buton Utara'!H28 -> 6.801103 | O15: =N15/$N$90 -> 0.0039016943 | P15: =O15*$I$95 -> 0.00058525414 | Q15: ='7410 Kab. Buton Utara'!I28 -> 52.335044 | R15: =Q15/$Q$90 -> 0.014459383 | S15: =R15*$I$96 -> 0.0036148458 | T15: =J15+M15+P15+S15 -> 0.0065787545 | U15: =FORMULASI!U15 -> 44995000 | V15: =FORMULASI!V15 -> 530788000 | W15: =3000000*12 -> 36000000 | X15: =2225000*12 -> 26700000 | Y15: =((2023000*6)+(2023000*2))*12 -> 194208000 | Z15: =((3000000*0.54%)+(2225000*0.54%)+((2023000*0.54%)*8))*12 -> 1387303.2 | AA15: 0 | AB15: =(W15+X15+Y15)*1% -> 2569080 | AC15: =((150000*1)+(100000*9))*12 -> 12600000 | AD15: 49200000 | AE15: =V15*10% -> 53078800 | AF15: 14700000 | AG15: 92000000 | AH15: =V15-(W15+X15+Y15+AA15+AB15+AE15+AF15+AG15+AC15+AD15+Z15) -> 48344817 | AJ15: =(AH15/AN15)*100 -> 9.1081217 | AK15: =W15+X15+Y15 -> 256908000 | AL15: =AA15+AB15 -> 2569080 | AM15: =W15+X15+Y15+Z15+AA15+AB15+AC15+AD15+AE15+AF15+AG15+AH15 -> 530788000 | AN15: =V15 -> 530788000 | AO15: =AM15-AN15 -> 0 | AV15: kaur | AW15: 2023000 | AX15: 0.0054 | AY15: =AW15*AX15 -> 10924.2 | AZ15: 10924 | BB15: kaur | BC15: 2552014 | BD15: 0.01 | BE15: =BC15*BD15 -> 25520.14 | BF15: 25520
B16: 6 | C16: =FORMULASI!C16 -> Kulisusu | D16: =FORMULASI!D16 -> Jampaka | E16: =FORMULASI!E16 -> 485793000 | F16: ='7410 Kab. Buton Utara (2)'!D34 -> Berkembang | G16: ='7410 Kab. Buton Utara'!E34 -> 3 | H16: ='7410 Kab. Buton Utara'!F34 -> 484 | I16: =H16/$H$90 -> 0.010120018 | J16: =I16*$I$93 -> 0.0010120018 | K16: ='7410 Kab. Buton Utara'!G34 -> 43 | L16: =K16/$K$90 -> 0.0055960437 | M16: =L16*$I$94 -> 0.0027980219 | N16: ='7410 Kab. Buton Utara'!H34 -> 49.793788 | O16: =N16/$N$90 -> 0.028565975 | P16: =O16*$I$95 -> 0.0042848963 | Q16: ='7410 Kab. Buton Utara'!I34 -> 61.483534 | R16: =Q16/$Q$90 -> 0.016986973 | S16: =R16*$I$96 -> 0.0042467433 | T16: =J16+M16+P16+S16 -> 0.012341663 | U16: =FORMULASI!U16 -> 73234000 | V16: =FORMULASI!V16 -> 559027000 | W16: =3000000*12 -> 36000000 | X16: =2225000*12 -> 26700000 | Y16: =((2023000*6)+(2023000*2))*12 -> 194208000 | Z16: =((3000000*0.54%)+(2225000*0.54%)+((2023000*0.54%)*8))*12 -> 1387303.2 | AA16: 0 | AB16: =(W16+X16+Y16)*1% -> 2569080 | AC16: =((150000*1)+(100000*9))*12 -> 12600000 | AD16: 49200000 | AE16: =V16*10% -> 55902700 | AF16: 14700000 | AG16: 92000000 | AH16: =V16-(W16+X16+Y16+AA16+AB16+AE16+AF16+AG16+AC16+AD16+Z16) -> 73759917 | AJ16: =(AH16/AN16)*100 -> 13.194339 | AK16: =W16+X16+Y16 -> 256908000 | AL16: =AA16+AB16 -> 2569080 | AM16: =W16+X16+Y16+Z16+AA16+AB16+AC16+AD16+AE16+AF16+AG16+AH16 -> 559027000 | AN16: =V16 -> 559027000 | AO16: =AM16-AN16 -> 0 | AV16: kasi | AW16: 2023000 | AX16: 0.0054 | AY16: =AW16*AX16 -> 10924.2 | AZ16: 10924 | BB16: kasi | BC16: 2552014 | BD16: 0.01 | BE16: =BC16*BD16 -> 25520.14 | BF16: 25520
B17: 7 | C17: =FORMULASI!C17 -> Kulisusu | D17: =FORMULASI!D17 -> Loji | E17: =FORMULASI!E17 -> 485793000 | F17: ='7410 Kab. Buton Utara (2)'!D38 -> Tertinggal | G17: ='7410 Kab. Buton Utara'!E38 -> 3 | H17: ='7410 Kab. Buton Utara'!F38 -> 751 | I17: =H17/$H$90 -> 0.015702756 | J17: =I17*$I$93 -> 0.0015702756 | K17: ='7410 Kab. Buton Utara'!G38 -> 59 | L17: =K17/$K$90 -> 0.0076782926 | M17: =L17*$I$94 -> 0.0038391463 | N17: ='7410 Kab. Buton Utara'!H38 -> 8.104648 | O17: =N17/$N$90 -> 0.0046495192 | P17: =O17*$I$95 -> 0.00069742788 | Q17: ='7410 Kab. Buton Utara'!I38 -> 57.714174 | R17: =Q17/$Q$90 -> 0.015945556 | S17: =R17*$I$96 -> 0.003986389 | T17: =J17+M17+P17+S17 -> 0.010093239 | U17: =FORMULASI!U17 -> 45181000 | V17: =FORMULASI!V17 -> 530974000 | W17: =3000000*12 -> 36000000 | X17: =2225000*12 -> 26700000 | Y17: =((2023000*6)+(2023000*2))*12 -> 194208000 | Z17: =((3000000*0.54%)+(2225000*0.54%)+((2023000*0.54%)*8))*12 -> 1387303.2 | AA17: 0 | AB17: =(W17+X17+Y17)*1% -> 2569080 | AC17: =((150000*1)+(100000*9))*12 -> 12600000 | AD17: 49200000 | AE17: =V17*10% -> 53097400 | AF17: 14700000 | AG17: 92000000 | AH17: =V17-(W17+X17+Y17+AA17+AB17+AE17+AF17+AG17+AC17+AD17+Z17) -> 48512217 | AJ17: =(AH17/AN17)*100 -> 9.1364581 | AK17: =W17+X17+Y17 -> 256908000 | AL17: =AA17+AB17 -> 2569080 | AM17: =W17+X17+Y17+Z17+AA17+AB17+AC17+AD17+AE17+AF17+AG17+AH17 -> 530974000 | AN17: =V17 -> 530974000 | AO17: =AM17-AN17 -> 0 | AV17: kasi | AW17: 2023000 | AX17: 0.0054 | AY17: =AW17*AX17 -> 10924.2 | AZ17: 10924 | BB17: kasi | BC17: 2552014 | BD17: 0.01 | BE17: =BC17*BD17 -> 25520.14 | BF17: 25520
B18: 8 | C18: =FORMULASI!C18 -> Kulisusu | D18: =FORMULASI!D18 -> Linsowu | E18: =FORMULASI!E18 -> 485793000 | F18: ='7410 Kab. Buton Utara (2)'!D60 -> Sangat Tertinggal | G18: ='7410 Kab. Buton Utara'!E60 -> 7 | H18: ='7410 Kab. Buton Utara'!F60 -> 835 | I18: =H18/$H$90 -> 0.017459123 | J18: =I18*$I$93 -> 0.0017459123 | K18: ='7410 Kab. Buton Utara'!G60 -> 228 | L18: =K18/$K$90 -> 0.029672046 | M18: =L18*$I$94 -> 0.014836023 | N18: ='7410 Kab. Buton Utara'!H60 -> 56.970571 | O18: =N18/$N$90 -> 0.032683192 | P18: =O18*$I$95 -> 0.0049024787 | Q18: ='7410 Kab. Buton Utara'!I60 -> 69.362306 | R18: =Q18/$Q$90 -> 0.019163759 | S18: =R18*$I$96 -> 0.0047909398 | T18: =J18+M18+P18+S18 -> 0.026275354 | U18: =FORMULASI!U18 -> 53074000 | V18: =FORMULASI!V18 -> 538867000 | W18: =3000000*12 -> 36000000 | X18: =2225000*12 -> 26700000 | Y18: =((2023000*6)+(2023000*2))*12 -> 194208000 | Z18: =((3000000*0.54%)+(2225000*0.54%)+((2023000*0.54%)*8))*12 -> 1387303.2 | AA18: 0 | AB18: =(W18+X18+Y18)*1% -> 2569080 | AC18: =((150000*1)+(100000*9))*12 -> 12600000 | AD18: 49200000 | AE18: =V18*10% -> 53886700 | AF18: 14700000 | AG18: 92000000 | AH18: =V18-(W18+X18+Y18+AA18+AB18+AE18+AF18+AG18+AC18+AD18+Z18) -> 55615917 | AJ18: =(AH18/AN18)*100 -> 10.320899 | AK18: =W18+X18+Y18 -> 256908000 | AL18: =AA18+AB18 -> 2569080 | AM18: =W18+X18+Y18+Z18+AA18+AB18+AC18+AD18+AE18+AF18+AG18+AH18 -> 538867000 | AN18: =V18 -> 538867000 | AO18: =AM18-AN18 -> 0 | AV18: kasi | AW18: 2023000 | AX18: 0.0054 | AY18: =AW18*AX18 -> 10924.2 | AZ18: 10924 | BB18: kasi | BC18: 2552014 | BD18: 0.01 | BE18: =BC18*BD18 -> 25520.14 | BF18: 25520
B19: 9 | C19: =FORMULASI!C19 -> Kulisusu | D19: =FORMULASI!D19 -> Rombo | E19: =FORMULASI!E19 -> 485793000 | F19: ='7410 Kab. Buton Utara (2)'!D68 -> Tertinggal | G19: ='7410 Kab. Buton Utara'!E68 -> 6 | H19: ='7410 Kab. Buton Utara'!F68 -> 1070 | I19: =H19/$H$90 -> 0.022372768 | J19: =I19*$I$93 -> 0.0022372768 | K19: ='7410 Kab. Buton Utara'!G68 -> 173 | L19: =K19/$K$90 -> 0.022514315 | M19: =L19*$I$94 -> 0.011257158 | N19: ='7410 Kab. Buton Utara'!H68 -> 19.271476 | O19: =N19/$N$90 -> 0.011055767 | P19: =O19*$I$95 -> 0.001658365 | Q19: ='7410 Kab. Buton Utara'!I68 -> 57.674178 | R19: =Q19/$Q$90 -> 0.015934506 | S19: =R19*$I$96 -> 0.0039836264 | T19: =J19+M19+P19+S19 -> 0.019136426 | U19: =FORMULASI!U19 -> 64797000 | V19: =FORMULASI!V19 -> 550590000 | W19: =3000000*12 -> 36000000 | X19: =2225000*12 -> 26700000 | Y19: =((2023000*6)+(2023000*2))*12 -> 194208000 | Z19: =((3000000*0.54%)+(2225000*0.54%)+((2023000*0.54%)*8))*12 -> 1387303.2 | AA19: 0 | AB19: =(W19+X19+Y19)*1% -> 2569080 | AC19: =((150000*1)+(100000*9))*12 -> 12600000 | AD19: 49200000 | AE19: =V19*10% -> 55059000 | AF19: 14700000 | AG19: 92000000 | AH19: =V19-(W19+X19+Y19+AA19+AB19+AE19+AF19+AG19+AC19+AD19+Z19) -> 66166617 | AJ19: =(AH19/AN19)*100 -> 12.017403 | AK19: =W19+X19+Y19 -> 256908000 | AL19: =AA19+AB19 -> 2569080 | AM19: =W19+X19+Y19+Z19+AA19+AB19+AC19+AD19+AE19+AF19+AG19+AH19 -> 550590000 | AN19: =V19 -> 550590000 | AO19: =AM19-AN19 -> 0 | AV19: kadus | AW19: 2023000 | AX19: 0.0054 | AY19: =AW19*AX19 -> 10924.2 | AZ19: 10924 | BB19: kadus | BC19: 2552014 | BD19: 0.01 | BE19: =BC19*BD19 -> 25520.14 | BF19: 25520
B20: 10 | C20: =FORMULASI!C20 -> Kulisusu | D20: =FORMULASI!D20 -> Wasalabose | E20: =FORMULASI!E20 -> 485793000 | F20: ='7410 Kab. Buton Utara (2)'!D70 -> Sangat Tertinggal | G20: ='7410 Kab. Buton Utara'!E70 -> 3 | H20: ='7410 Kab. Buton Utara'!F70 -> 487 | I20: =H20/$H$90 -> 0.010182746 | J20: =I20*$I$93 -> 0.0010182746 | K20: ='7410 Kab. Buton Utara'!G70 -> 59 | L20: =K20/$K$90 -> 0.0076782926 | M20: =L20*$I$94 -> 0.0038391463 | N20: ='7410 Kab. Buton Utara'!H70 -> 124.45443 | O20: =N20/$N$90 -> 0.071397706 | P20: =O20*$I$95 -> 0.010709656 | Q20: ='7410 Kab. Buton Utara'!I70 -> 59.399377 | R20: =Q20/$Q$90 -> 0.016411152 | S20: =R20*$I$96 -> 0.004102788 | T20: =J20+M20+P20+S20 -> 0.019669865 | U20: =FORMULASI!U20 -> 49354000 | V20: =FORMULASI!V20 -> 535147000 | W20: =3000000*12 -> 36000000 | X20: =2225000*12 -> 26700000 | Y20: =((2023000*6)+(2023000*2))*12 -> 194208000 | Z20: =((3000000*0.54%)+(2225000*0.54%)+((2023000*0.54%)*8))*12 -> 1387303.2 | AA20: 0 | AB20: =(W20+X20+Y20)*1% -> 2569080 | AC20: =((150000*1)+(100000*9))*12 -> 12600000 | AD20: 49200000 | AE20: =V20*10% -> 53514700 | AF20: 14700000 | AG20: 92000000 | AH20: =V20-(W20+X20+Y20+AA20+AB20+AE20+AF20+AG20+AC20+AD20+Z20) -> 52267917 | AJ20: =(AH20/AN20)*100 -> 9.7670204 | AK20: =W20+X20+Y20 -> 256908000 | AL20: =AA20+AB20 -> 2569080 | AM20: =W20+X20+Y20+Z20+AA20+AB20+AC20+AD20+AE20+AF20+AG20+AH20 -> 535147000 | AN20: =V20 -> 535147000 | AO20: =AM20-AN20 -> 0 | AV20: kadus | AW20: 2023000 | AX20: 0.0054 | AY20: =AW20*AX20 -> 10924.2 | AZ20: 10924 | BB20: kadus | BC20: 2552014 | BD20: 0.01 | BE20: =BC20*BD20 -> 25520.14 | BF20: 25520
B21: 11 | C21: =FORMULASI!C21 -> Kulisusu | D21: =FORMULASI!D21 -> Malalanda | E21: =FORMULASI!E21 -> 485793000 | F21: ='7410 Kab. Buton Utara (2)'!D71 -> Berkembang | G21: ='7410 Kab. Buton Utara'!E71 -> 4 | H21: ='7410 Kab. Buton Utara'!F71 -> 485 | I21: =H21/$H$90 -> 0.010140928 | J21: =I21*$I$93 -> 0.0010140928 | K21: ='7410 Kab. Buton Utara'!G71 -> 78 | L21: =K21/$K$90 -> 0.010150963 | M21: =L21*$I$94 -> 0.0050754815 | N21: ='7410 Kab. Buton Utara'!H71 -> 10.201654 | O21: =N21/$N$90 -> 0.0058525412 | P21: =O21*$I$95 -> 0.00087788117 | Q21: ='7410 Kab. Buton Utara'!I71 -> 40.964353 | R21: =Q21/$Q$90 -> 0.011317833 | S21: =R21*$I$96 -> 0.0028294582 | T21: =J21+M21+P21+S21 -> 0.0097969137 | U21: =FORMULASI!U21 -> 48138000 | V21: =FORMULASI!V21 -> 533931000 | W21: =3000000*12 -> 36000000 | X21: =2225000*12 -> 26700000 | Y21: =((2023000*6)+(2023000*2))*12 -> 194208000 | Z21: =((3000000*0.54%)+(2225000*0.54%)+((2023000*0.54%)*8))*12 -> 1387303.2 | AA21: 0 | AB21: =(W21+X21+Y21)*1% -> 2569080 | AC21: =((150000*1)+(100000*9))*12 -> 12600000 | AD21: 49200000 | AE21: =V21*10% -> 53393100 | AF21: 14700000 | AG21: 92000000 | AH21: =V21-(W21+X21+Y21+AA21+AB21+AE21+AF21+AG21+AC21+AD21+Z21) -> 51173517 | AJ21: =(AH21/AN21)*100 -> 9.584294 | AK21: =W21+X21+Y21 -> 256908000 | AL21: =AA21+AB21 -> 2569080 | AM21: =W21+X21+Y21+Z21+AA21+AB21+AC21+AD21+AE21+AF21+AG21+AH21 -> 533931000 | AN21: =V21 -> 533931000 | AO21: =AM21-AN21 -> 0 | AY21: =SUM(AY11:AY20) -> 115608.6 | AZ21: =SUM(AZ11:AZ20) -> 115607 | BE21: =SUM(BE11:BE20) -> 259681.26 | BF21: =SUM(BF11:BF20) -> 259680
B22: 12 | C22: =FORMULASI!C22 -> Kulisusu | D22: =FORMULASI!D22 -> Lemo Ea | E22: =FORMULASI!E22 -> 485793000 | F22: ='7410 Kab. Buton Utara (2)'!D77 -> Tertinggal | G22: ='7410 Kab. Buton Utara'!E77 -> 7 | H22: ='7410 Kab. Buton Utara'!F77 -> 789 | I22: =H22/$H$90 -> 0.016497303 | J22: =I22*$I$93 -> 0.0016497303 | K22: ='7410 Kab. Buton Utara'!G77 -> 266 | L22: =K22/$K$90 -> 0.034617387 | M22: =L22*$I$94 -> 0.017308693 | N22: ='7410 Kab. Buton Utara'!H77 -> 54.408823 | O22: =N22/$N$90 -> 0.031213554 | P22: =O22*$I$95 -> 0.0046820331 | Q22: ='7410 Kab. Buton Utara'!I77 -> 55.286183 | R22: =Q22/$Q$90 -> 0.015274739 | S22: =R22*$I$96 -> 0.0038186846 | T22: =J22+M22+P22+S22 -> 0.027459141 | U22: =FORMULASI!U22 -> 53706000 | V22: =FORMULASI!V22 -> 539499000 | W22: =3000000*12 -> 36000000 | X22: =2225000*12 -> 26700000 | Y22: =((2023000*6)+(2023000*2))*12 -> 194208000 | Z22: =((3000000*0.54%)+(2225000*0.54%)+((2023000*0.54%)*8))*12 -> 1387303.2 | AA22: 0 | AB22: =(W22+X22+Y22)*1% -> 2569080 | AC22: =((150000*1)+(100000*9))*12 -> 12600000 | AD22: 49200000 | AE22: =V22*10% -> 53949900 | AF22: 14700000 | AG22: 92000000 | AH22: =V22-(W22+X22+Y22+AA22+AB22+AE22+AF22+AG22+AC22+AD22+Z22) -> 56184717 | AJ22: =(AH22/AN22)*100 -> 10.414239 | AK22: =W22+X22+Y22 -> 256908000 | AL22: =AA22+AB22 -> 2569080 | AM22: =W22+X22+Y22+Z22+AA22+AB22+AC22+AD22+AE22+AF22+AG22+AH22 -> 539499000 | AN22: =V22 -> 539499000 | AO22: =AM22-AN22 -> 0 | AW22: =AY22-AZ22 -> 19.2 | AX22: 12 | AY22: =AX22*AY21 -> 1387303.2 | AZ22: =AX22*AZ21 -> 1387284 | BC22: =BE22-BF22 -> 15.12 | BD22: 12 | BE22: =BE21*BD22 -> 3116175.1 | BF22: =BD22*BF21 -> 3116160
B23: 13 | C23: =FORMULASI!C23 -> Kulisusu | D23: =FORMULASI!D23 -> Lantagi | E23: =FORMULASI!E23 -> 485793000 | F23: ='7410 Kab. Buton Utara (2)'!D79 -> Tertinggal | G23: ='7410 Kab. Buton Utara'!E79 -> 4 | H23: ='7410 Kab. Buton Utara'!F79 -> 362 | I23: =H23/$H$90 -> 0.0075691047 | J23: =I23*$I$93 -> 0.00075691047 | K23: ='7410 Kab. Buton Utara'!G79 -> 86 | L23: =K23/$K$90 -> 0.011192087 | M23: =L23*$I$94 -> 0.0055960437 | N23: ='7410 Kab. Buton Utara'!H79 -> 10.86698 | O23: =N23/$N$90 -> 0.006234229 | P23: =O23*$I$95 -> 0.00093513436 | Q23: ='7410 Kab. Buton Utara'!I79 -> 40.356338 | R23: =Q23/$Q$90 -> 0.011149848 | S23: =R23*$I$96 -> 0.0027874619 | T23: =J23+M23+P23+S23 -> 0.01007555 | U23: =FORMULASI!U23 -> 85847000 | V23: =FORMULASI!V23 -> 571640000 | W23: =3000000*12 -> 36000000 | X23: =2225000*12 -> 26700000 | Y23: =((2023000*6)+(2023000*2))*12 -> 194208000 | Z23: =((3000000*0.54%)+(2225000*0.54%)+((2023000*0.54%)*8))*12 -> 1387303.2 | AA23: 0 | AB23: =(W23+X23+Y23)*1% -> 2569080 | AC23: =((150000*1)+(100000*9))*12 -> 12600000 | AD23: 49200000 | AE23: =V23*10% -> 57164000 | AF23: 14700000 | AG23: 92000000 | AH23: =V23-(W23+X23+Y23+AA23+AB23+AE23+AF23+AG23+AC23+AD23+Z23) -> 85111617 | AJ23: =(AH23/AN23)*100 -> 14.889024 | AK23: =W23+X23+Y23 -> 256908000 | AL23: =AA23+AB23 -> 2569080 | AM23: =W23+X23+Y23+Z23+AA23+AB23+AC23+AD23+AE23+AF23+AG23+AH23 -> 571640000 | AN23: =V23 -> 571640000 | AO23: =AM23-AN23 -> 0 | AW23: =AY23-AZ23 -> 1497.6 | AX23: 78 | AY23: =AX23*AY22 -> 1.0820965e+08 | AZ23: =AZ22*AX23 -> 108208152 | BC23: =BE23-BF23 -> 1179.36 | BD23: 78 | BE23: =BE22*BD23 -> 2.4306166e+08 | BF23: =BF22*BD23 -> 243060480
B24: 14 | C24: =FORMULASI!C24 -> Kulisusu | D24: =FORMULASI!D24 -> Laangke | E24: =FORMULASI!E24 -> 485793000 | F24: ='7410 Kab. Buton Utara (2)'!D3 -> Tertinggal | G24: ='7410 Kab. Buton Utara'!E3 -> 5 | H24: ='7410 Kab. Buton Utara'!F3 -> 396 | I24: =H24/$H$90 -> 0.0082800151 | J24: =I24*$I$93 -> 0.00082800151 | K24: ='7410 Kab. Buton Utara'!G3 -> 107 | L24: =K24/$K$90 -> 0.013925039 | M24: =L24*$I$94 -> 0.0069625195 | N24: ='7410 Kab. Buton Utara'!H3 -> 9.108944 | O24: =N24/$N$90 -> 0.0052256693 | P24: =O24*$I$95 -> 0.00078385039 | Q24: ='7410 Kab. Buton Utara'!I3 -> 55.21822 | R24: =Q24/$Q$90 -> 0.015255961 | S24: =R24*$I$96 -> 0.0038139903 | T24: =J24+M24+P24+S24 -> 0.012388362 | U24: =FORMULASI!U24 -> 52972000 | V24: =FORMULASI!V24 -> 538765000 | W24: =3000000*12 -> 36000000 | X24: =2225000*12 -> 26700000 | Y24: =((2023000*6)+(2023000*2))*12 -> 194208000 | Z24: =((3000000*0.54%)+(2225000*0.54%)+((2023000*0.54%)*8))*12 -> 1387303.2 | AA24: 0 | AB24: =(W24+X24+Y24)*1% -> 2569080 | AC24: =((150000*1)+(100000*9))*12 -> 12600000 | AD24: 49200000 | AE24: =V24*10% -> 53876500 | AF24: 14700000 | AG24: 92000000 | AH24: =V24-(W24+X24+Y24+AA24+AB24+AE24+AF24+AG24+AC24+AD24+Z24) -> 55524117 | AJ24: =(AH24/AN24)*100 -> 10.305814 | AK24: =W24+X24+Y24 -> 256908000 | AL24: =AA24+AB24 -> 2569080 | AM24: =W24+X24+Y24+Z24+AA24+AB24+AC24+AD24+AE24+AF24+AG24+AH24 -> 538765000 | AN24: =V24 -> 538765000 | AO24: =AM24-AN24 -> 0
B25: 15 | C25: =FORMULASI!C25 -> Kulisusu | D25: =FORMULASI!D25 -> Kadacua | E25: =FORMULASI!E25 -> 485793000 | F25: ='7410 Kab. Buton Utara (2)'!D5 -> Tertinggal | G25: ='7410 Kab. Buton Utara'!E5 -> 6 | H25: ='7410 Kab. Buton Utara'!F5 -> 913 | I25: =H25/$H$90 -> 0.019090035 | J25: =I25*$I$93 -> 0.0019090035 | K25: ='7410 Kab. Buton Utara'!G5 -> 179 | L25: =K25/$K$90 -> 0.023295159 | M25: =L25*$I$94 -> 0.011647579 | N25: ='7410 Kab. Buton Utara'!H5 -> 6.828466 | O25: =N25/$N$90 -> 0.0039173921 | P25: =O25*$I$95 -> 0.00058760881 | Q25: ='7410 Kab. Buton Utara'!I5 -> 32.71669 | R25: =Q25/$Q$90 -> 0.009039128 | S25: =R25*$I$96 -> 0.002259782 | T25: =J25+M25+P25+S25 -> 0.016403974 | U25: =FORMULASI!U25 -> 47269000 | V25: =FORMULASI!V25 -> 533062000 | W25: =3000000*12 -> 36000000 | X25: =2225000*12 -> 26700000 | Y25: =((2023000*6)+(2023000*2))*12 -> 194208000 | Z25: =((3000000*0.54%)+(2225000*0.54%)+((2023000*0.54%)*8))*12 -> 1387303.2 | AA25: 0 | AB25: =(W25+X25+Y25)*1% -> 2569080 | AC25: =((150000*1)+(100000*9))*12 -> 12600000 | AD25: 49200000 | AE25: =V25*10% -> 53306200 | AF25: 14700000 | AG25: 92000000 | AH25: =V25-(W25+X25+Y25+AA25+AB25+AE25+AF25+AG25+AC25+AD25+Z25) -> 50391417 | AJ25: =(AH25/AN25)*100 -> 9.4532 | AK25: =W25+X25+Y25 -> 256908000 | AL25: =AA25+AB25 -> 2569080 | AM25: =W25+X25+Y25+Z25+AA25+AB25+AC25+AD25+AE25+AF25+AG25+AH25 -> 533062000 | AN25: =V25 -> 533062000 | AO25: =AM25-AN25 -> 0
B26: 16 | C26: =FORMULASI!C26 -> Kulisusu | D26: =FORMULASI!D26 -> Banu-Banua Jaya | E26: =FORMULASI!E26 -> 485793000 | F26: ='7410 Kab. Buton Utara (2)'!D6 -> Tertinggal | G26: ='7410 Kab. Buton Utara'!E6 -> 4 | H26: ='7410 Kab. Buton Utara'!F6 -> 569 | I26: =H26/$H$90 -> 0.011897294 | J26: =I26*$I$93 -> 0.0011897294 | K26: ='7410 Kab. Buton Utara'!G6 -> 75 | L26: =K26/$K$90 -> 0.0097605414 | M26: =L26*$I$94 -> 0.0048802707 | N26: ='7410 Kab. Buton Utara'!H6 -> 10.820555 | O26: =N26/$N$90 -> 0.0062075957 | P26: =O26*$I$95 -> 0.00093113935 | Q26: ='7410 Kab. Buton Utara'!I6 -> 33.644462 | R26: =Q26/$Q$90 -> 0.0092954574 | S26: =R26*$I$96 -> 0.0023238644 | T26: =J26+M26+P26+S26 -> 0.0093250038 | U26: =FORMULASI!U26 -> 73835000 | V26: =FORMULASI!V26 -> 559628000 | W26: =3000000*12 -> 36000000 | X26: =2225000*12 -> 26700000 | Y26: =((2023000*6)+(2023000*2))*12 -> 194208000 | Z26: =((3000000*0.54%)+(2225000*0.54%)+((2023000*0.54%)*8))*12 -> 1387303.2 | AA26: 0 | AB26: =(W26+X26+Y26)*1% -> 2569080 | AC26: =((150000*1)+(100000*9))*12 -> 12600000 | AD26: 49200000 | AE26: =V26*10% -> 55962800 | AF26: 14700000 | AG26: 92000000 | AH26: =V26-(W26+X26+Y26+AA26+AB26+AE26+AF26+AG26+AC26+AD26+Z26) -> 74300817 | AJ26: =(AH26/AN26)*100 -> 13.276823 | AK26: =W26+X26+Y26 -> 256908000 | AL26: =AA26+AB26 -> 2569080 | AM26: =W26+X26+Y26+Z26+AA26+AB26+AC26+AD26+AE26+AF26+AG26+AH26 -> 559628000 | AN26: =V26 -> 559628000 | AO26: =AM26-AN26 -> 0
B27: 17 | C27: =FORMULASI!C27 -> Kambowa | D27: =FORMULASI!D27 -> Bubu | E27: =FORMULASI!E27 -> 485793000 | F27: ='7410 Kab. Buton Utara (2)'!D8 -> Tertinggal | G27: ='7410 Kab. Buton Utara'!E8 -> 7 | H27: ='7410 Kab. Buton Utara'!F8 -> 1016 | I27: =H27/$H$90 -> 0.021243675 | J27: =I27*$I$93 -> 0.0021243675 | K27: ='7410 Kab. Buton Utara'!G8 -> 293 | L27: =K27/$K$90 -> 0.038131182 | M27: =L27*$I$94 -> 0.019065591 | N27: ='7410 Kab. Buton Utara'!H8 -> 36.435775 | O27: =N27/$N$90 -> 0.020902676 | P27: =O27*$I$95 -> 0.0031354015 | Q27: ='7410 Kab. Buton Utara'!I8 -> 33.50976 | R27: =Q27/$Q$90 -> 0.0092582413 | S27: =R27*$I$96 -> 0.0023145603 | T27: =J27+M27+P27+S27 -> 0.02663992 | U27: =FORMULASI!U27 -> 75024000 | V27: =FORMULASI!V27 -> 560817000 | W27: =3000000*12 -> 36000000 | X27: =2225000*12 -> 26700000 | Y27: =((2023000*6)+(2023000*2))*12 -> 194208000 | Z27: =((3000000*0.54%)+(2225000*0.54%)+((2023000*0.54%)*8))*12 -> 1387303.2 | AA27: 0 | AB27: =(W27+X27+Y27)*1% -> 2569080 | AC27: =((150000*1)+(100000*9))*12 -> 12600000 | AD27: 49200000 | AE27: =V27*10% -> 56081700 | AF27: 14700000 | AG27: 92000000 | AH27: =V27-(W27+X27+Y27+AA27+AB27+AE27+AF27+AG27+AC27+AD27+Z27) -> 75370917 | AJ27: =(AH27/AN27)*100 -> 13.439485 | AK27: =W27+X27+Y27 -> 256908000 | AL27: =AA27+AB27 -> 2569080 | AM27: =W27+X27+Y27+Z27+AA27+AB27+AC27+AD27+AE27+AF27+AG27+AH27 -> 560817000 | AN27: =V27 -> 560817000 | AO27: =AM27-AN27 -> 0
B28: 18 | C28: =FORMULASI!C28 -> Kambowa | D28: =FORMULASI!D28 -> Lahumoko | E28: =FORMULASI!E28 -> 485793000 | F28: ='7410 Kab. Buton Utara (2)'!D30 -> Tertinggal | G28: ='7410 Kab. Buton Utara'!E30 -> 5 | H28: ='7410 Kab. Buton Utara'!F30 -> 901 | I28: =H28/$H$90 -> 0.018839125 | J28: =I28*$I$93 -> 0.0018839125 | K28: ='7410 Kab. Buton Utara'!G30 -> 141 | L28: =K28/$K$90 -> 0.018349818 | M28: =L28*$I$94 -> 0.0091749089 | N28: ='7410 Kab. Buton Utara'!H30 -> 27.204411 | O28: =N28/$N$90 -> 0.015606777 | P28: =O28*$I$95 -> 0.0023410165 | Q28: ='7410 Kab. Buton Utara'!I30 -> 34.748608 | R28: =Q28/$Q$90 -> 0.0096005163 | S28: =R28*$I$96 -> 0.0024001291 | T28: =J28+M28+P28+S28 -> 0.015799967 | U28: =FORMULASI!U28 -> 58755000 | V28: =FORMULASI!V28 -> 544548000 | W28: =3000000*12 -> 36000000 | X28: =2225000*12 -> 26700000 | Y28: =((2023000*6)+(2023000*2))*12 -> 194208000 | Z28: =((3000000*0.54%)+(2225000*0.54%)+((2023000*0.54%)*8))*12 -> 1387303.2 | AA28: 0 | AB28: =(W28+X28+Y28)*1% -> 2569080 | AC28: =((150000*1)+(100000*9))*12 -> 12600000 | AD28: 49200000 | AE28: =V28*10% -> 54454800 | AF28: 14700000 | AG28: 92000000 | AH28: =V28-(W28+X28+Y28+AA28+AB28+AE28+AF28+AG28+AC28+AD28+Z28) -> 60728817 | AJ28: =(AH28/AN28)*100 -> 11.152151 | AK28: =W28+X28+Y28 -> 256908000 | AL28: =AA28+AB28 -> 2569080 | AM28: =W28+X28+Y28+Z28+AA28+AB28+AC28+AD28+AE28+AF28+AG28+AH28 -> 544548000 | AN28: =V28 -> 544548000 | AO28: =AM28-AN28 -> 0
B29: 19 | C29: =FORMULASI!C29 -> Kambowa | D29: =FORMULASI!D29 -> Morindino | E29: =FORMULASI!E29 -> 485793000 | F29: ='7410 Kab. Buton Utara (2)'!D35 -> Tertinggal | G29: ='7410 Kab. Buton Utara'!E35 -> 3 | H29: ='7410 Kab. Buton Utara'!F35 -> 219 | I29: =H29/$H$90 -> 0.0045790992 | J29: =I29*$I$93 -> 0.00045790992 | K29: ='7410 Kab. Buton Utara'!G35 -> 61 | L29: =K29/$K$90 -> 0.0079385737 | M29: =L29*$I$94 -> 0.0039692868 | N29: ='7410 Kab. Buton Utara'!H35 -> 5.039458 | O29: =N29/$N$90 -> 0.0028910641 | P29: =O29*$I$95 -> 0.00043365961 | Q29: ='7410 Kab. Buton Utara'!I35 -> 63.865944 | R29: =Q29/$Q$90 -> 0.017645197 | S29: =R29*$I$96 -> 0.0044112993 | T29: =J29+M29+P29+S29 -> 0.0092721556 | U29: =FORMULASI!U29 -> 47112000 | V29: =FORMULASI!V29 -> 532905000 | W29: =3000000*12 -> 36000000 | X29: =2225000*12 -> 26700000 | Y29: =((2023000*6)+(2023000*2))*12 -> 194208000 | Z29: =((3000000*0.54%)+(2225000*0.54%)+((2023000*0.54%)*8))*12 -> 1387303.2 | AA29: 0 | AB29: =(W29+X29+Y29)*1% -> 2569080 | AC29: =((150000*1)+(100000*9))*12 -> 12600000 | AD29: 49200000 | AE29: =V29*10% -> 53290500 | AF29: 14700000 | AG29: 92000000 | AH29: =V29-(W29+X29+Y29+AA29+AB29+AE29+AF29+AG29+AC29+AD29+Z29) -> 50250117 | AJ29: =(AH29/AN29)*100 -> 9.4294699 | AK29: =W29+X29+Y29 -> 256908000 | AL29: =AA29+AB29 -> 2569080 | AM29: =W29+X29+Y29+Z29+AA29+AB29+AC29+AD29+AE29+AF29+AG29+AH29 -> 532905000 | AN29: =V29 -> 532905000 | AO29: =AM29-AN29 -> 0
B30: 20 | C30: =FORMULASI!C30 -> Kambowa | D30: =FORMULASI!D30 -> Pongkowulu | E30: =FORMULASI!E30 -> 485793000 | F30: ='7410 Kab. Buton Utara (2)'!D41 -> Tertinggal | G30: ='7410 Kab. Buton Utara'!E41 -> 4 | H30: ='7410 Kab. Buton Utara'!F41 -> 437 | I30: =H30/$H$90 -> 0.0091372893 | J30: =I30*$I$93 -> 0.00091372893 | K30: ='7410 Kab. Buton Utara'!G41 -> 70 | L30: =K30/$K$90 -> 0.0091098386 | M30: =L30*$I$94 -> 0.0045549193 | N30: ='7410 Kab. Buton Utara'!H41 -> 7.213703 | O30: =N30/$N$90 -> 0.0041383969 | P30: =O30*$I$95 -> 0.00062075954 | Q30: ='7410 Kab. Buton Utara'!I41 -> 36.948517 | R30: =Q30/$Q$90 -> 0.010208318 | S30: =R30*$I$96 -> 0.0025520795 | T30: =J30+M30+P30+S30 -> 0.0086414873 | U30: =FORMULASI!U30 -> 116678000 | V30: =FORMULASI!V30 -> 602471000 | W30: =3000000*12 -> 36000000 | X30: =2225000*12 -> 26700000 | Y30: =((2023000*6)+(2023000*2))*12 -> 194208000 | Z30: =((3000000*0.54%)+(2225000*0.54%)+((2023000*0.54%)*8))*12 -> 1387303.2 | AA30: 0 | AB30: =(W30+X30+Y30)*1% -> 2569080 | AC30: =((150000*1)+(100000*9))*12 -> 12600000 | AD30: 49200000 | AE30: =V30*10% -> 60247100 | AF30: 14700000 | AG30: 92000000 | AH30: =V30-(W30+X30+Y30+AA30+AB30+AE30+AF30+AG30+AC30+AD30+Z30) -> 1.1285952e+08 | AJ30: =(AH30/AN30)*100 -> 18.732772 | AK30: =W30+X30+Y30 -> 256908000 | AL30: =AA30+AB30 -> 2569080 | AM30: =W30+X30+Y30+Z30+AA30+AB30+AC30+AD30+AE30+AF30+AG30+AH30 -> 602471000 | AN30: =V30 -> 602471000 | AO30: =AM30-AN30 -> 0
B31: 21 | C31: =FORMULASI!C31 -> Kambowa | D31: =FORMULASI!D31 -> Lagundi | E31: =FORMULASI!E31 -> 485793000 | F31: ='7410 Kab. Buton Utara (2)'!D43 -> Tertinggal | G31: ='7410 Kab. Buton Utara'!E43 -> 2 | H31: ='7410 Kab. Buton Utara'!F43 -> 448 | I31: =H31/$H$90 -> 0.0093672898 | J31: =I31*$I$93 -> 0.00093672898 | K31: ='7410 Kab. Buton Utara'!G43 -> 37 | L31: =K31/$K$90 -> 0.0048152004 | M31: =L31*$I$94 -> 0.0024076002 | N31: ='7410 Kab. Buton Utara'!H43 -> 38.754951 | O31: =N31/$N$90 -> 0.022233154 | P31: =O31*$I$95 -> 0.0033349731 | Q31: ='7410 Kab. Buton Utara'!I43 -> 58.118174 | R31: =Q31/$Q$90 -> 0.016057175 | S31: =R31*$I$96 -> 0.0040142937 | T31: =J31+M31+P31+S31 -> 0.010693596 | U31: =FORMULASI!U31 -> 69586000 | V31: =FORMULASI!V31 -> 555379000 | W31: =3000000*12 -> 36000000 | X31: =2225000*12 -> 26700000 | Y31: =((2023000*6)+(2023000*2))*12 -> 194208000 | Z31: =((3000000*0.54%)+(2225000*0.54%)+((2023000*0.54%)*8))*12 -> 1387303.2 | AA31: 0 | AB31: =(W31+X31+Y31)*1% -> 2569080 | AC31: =((150000*1)+(100000*9))*12 -> 12600000 | AD31: 49200000 | AE31: =V31*10% -> 55537900 | AF31: 14700000 | AG31: 92000000 | AH31: =V31-(W31+X31+Y31+AA31+AB31+AE31+AF31+AG31+AC31+AD31+Z31) -> 70476717 | AJ31: =(AH31/AN31)*100 -> 12.689842 | AK31: =W31+X31+Y31 -> 256908000 | AL31: =AA31+AB31 -> 2569080 | AM31: =W31+X31+Y31+Z31+AA31+AB31+AC31+AD31+AE31+AF31+AG31+AH31 -> 555379000 | AN31: =V31 -> 555379000 | AO31: =AM31-AN31 -> 0
B32: 22 | C32: =FORMULASI!C32 -> Kambowa | D32: =FORMULASI!D32 -> Konde | E32: =FORMULASI!E32 -> 485793000 | F32: ='7410 Kab. Buton Utara (2)'!D62 -> Tertinggal | G32: ='7410 Kab. Buton Utara'!E62 -> 5 | H32: ='7410 Kab. Buton Utara'!F62 -> 621 | I32: =H32/$H$90 -> 0.012984569 | J32: =I32*$I$93 -> 0.0012984569 | K32: ='7410 Kab. Buton Utara'!G62 -> 127 | L32: =K32/$K$90 -> 0.01652785 | M32: =L32*$I$94 -> 0.008263925 | N32: ='7410 Kab. Buton Utara'!H62 -> 17.002757 | O32: =N32/$N$90 -> 0.0097542354 | P32: =O32*$I$95 -> 0.0014631353 | Q32: ='7410 Kab. Buton Utara'!I62 -> 44.714926 | R32: =Q32/$Q$90 -> 0.01235406 | S32: =R32*$I$96 -> 0.0030885149 | T32: =J32+M32+P32+S32 -> 0.014114032 | U32: =FORMULASI!U32 -> 42754000 | V32: =FORMULASI!V32 -> 528547000 | W32: =3000000*12 -> 36000000 | X32: =2225000*12 -> 26700000 | Y32: =((2023000*6)+(2023000*2))*12 -> 194208000 | Z32: =((3000000*0.54%)+(2225000*0.54%)+((2023000*0.54%)*8))*12 -> 1387303.2 | AA32: 0 | AB32: =(W32+X32+Y32)*1% -> 2569080 | AC32: =((150000*1)+(100000*9))*12 -> 12600000 | AD32: 49200000 | AE32: =V32*10% -> 52854700 | AF32: 14700000 | AG32: 92000000 | AH32: =V32-(W32+X32+Y32+AA32+AB32+AE32+AF32+AG32+AC32+AD32+Z32) -> 46327917 | AJ32: =(AH32/AN32)*100 -> 8.7651461 | AK32: =W32+X32+Y32 -> 256908000 | AL32: =AA32+AB32 -> 2569080 | AM32: =W32+X32+Y32+Z32+AA32+AB32+AC32+AD32+AE32+AF32+AG32+AH32 -> 528547000 | AN32: =V32 -> 528547000 | AO32: =AM32-AN32 -> 0
B33: 23 | C33: =FORMULASI!C33 -> Kambowa | D33: =FORMULASI!D33 -> Mata | E33: =FORMULASI!E33 -> 485793000 | F33: ='7410 Kab. Buton Utara (2)'!D65 -> Tertinggal | G33: ='7410 Kab. Buton Utara'!E65 -> 4 | H33: ='7410 Kab. Buton Utara'!F65 -> 661 | I33: =H33/$H$90 -> 0.013820934 | J33: =I33*$I$93 -> 0.0013820934 | K33: ='7410 Kab. Buton Utara'!G65 -> 72 | L33: =K33/$K$90 -> 0.0093701197 | M33: =L33*$I$94 -> 0.0046850599 | N33: ='7410 Kab. Buton Utara'!H65 -> 18.136274 | O33: =N33/$N$90 -> 0.010404518 | P33: =O33*$I$95 -> 0.0015606777 | Q33: ='7410 Kab. Buton Utara'!I65 -> 36.064888 | R33: =Q33/$Q$90 -> 0.0099641846 | S33: =R33*$I$96 -> 0.0024910462 | T33: =J33+M33+P33+S33 -> 0.010118877 | U33: =FORMULASI!U33 -> 51341000 | V33: =FORMULASI!V33 -> 537134000 | W33: =3000000*12 -> 36000000 | X33: =2225000*12 -> 26700000 | Y33: =((2023000*6)+(2023000*2))*12 -> 194208000 | Z33: =((3000000*0.54%)+(2225000*0.54%)+((2023000*0.54%)*8))*12 -> 1387303.2 | AA33: 0 | AB33: =(W33+X33+Y33)*1% -> 2569080 | AC33: =((150000*1)+(100000*9))*12 -> 12600000 | AD33: 49200000 | AE33: =V33*10% -> 53713400 | AF33: 14700000 | AG33: 92000000 | AH33: =V33-(W33+X33+Y33+AA33+AB33+AE33+AF33+AG33+AC33+AD33+Z33) -> 54056217 | AJ33: =(AH33/AN33)*100 -> 10.063823 | AK33: =W33+X33+Y33 -> 256908000 | AL33: =AA33+AB33 -> 2569080 | AM33: =W33+X33+Y33+Z33+AA33+AB33+AC33+AD33+AE33+AF33+AG33+AH33 -> 537134000 | AN33: =V33 -> 537134000 | AO33: =AM33-AN33 -> 0
B34: 24 | C34: =FORMULASI!C34 -> Kambowa | D34: =FORMULASI!D34 -> Bubu Barat | E34: =FORMULASI!E34 -> 485793000 | F34: ='7410 Kab. Buton Utara (2)'!D9 -> Tertinggal | G34: ='7410 Kab. Buton Utara'!E9 -> 4 | H34: ='7410 Kab. Buton Utara'!F9 -> 955 | I34: =H34/$H$90 -> 0.019968218 | J34: =I34*$I$93 -> 0.0019968218 | K34: ='7410 Kab. Buton Utara'!G9 -> 82 | L34: =K34/$K$90 -> 0.010671525 | M34: =L34*$I$94 -> 0.0053357626 | N34: ='7410 Kab. Buton Utara'!H9 -> 43.266349 | O34: =N34/$N$90 -> 0.024821278 | P34: =O34*$I$95 -> 0.0037231917 | Q34: ='7410 Kab. Buton Utara'!I9 -> 41.039921 | R34: =Q34/$Q$90 -> 0.011338711 | S34: =R34*$I$96 -> 0.0028346778 | T34: =J34+M34+P34+S34 -> 0.013890454 | U34: =FORMULASI!U34 -> 40057000 | V34: =FORMULASI!V34 -> 525850000 | W34: =3000000*12 -> 36000000 | X34: =2225000*12 -> 26700000 | Y34: =((2023000*6)+(2023000*2))*12 -> 194208000 | Z34: =((3000000*0.54%)+(2225000*0.54%)+((2023000*0.54%)*8))*12 -> 1387303.2 | AA34: 0 | AB34: =(W34+X34+Y34)*1% -> 2569080 | AC34: =((150000*1)+(100000*9))*12 -> 12600000 | AD34: 49200000 | AE34: =V34*10% -> 52585000 | AF34: 14700000 | AG34: 92000000 | AH34: =V34-(W34+X34+Y34+AA34+AB34+AE34+AF34+AG34+AC34+AD34+Z34) -> 43900617 | AJ34: =(AH34/AN34)*100 -> 8.3485056 | AK34: =W34+X34+Y34 -> 256908000 | AL34: =AA34+AB34 -> 2569080 | AM34: =W34+X34+Y34+Z34+AA34+AB34+AC34+AD34+AE34+AF34+AG34+AH34 -> 525850000 | AN34: =V34 -> 525850000 | AO34: =AM34-AN34 -> 0
B35: 25 | C35: =FORMULASI!C35 -> Kambowa | D35: =FORMULASI!D35 -> Bente | E35: =FORMULASI!E35 -> 485793000 | F35: ='7410 Kab. Buton Utara (2)'!D11 -> Tertinggal | G35: ='7410 Kab. Buton Utara'!E11 -> 6 | H35: ='7410 Kab. Buton Utara'!F11 -> 1034 | I35: =H35/$H$90 -> 0.021620039 | J35: =I35*$I$93 -> 0.0021620039 | K35: ='7410 Kab. Buton Utara'!G11 -> 155 | L35: =K35/$K$90 -> 0.020171786 | M35: =L35*$I$94 -> 0.010085893 | N35: ='7410 Kab. Buton Utara'!H11 -> 0.952154 | O35: =N35/$N$90 -> 0.00054623696 | P35: =O35*$I$95 -> 8.1935544e-05 | Q35: ='7410 Kab. Buton Utara'!I11 -> 45.55587 | R35: =Q35/$Q$90 -> 0.0125864 | S35: =R35*$I$96 -> 0.0031466 | T35: =J35+M35+P35+S35 -> 0.015476432 | U35: =FORMULASI!U35 -> 36734000 | V35: =FORMULASI!V35 -> 522527000 | W35: =3000000*12 -> 36000000 | X35: =2225000*12 -> 26700000 | Y35: =((2023000*6)+(2023000*2))*12 -> 194208000 | Z35: =((3000000*0.54%)+(2225000*0.54%)+((2023000*0.54%)*8))*12 -> 1387303.2 | AA35: 0 | AB35: =(W35+X35+Y35)*1% -> 2569080 | AC35: =((150000*1)+(100000*9))*12 -> 12600000 | AD35: 49200000 | AE35: =V35*10% -> 52252700 | AF35: 14700000 | AG35: 92000000 | AH35: =V35-(W35+X35+Y35+AA35+AB35+AE35+AF35+AG35+AC35+AD35+Z35) -> 40909917 | AJ35: =(AH35/AN35)*100 -> 7.8292446 | AK35: =W35+X35+Y35 -> 256908000 | AL35: =AA35+AB35 -> 2569080 | AM35: =W35+X35+Y35+Z35+AA35+AB35+AC35+AD35+AE35+AF35+AG35+AH35 -> 522527000 | AN35: =V35 -> 522527000 | AO35: =AM35-AN35 -> 0
B36: 26 | C36: =FORMULASI!C36 -> Kambowa | D36: =FORMULASI!D36 -> Baluara | E36: =FORMULASI!E36 -> 485793000 | F36: ='7410 Kab. Buton Utara (2)'!D14 -> Tertinggal | G36: ='7410 Kab. Buton Utara'!E14 -> 4 | H36: ='7410 Kab. Buton Utara'!F14 -> 1169 | I36: =H36/$H$90 -> 0.024442772 | J36: =I36*$I$93 -> 0.0024442772 | K36: ='7410 Kab. Buton Utara'!G14 -> 81 | L36: =K36/$K$90 -> 0.010541385 | M36: =L36*$I$94 -> 0.0052706923 | N36: ='7410 Kab. Buton Utara'!H14 -> 1.616592 | O36: =N36/$N$90 -> 0.00092741542 | P36: =O36*$I$95 -> 0.00013911231 | Q36: ='7410 Kab. Buton Utara'!I14 -> 58.791934 | R36: =Q36/$Q$90 -> 0.016243325 | S36: =R36*$I$96 -> 0.0040608312 | T36: =J36+M36+P36+S36 -> 0.011914913 | U36: =FORMULASI!U36 -> 55084000 | V36: =FORMULASI!V36 -> 540877000 | W36: =3000000*12 -> 36000000 | X36: =2225000*12 -> 26700000 | Y36: =((2023000*6)+(2023000*2))*12 -> 194208000 | Z36: =((3000000*0.54%)+(2225000*0.54%)+((2023000*0.54%)*8))*12 -> 1387303.2 | AA36: 0 | AB36: =(W36+X36+Y36)*1% -> 2569080 | AC36: =((150000*1)+(100000*9))*12 -> 12600000 | AD36: 49200000 | AE36: =V36*10% -> 54087700 | AF36: 14700000 | AG36: 92000000 | AH36: =V36-(W36+X36+Y36+AA36+AB36+AE36+AF36+AG36+AC36+AD36+Z36) -> 57424917 | AJ36: =(AH36/AN36)*100 -> 10.617001 | AK36: =W36+X36+Y36 -> 256908000 | AL36: =AA36+AB36 -> 2569080 | AM36: =W36+X36+Y36+Z36+AA36+AB36+AC36+AD36+AE36+AF36+AG36+AH36 -> 540877000 | AN36: =V36 -> 540877000 | AO36: =AM36-AN36 -> 0
B37: 27 | C37: =FORMULASI!C37 -> Bonegunu | D37: =FORMULASI!D37 -> Gunung Sari | E37: =FORMULASI!E37 -> 485793000 | F37: ='7410 Kab. Buton Utara (2)'!D16 -> Berkembang | G37: ='7410 Kab. Buton Utara'!E16 -> 5 | H37: ='7410 Kab. Buton Utara'!F16 -> 971 | I37: =H37/$H$90 -> 0.020302764 | J37: =I37*$I$93 -> 0.0020302764 | K37: ='7410 Kab. Buton Utara'!G16 -> 123 | L37: =K37/$K$90 -> 0.016007288 | M37: =L37*$I$94 -> 0.0080036439 | N37: ='7410 Kab. Buton Utara'!H16 -> 7.651241 | O37: =N37/$N$90 -> 0.0043894062 | P37: =O37*$I$95 -> 0.00065841092 | Q37: ='7410 Kab. Buton Utara'!I16 -> 32.990375 | R37: =Q37/$Q$90 -> 0.009114743 | S37: =R37*$I$96 -> 0.0022786858 | T37: =J37+M37+P37+S37 -> 0.012971017 | U37: =FORMULASI!U37 -> 47697000 | V37: =FORMULASI!V37 -> 533490000 | W37: =3000000*12 -> 36000000 | X37: =2225000*12 -> 26700000 | Y37: =((2023000*6)+(2023000*2))*12 -> 194208000 | Z37: =((3000000*0.54%)+(2225000*0.54%)+((2023000*0.54%)*8))*12 -> 1387303.2 | AA37: 0 | AB37: =(W37+X37+Y37)*1% -> 2569080 | AC37: =((150000*1)+(100000*9))*12 -> 12600000 | AD37: 49200000 | AE37: =V37*10% -> 53349000 | AF37: 14700000 | AG37: 92000000 | AH37: =V37-(W37+X37+Y37+AA37+AB37+AE37+AF37+AG37+AC37+AD37+Z37) -> 50776617 | AJ37: =(AH37/AN37)*100 -> 9.5178198 | AK37: =W37+X37+Y37 -> 256908000 | AL37: =AA37+AB37 -> 2569080 | AM37: =W37+X37+Y37+Z37+AA37+AB37+AC37+AD37+AE37+AF37+AG37+AH37 -> 533490000 | AN37: =V37 -> 533490000 | AO37: =AM37-AN37 -> 0
B38: 28 | C38: =FORMULASI!C38 -> Bonegunu | D38: =FORMULASI!D38 -> Ronta | E38: =FORMULASI!E38 -> 485793000 | F38: ='7410 Kab. Buton Utara (2)'!D25 -> Tertinggal | G38: ='7410 Kab. Buton Utara'!E25 -> 5 | H38: ='7410 Kab. Buton Utara'!F25 -> 496 | I38: =H38/$H$90 -> 0.010370928 | J38: =I38*$I$93 -> 0.0010370928 | K38: ='7410 Kab. Buton Utara'!G25 -> 143 | L38: =K38/$K$90 -> 0.018610099 | M38: =L38*$I$94 -> 0.0093050495 | N38: ='7410 Kab. Buton Utara'!H25 -> 54.57885 | O38: =N38/$N$90 -> 0.031311096 | P38: =O38*$I$95 -> 0.0046966644 | Q38: ='7410 Kab. Buton Utara'!I25 -> 64.750073 | R38: =Q38/$Q$90 -> 0.017889469 | S38: =R38*$I$96 -> 0.0044723672 | T38: =J38+M38+P38+S38 -> 0.019511174 | U38: =FORMULASI!U38 -> 30863000 | V38: =FORMULASI!V38 -> 516656000 | W38: =3000000*12 -> 36000000 | X38: =2225000*12 -> 26700000 | Y38: =((2023000*6)+(2023000*2))*12 -> 194208000 | Z38: =((3000000*0.54%)+(2225000*0.54%)+((2023000*0.54%)*8))*12 -> 1387303.2 | AA38: 0 | AB38: =(W38+X38+Y38)*1% -> 2569080 | AC38: =((150000*1)+(100000*9))*12 -> 12600000 | AD38: 49200000 | AE38: =V38*10% -> 51665600 | AF38: 14700000 | AG38: 92000000 | AH38: =V38-(W38+X38+Y38+AA38+AB38+AE38+AF38+AG38+AC38+AD38+Z38) -> 35626017 | AJ38: =(AH38/AN38)*100 -> 6.8955004 | AK38: =W38+X38+Y38 -> 256908000 | AL38: =AA38+AB38 -> 2569080 | AM38: =W38+X38+Y38+Z38+AA38+AB38+AC38+AD38+AE38+AF38+AG38+AH38 -> 516656000 | AN38: =V38 -> 516656000 | AO38: =AM38-AN38 -> 0
B39: 29 | C39: =FORMULASI!C39 -> Bonegunu | D39: =FORMULASI!D39 -> Waode Angkalo | E39: =FORMULASI!E39 -> 485793000 | F39: ='7410 Kab. Buton Utara (2)'!D27 -> Tertinggal | G39: ='7410 Kab. Buton Utara'!E27 -> 6 | H39: ='7410 Kab. Buton Utara'!F27 -> 569 | I39: =H39/$H$90 -> 0.011897294 | J39: =I39*$I$93 -> 0.0011897294 | K39: ='7410 Kab. Buton Utara'!G27 -> 222 | L39: =K39/$K$90 -> 0.028891202 | M39: =L39*$I$94 -> 0.014445601 | N39: ='7410 Kab. Buton Utara'!H27 -> 3.30393 | O39: =N39/$N$90 -> 0.0018954168 | P39: =O39*$I$95 -> 0.00028431252 | Q39: ='7410 Kab. Buton Utara'!I27 -> 35.253539 | R39: =Q39/$Q$90 -> 0.0097400211 | S39: =R39*$I$96 -> 0.0024350053 | T39: =J39+M39+P39+S39 -> 0.018354648 | U39: =FORMULASI!U39 -> 37814000 | V39: =FORMULASI!V39 -> 523607000 | W39: =3000000*12 -> 36000000 | X39: =2225000*12 -> 26700000 | Y39: =((2023000*6)+(2023000*2))*12 -> 194208000 | Z39: =((3000000*0.54%)+(2225000*0.54%)+((2023000*0.54%)*8))*12 -> 1387303.2 | AA39: 0 | AB39: =(W39+X39+Y39)*1% -> 2569080 | AC39: =((150000*1)+(100000*9))*12 -> 12600000 | AD39: 49200000 | AE39: =V39*10% -> 52360700 | AF39: 14700000 | AG39: 92000000 | AH39: =V39-(W39+X39+Y39+AA39+AB39+AE39+AF39+AG39+AC39+AD39+Z39) -> 41881917 | AJ39: =(AH39/AN39)*100 -> 7.9987313 | AK39: =W39+X39+Y39 -> 256908000 | AL39: =AA39+AB39 -> 2569080 | AM39: =W39+X39+Y39+Z39+AA39+AB39+AC39+AD39+AE39+AF39+AG39+AH39 -> 523607000 | AN39: =V39 -> 523607000 | AO39: =AM39-AN39 -> 0
B40: 30 | C40: =FORMULASI!C40 -> Bonegunu | D40: =FORMULASI!D40 -> Langere | E40: =FORMULASI!E40 -> 485793000 | F40: ='7410 Kab. Buton Utara (2)'!D33 -> Tertinggal | G40: ='7410 Kab. Buton Utara'!E33 -> 5 | H40: ='7410 Kab. Buton Utara'!F33 -> 592 | I40: =H40/$H$90 -> 0.012378204 | J40: =I40*$I$93 -> 0.0012378204 | K40: ='7410 Kab. Buton Utara'!G33 -> 111 | L40: =K40/$K$90 -> 0.014445601 | M40: =L40*$I$94 -> 0.0072228006 | N40: ='7410 Kab. Buton Utara'!H33 -> 4.897677 | O40: =N40/$N$90 -> 0.0028097264 | P40: =O40*$I$95 -> 0.00042145895 | Q40: ='7410 Kab. Buton Utara'!I33 -> 32.513989 | R40: =Q40/$Q$90 -> 0.0089831248 | S40: =R40*$I$96 -> 0.0022457812 | T40: =J40+M40+P40+S40 -> 0.011127861 | U40: =FORMULASI!U40 -> 110218000 | V40: =FORMULASI!V40 -> 596011000 | W40: =3000000*12 -> 36000000 | X40: =2225000*12 -> 26700000 | Y40: =((2023000*6)+(2023000*2))*12 -> 194208000 | Z40: =((3000000*0.54%)+(2225000*0.54%)+((2023000*0.54%)*8))*12 -> 1387303.2 | AA40: 0 | AB40: =(W40+X40+Y40)*1% -> 2569080 | AC40: =((150000*1)+(100000*9))*12 -> 12600000 | AD40: 49200000 | AE40: =V40*10% -> 59601100 | AF40: 14700000 | AG40: 92000000 | AH40: =V40-(W40+X40+Y40+AA40+AB40+AE40+AF40+AG40+AC40+AD40+Z40) -> 1.0704552e+08 | AJ40: =(AH40/AN40)*100 -> 17.960326 | AK40: =W40+X40+Y40 -> 256908000 | AL40: =AA40+AB40 -> 2569080 | AM40: =W40+X40+Y40+Z40+AA40+AB40+AC40+AD40+AE40+AF40+AG40+AH40 -> 596011000 | AN40: =V40 -> 596011000 | AO40: =AM40-AN40 -> 0
B41: 31 | C41: =FORMULASI!C41 -> Bonegunu | D41: =FORMULASI!D41 -> Koepisino | E41: =FORMULASI!E41 -> 485793000 | F41: ='7410 Kab. Buton Utara (2)'!D36 -> Tertinggal | G41: ='7410 Kab. Buton Utara'!E36 -> 3 | H41: ='7410 Kab. Buton Utara'!F36 -> 927 | I41: =H41/$H$90 -> 0.019382763 | J41: =I41*$I$93 -> 0.0019382763 | K41: ='7410 Kab. Buton Utara'!G36 -> 65 | L41: =K41/$K$90 -> 0.0084591359 | M41: =L41*$I$94 -> 0.0042295679 | N41: ='7410 Kab. Buton Utara'!H36 -> 32.588618 | O41: =N41/$N$90 -> 0.018695618 | P41: =O41*$I$95 -> 0.0028043427 | Q41: ='7410 Kab. Buton Utara'!I36 -> 24.736322 | R41: =Q41/$Q$90 -> 0.0068342727 | S41: =R41*$I$96 -> 0.0017085682 | T41: =J41+M41+P41+S41 -> 0.010680755 | U41: =FORMULASI!U41 -> 119037000 | V41: =FORMULASI!V41 -> 604830000 | W41: =3000000*12 -> 36000000 | X41: =2225000*12 -> 26700000 | Y41: =((2023000*6)+(2023000*2))*12 -> 194208000 | Z41: =((3000000*0.54%)+(2225000*0.54%)+((2023000*0.54%)*8))*12 -> 1387303.2 | AA41: 0 | AB41: =(W41+X41+Y41)*1% -> 2569080 | AC41: =((150000*1)+(100000*9))*12 -> 12600000 | AD41: 49200000 | AE41: =V41*10% -> 60483000 | AF41: 14700000 | AG41: 92000000 | AH41: =V41-(W41+X41+Y41+AA41+AB41+AE41+AF41+AG41+AC41+AD41+Z41) -> 1.1498262e+08 | AJ41: =(AH41/AN41)*100 -> 19.010733 | AK41: =W41+X41+Y41 -> 256908000 | AL41: =AA41+AB41 -> 2569080 | AM41: =W41+X41+Y41+Z41+AA41+AB41+AC41+AD41+AE41+AF41+AG41+AH41 -> 604830000 | AN41: =V41 -> 604830000 | AO41: =AM41-AN41 -> 0
B42: 32 | C42: =FORMULASI!C42 -> Bonegunu | D42: =FORMULASI!D42 -> Waode Kalowo | E42: =FORMULASI!E42 -> 485793000 | F42: ='7410 Kab. Buton Utara (2)'!D37 -> Tertinggal | G42: ='7410 Kab. Buton Utara'!E37 -> 4 | H42: ='7410 Kab. Buton Utara'!F37 -> 741 | I42: =H42/$H$90 -> 0.015493665 | J42: =I42*$I$93 -> 0.0015493665 | K42: ='7410 Kab. Buton Utara'!G37 -> 88 | L42: =K42/$K$90 -> 0.011452369 | M42: =L42*$I$94 -> 0.0057261843 | N42: ='7410 Kab. Buton Utara'!H37 -> 4.272245 | O42: =N42/$N$90 -> 0.0024509251 | P42: =O42*$I$95 -> 0.00036763876 | Q42: ='7410 Kab. Buton Utara'!I37 -> 49.819509 | R42: =Q42/$Q$90 -> 0.013764379 | S42: =R42*$I$96 -> 0.0034410947 | T42: =J42+M42+P42+S42 -> 0.011084284 | U42: =FORMULASI!U42 -> 85320000 | V42: =FORMULASI!V42 -> 571113000 | W42: =3000000*12 -> 36000000 | X42: =2225000*12 -> 26700000 | Y42: =((2023000*6)+(2023000*2))*12 -> 194208000 | Z42: =((3000000*0.54%)+(2225000*0.54%)+((2023000*0.54%)*8))*12 -> 1387303.2 | AA42: 0 | AB42: =(W42+X42+Y42)*1% -> 2569080 | AC42: =((150000*1)+(100000*9))*12 -> 12600000 | AD42: 49200000 | AE42: =V42*10% -> 57111300 | AF42: 14700000 | AG42: 92000000 | AH42: =V42-(W42+X42+Y42+AA42+AB42+AE42+AF42+AG42+AC42+AD42+Z42) -> 84637317 | AJ42: =(AH42/AN42)*100 -> 14.819715 | AK42: =W42+X42+Y42 -> 256908000 | AL42: =AA42+AB42 -> 2569080 | AM42: =W42+X42+Y42+Z42+AA42+AB42+AC42+AD42+AE42+AF42+AG42+AH42 -> 571113000 | AN42: =V42 -> 571113000 | AO42: =AM42-AN42 -> 0
B43: 33 | C43: =FORMULASI!C43 -> Bonegunu | D43: =FORMULASI!D43 -> Laano Ipi | E43: =FORMULASI!E43 -> 485793000 | F43: ='7410 Kab. Buton Utara (2)'!D45 -> Tertinggal | G43: ='7410 Kab. Buton Utara'!E45 -> 5 | H43: ='7410 Kab. Buton Utara'!F45 -> 588 | I43: =H43/$H$90 -> 0.012294568 | J43: =I43*$I$93 -> 0.0012294568 | K43: ='7410 Kab. Buton Utara'!G45 -> 150 | L43: =K43/$K$90 -> 0.019521083 | M43: =L43*$I$94 -> 0.0097605414 | N43: ='7410 Kab. Buton Utara'!H45 -> 48.027121 | O43: =N43/$N$90 -> 0.027552464 | P43: =O43*$I$95 -> 0.0041328696 | Q43: ='7410 Kab. Buton Utara'!I45 -> 43.902354 | R43: =Q43/$Q$90 -> 0.012129558 | S43: =R43*$I$96 -> 0.0030323896 | T43: =J43+M43+P43+S43 -> 0.018155257 | U43: =FORMULASI!U43 -> 43900000 | V43: =FORMULASI!V43 -> 529693000 | W43: =3000000*12 -> 36000000 | X43: =2225000*12 -> 26700000 | Y43: =((2023000*6)+(2023000*2))*12 -> 194208000 | Z43: =((3000000*0.54%)+(2225000*0.54%)+((2023000*0.54%)*8))*12 -> 1387303.2 | AA43: 0 | AB43: =(W43+X43+Y43)*1% -> 2569080 | AC43: =((150000*1)+(100000*9))*12 -> 12600000 | AD43: 49200000 | AE43: =V43*10% -> 52969300 | AF43: 14700000 | AG43: 92000000 | AH43: =V43-(W43+X43+Y43+AA43+AB43+AE43+AF43+AG43+AC43+AD43+Z43) -> 47359317 | AJ43: =(AH43/AN43)*100 -> 8.9408991 | AK43: =W43+X43+Y43 -> 256908000 | AL43: =AA43+AB43 -> 2569080 | AM43: =W43+X43+Y43+Z43+AA43+AB43+AC43+AD43+AE43+AF43+AG43+AH43 -> 529693000 | AN43: =V43 -> 529693000 | AO43: =AM43-AN43 -> 0
B44: 34 | C44: =FORMULASI!C44 -> Bonegunu | D44: =FORMULASI!D44 -> Eensumala | E44: =FORMULASI!E44 -> 485793000 | F44: ='7410 Kab. Buton Utara (2)'!D51 -> Tertinggal | G44: ='7410 Kab. Buton Utara'!E51 -> 4 | H44: ='7410 Kab. Buton Utara'!F51 -> 665 | I44: =H44/$H$90 -> 0.013904571 | J44: =I44*$I$93 -> 0.0013904571 | K44: ='7410 Kab. Buton Utara'!G51 -> 75 | L44: =K44/$K$90 -> 0.0097605414 | M44: =L44*$I$94 -> 0.0048802707 | N44: ='7410 Kab. Buton Utara'!H51 -> 8.320172 | O44: =N44/$N$90 -> 0.0047731622 | P44: =O44*$I$95 -> 0.00071597433 | Q44: ='7410 Kab. Buton Utara'!I51 -> 48.097519 | R44: =Q44/$Q$90 -> 0.013288619 | S44: =R44*$I$96 -> 0.0033221548 | T44: =J44+M44+P44+S44 -> 0.010308857 | U44: =FORMULASI!U44 -> 37594000 | V44: =FORMULASI!V44 -> 523387000 | W44: =3000000*12 -> 36000000 | X44: =2225000*12 -> 26700000 | Y44: =((2023000*6)+(2023000*2))*12 -> 194208000 | Z44: =((3000000*0.54%)+(2225000*0.54%)+((2023000*0.54%)*8))*12 -> 1387303.2 | AA44: 0 | AB44: =(W44+X44+Y44)*1% -> 2569080 | AC44: =((150000*1)+(100000*9))*12 -> 12600000 | AD44: 49200000 | AE44: =V44*10% -> 52338700 | AF44: 14700000 | AG44: 92000000 | AH44: =V44-(W44+X44+Y44+AA44+AB44+AE44+AF44+AG44+AC44+AD44+Z44) -> 41683917 | AJ44: =(AH44/AN44)*100 -> 7.9642629 | AK44: =W44+X44+Y44 -> 256908000 | AL44: =AA44+AB44 -> 2569080 | AM44: =W44+X44+Y44+Z44+AA44+AB44+AC44+AD44+AE44+AF44+AG44+AH44 -> 523387000 | AN44: =V44 -> 523387000 | AO44: =AM44-AN44 -> 0
B45: 35 | C45: =FORMULASI!C45 -> Bonegunu | D45: =FORMULASI!D45 -> Tatombuli | E45: =FORMULASI!E45 -> 485793000 | F45: ='7410 Kab. Buton Utara (2)'!D52 -> Berkembang | G45: ='7410 Kab. Buton Utara'!E52 -> 5 | H45: ='7410 Kab. Buton Utara'!F52 -> 752 | I45: =H45/$H$90 -> 0.015723665 | J45: =I45*$I$93 -> 0.0015723665 | K45: ='7410 Kab. Buton Utara'!G52 -> 130 | L45: =K45/$K$90 -> 0.016918272 | M45: =L45*$I$94 -> 0.0084591359 | N45: ='7410 Kab. Buton Utara'!H52 -> 1.727284 | O45: =N45/$N$90 -> 0.00099091782 | P45: =O45*$I$95 -> 0.00014863767 | Q45: ='7410 Kab. Buton Utara'!I52 -> 54.308129 | R45: =Q45/$Q$90 -> 0.015004517 | S45: =R45*$I$96 -> 0.0037511292 | T45: =J45+M45+P45+S45 -> 0.013931269 | U45: =FORMULASI!U45 -> 54031000 | V45: =FORMULASI!V45 -> 539824000 | W45: =3000000*12 -> 36000000 | X45: =2225000*12 -> 26700000 | Y45: =((2023000*6)+(2023000*2))*12 -> 194208000 | Z45: =((3000000*0.54%)+(2225000*0.54%)+((2023000*0.54%)*8))*12 -> 1387303.2 | AA45: 0 | AB45: =(W45+X45+Y45)*1% -> 2569080 | AC45: =((150000*1)+(100000*9))*12 -> 12600000 | AD45: 49200000 | AE45: =V45*10% -> 53982400 | AF45: 14700000 | AG45: 92000000 | AH45: =V45-(W45+X45+Y45+AA45+AB45+AE45+AF45+AG45+AC45+AD45+Z45) -> 56477217 | AJ45: =(AH45/AN45)*100 -> 10.462154 | AK45: =W45+X45+Y45 -> 256908000 | AL45: =AA45+AB45 -> 2569080 | AM45: =W45+X45+Y45+Z45+AA45+AB45+AC45+AD45+AE45+AF45+AG45+AH45 -> 539824000 | AN45: =V45 -> 539824000 | AO45: =AM45-AN45 -> 0
B46: 36 | C46: =FORMULASI!C46 -> Bonegunu | D46: =FORMULASI!D46 -> Rante Gola | E46: =FORMULASI!E46 -> 485793000 | F46: ='7410 Kab. Buton Utara (2)'!D55 -> Tertinggal | G46: ='7410 Kab. Buton Utara'!E55 -> 5 | H46: ='7410 Kab. Buton Utara'!F55 -> 686 | I46: =H46/$H$90 -> 0.014343662 | J46: =I46*$I$93 -> 0.0014343662 | K46: ='7410 Kab. Buton Utara'!G55 -> 113 | L46: =K46/$K$90 -> 0.014705882 | M46: =L46*$I$94 -> 0.0073529412 | N46: ='7410 Kab. Buton Utara'!H55 -> 1.585844 | O46: =N46/$N$90 -> 0.00090977574 | P46: =O46*$I$95 -> 0.00013646636 | Q46: ='7410 Kab. Buton Utara'!I55 -> 45.360873 | R46: =Q46/$Q$90 -> 0.012532525 | S46: =R46*$I$96 -> 0.0031331313 | T46: =J46+M46+P46+S46 -> 0.012056905 | U46: =FORMULASI!U46 -> 53596000 | V46: =FORMULASI!V46 -> 539389000 | W46: =3000000*12 -> 36000000 | X46: =2225000*12 -> 26700000 | Y46: =((2023000*6)+(2023000*2))*12 -> 194208000 | Z46: =((3000000*0.54%)+(2225000*0.54%)+((2023000*0.54%)*8))*12 -> 1387303.2 | AA46: 0 | AB46: =(W46+X46+Y46)*1% -> 2569080 | AC46: =((150000*1)+(100000*9))*12 -> 12600000 | AD46: 49200000 | AE46: =V46*10% -> 53938900 | AF46: 14700000 | AG46: 92000000 | AH46: =V46-(W46+X46+Y46+AA46+AB46+AE46+AF46+AG46+AC46+AD46+Z46) -> 56085717 | AJ46: =(AH46/AN46)*100 -> 10.398009 | AK46: =W46+X46+Y46 -> 256908000 | AL46: =AA46+AB46 -> 2569080 | AM46: =W46+X46+Y46+Z46+AA46+AB46+AC46+AD46+AE46+AF46+AG46+AH46 -> 539389000 | AN46: =V46 -> 539389000 | AO46: =AM46-AN46 -> 0
B47: 37 | C47: =FORMULASI!C47 -> Bonegunu | D47: =FORMULASI!D47 -> Ngapa'ea | E47: =FORMULASI!E47 -> 485793000 | F47: ='7410 Kab. Buton Utara (2)'!D64 -> Tertinggal | G47: ='7410 Kab. Buton Utara'!E64 -> 6 | H47: ='7410 Kab. Buton Utara'!F64 -> 891 | I47: =H47/$H$90 -> 0.018630034 | J47: =I47*$I$93 -> 0.0018630034 | K47: ='7410 Kab. Buton Utara'!G64 -> 202 | L47: =K47/$K$90 -> 0.026288391 | M47: =L47*$I$94 -> 0.013144196 | N47: ='7410 Kab. Buton Utara'!H64 -> 0.140733 | O47: =N47/$N$90 -> 8.0736484e-05 | P47: =O47*$I$95 -> 1.2110473e-05 | Q47: ='7410 Kab. Buton Utara'!I64 -> 53.039948 | R47: =Q47/$Q$90 -> 0.014654138 | S47: =R47*$I$96 -> 0.0036635344 | T47: =J47+M47+P47+S47 -> 0.018682844 | U47: =FORMULASI!U47 -> 78597000 | V47: =FORMULASI!V47 -> 564390000 | W47: =3000000*12 -> 36000000 | X47: =2225000*12 -> 26700000 | Y47: =((2023000*6)+(2023000*2))*12 -> 194208000 | Z47: =((3000000*0.54%)+(2225000*0.54%)+((2023000*0.54%)*8))*12 -> 1387303.2 | AA47: 0 | AB47: =(W47+X47+Y47)*1% -> 2569080 | AC47: =((150000*1)+(100000*9))*12 -> 12600000 | AD47: 49200000 | AE47: =V47*10% -> 56439000 | AF47: 14700000 | AG47: 92000000 | AH47: =V47-(W47+X47+Y47+AA47+AB47+AE47+AF47+AG47+AC47+AD47+Z47) -> 78586617 | AJ47: =(AH47/AN47)*100 -> 13.924169 | AK47: =W47+X47+Y47 -> 256908000 | AL47: =AA47+AB47 -> 2569080 | AM47: =W47+X47+Y47+Z47+AA47+AB47+AC47+AD47+AE47+AF47+AG47+AH47 -> 564390000 | AN47: =V47 -> 564390000 | AO47: =AM47-AN47 -> 0
B48: 38 | C48: =FORMULASI!C48 -> Bonegunu | D48: =FORMULASI!D48 -> Koboruno | E48: =FORMULASI!E48 -> 485793000 | F48: ='7410 Kab. Buton Utara (2)'!D66 -> Tertinggal | G48: ='7410 Kab. Buton Utara'!E66 -> 3 | H48: ='7410 Kab. Buton Utara'!F66 -> 487 | I48: =H48/$H$90 -> 0.010182746 | J48: =I48*$I$93 -> 0.0010182746 | K48: ='7410 Kab. Buton Utara'!G66 -> 53 | L48: =K48/$K$90 -> 0.0068974492 | M48: =L48*$I$94 -> 0.0034487246 | N48: ='7410 Kab. Buton Utara'!H66 -> 55.655691 | O48: =N48/$N$90 -> 0.031928864 | P48: =O48*$I$95 -> 0.0047893296 | Q48: ='7410 Kab. Buton Utara'!I66 -> 57.034161 | R48: =Q48/$Q$90 -> 0.015757678 | S48: =R48*$I$96 -> 0.0039394196 | T48: =J48+M48+P48+S48 -> 0.013195748 | U48: =FORMULASI!U48 -> 29670000 | V48: =FORMULASI!V48 -> 515463000 | W48: =3000000*12 -> 36000000 | X48: =2225000*12 -> 26700000 | Y48: =((2023000*6)+(2023000*2))*12 -> 194208000 | Z48: =((3000000*0.54%)+(2225000*0.54%)+((2023000*0.54%)*8))*12 -> 1387303.2 | AA48: 0 | AB48: =(W48+X48+Y48)*1% -> 2569080 | AC48: =((150000*1)+(100000*9))*12 -> 12600000 | AD48: 49200000 | AE48: =V48*10% -> 51546300 | AF48: 14700000 | AG48: 92000000 | AH48: =V48-(W48+X48+Y48+AA48+AB48+AE48+AF48+AG48+AC48+AD48+Z48) -> 34552317 | AJ48: =(AH48/AN48)*100 -> 6.7031614 | AK48: =W48+X48+Y48 -> 256908000 | AL48: =AA48+AB48 -> 2569080 | AM48: =W48+X48+Y48+Z48+AA48+AB48+AC48+AD48+AE48+AF48+AG48+AH48 -> 515463000 | AN48: =V48 -> 515463000 | AO48: =AM48-AN48 -> 0
B49: 39 | C49: =FORMULASI!C49 -> Bonegunu | D49: =FORMULASI!D49 -> Damai Laborona | E49: =FORMULASI!E49 -> 485793000 | F49: ='7410 Kab. Buton Utara (2)'!D78 -> Tertinggal | G49: ='7410 Kab. Buton Utara'!E78 -> 3 | H49: ='7410 Kab. Buton Utara'!F78 -> 836 | I49: =H49/$H$90 -> 0.017480032 | J49: =I49*$I$93 -> 0.0017480032 | K49: ='7410 Kab. Buton Utara'!G78 -> 61 | L49: =K49/$K$90 -> 0.0079385737 | M49: =L49*$I$94 -> 0.0039692868 | N49: ='7410 Kab. Buton Utara'!H78 -> 34.572273 | O49: =N49/$N$90 -> 0.019833612 | P49: =O49*$I$95 -> 0.0029750418 | Q49: ='7410 Kab. Buton Utara'!I78 -> 54.743633 | R49: =Q49/$Q$90 -> 0.01512484 | S49: =R49*$I$96 -> 0.00378121 | T49: =J49+M49+P49+S49 -> 0.012473542 | U49: =FORMULASI!U49 -> 83241000 | V49: =FORMULASI!V49 -> 569034000 | W49: =3000000*12 -> 36000000 | X49: =2225000*12 -> 26700000 | Y49: =((2023000*6)+(2023000*2))*12 -> 194208000 | Z49: =((3000000*0.54%)+(2225000*0.54%)+((2023000*0.54%)*8))*12 -> 1387303.2 | AA49: 0 | AB49: =(W49+X49+Y49)*1% -> 2569080 | AC49: =((150000*1)+(100000*9))*12 -> 12600000 | AD49: 49200000 | AE49: =V49*10% -> 56903400 | AF49: 14700000 | AG49: 92000000 | AH49: =V49-(W49+X49+Y49+AA49+AB49+AE49+AF49+AG49+AC49+AD49+Z49) -> 82766217 | AJ49: =(AH49/AN49)*100 -> 14.545039 | AK49: =W49+X49+Y49 -> 256908000 | AL49: =AA49+AB49 -> 2569080 | AM49: =W49+X49+Y49+Z49+AA49+AB49+AC49+AD49+AE49+AF49+AG49+AH49 -> 569034000 | AN49: =V49 -> 569034000 | AO49: =AM49-AN49 -> 0
B50: 40 | C50: =FORMULASI!C50 -> Kulisusu Barat | D50: =FORMULASI!D50 -> Kotawo | E50: =FORMULASI!E50 -> 485793000 | F50: ='7410 Kab. Buton Utara (2)'!D7 -> Tertinggal | G50: ='7410 Kab. Buton Utara'!E7 -> 4 | H50: ='7410 Kab. Buton Utara'!F7 -> 357 | I50: =H50/$H$90 -> 0.007464559 | J50: =I50*$I$93 -> 0.0007464559 | K50: ='7410 Kab. Buton Utara'!G7 -> 81 | L50: =K50/$K$90 -> 0.010541385 | M50: =L50*$I$94 -> 0.0052706923 | N50: ='7410 Kab. Buton Utara'!H7 -> 19.923742 | O50: =N50/$N$90 -> 0.011429962 | P50: =O50*$I$95 -> 0.0017144943 | Q50: ='7410 Kab. Buton Utara'!I7 -> 48.151473 | R50: =Q50/$Q$90 -> 0.013303526 | S50: =R50*$I$96 -> 0.0033258814 | T50: =J50+M50+P50+S50 -> 0.011057524 | U50: =FORMULASI!U50 -> 55558000 | V50: =FORMULASI!V50 -> 541351000 | W50: =3000000*12 -> 36000000 | X50: =2225000*12 -> 26700000 | Y50: =((2023000*6)+(2023000*2))*12 -> 194208000 | Z50: =((3000000*0.54%)+(2225000*0.54%)+((2023000*0.54%)*8))*12 -> 1387303.2 | AA50: 0 | AB50: =(W50+X50+Y50)*1% -> 2569080 | AC50: =((150000*1)+(100000*9))*12 -> 12600000 | AD50: 49200000 | AE50: =V50*10% -> 54135100 | AF50: 14700000 | AG50: 92000000 | AH50: =V50-(W50+X50+Y50+AA50+AB50+AE50+AF50+AG50+AC50+AD50+Z50) -> 57851517 | AJ50: =(AH50/AN50)*100 -> 10.686508 | AK50: =W50+X50+Y50 -> 256908000 | AL50: =AA50+AB50 -> 2569080 | AM50: =W50+X50+Y50+Z50+AA50+AB50+AC50+AD50+AE50+AF50+AG50+AH50 -> 541351000 | AN50: =V50 -> 541351000 | AO50: =AM50-AN50 -> 0
B51: 41 | C51: =FORMULASI!C51 -> Kulisusu Barat | D51: =FORMULASI!D51 -> Karya Bhakti | E51: =FORMULASI!E51 -> 485793000 | F51: ='7410 Kab. Buton Utara (2)'!D22 -> Tertinggal | G51: ='7410 Kab. Buton Utara'!E22 -> 6 | H51: ='7410 Kab. Buton Utara'!F22 -> 582 | I51: =H51/$H$90 -> 0.012169113 | J51: =I51*$I$93 -> 0.0012169113 | K51: ='7410 Kab. Buton Utara'!G22 -> 156 | L51: =K51/$K$90 -> 0.020301926 | M51: =L51*$I$94 -> 0.010150963 | N51: ='7410 Kab. Buton Utara'!H22 -> 10.405687 | O51: =N51/$N$90 -> 0.0059695919 | P51: =O51*$I$95 -> 0.00089543879 | Q51: ='7410 Kab. Buton Utara'!I22 -> 40.765119 | R51: =Q51/$Q$90 -> 0.011262788 | S51: =R51*$I$96 -> 0.0028156969 | T51: =J51+M51+P51+S51 -> 0.01507901 | U51: =FORMULASI!U51 -> 33475000 | V51: =FORMULASI!V51 -> 519268000 | W51: =3000000*12 -> 36000000 | X51: =2225000*12 -> 26700000 | Y51: =((2023000*6)+(2023000*2))*12 -> 194208000 | Z51: =((3000000*0.54%)+(2225000*0.54%)+((2023000*0.54%)*8))*12 -> 1387303.2 | AA51: 0 | AB51: =(W51+X51+Y51)*1% -> 2569080 | AC51: =((150000*1)+(100000*9))*12 -> 12600000 | AD51: 49200000 | AE51: =V51*10% -> 51926800 | AF51: 14700000 | AG51: 92000000 | AH51: =V51-(W51+X51+Y51+AA51+AB51+AE51+AF51+AG51+AC51+AD51+Z51) -> 37976817 | AJ51: =(AH51/AN51)*100 -> 7.3135292 | AK51: =W51+X51+Y51 -> 256908000 | AL51: =AA51+AB51 -> 2569080 | AM51: =W51+X51+Y51+Z51+AA51+AB51+AC51+AD51+AE51+AF51+AG51+AH51 -> 519268000 | AN51: =V51 -> 519268000 | AO51: =AM51-AN51 -> 0
B52: 42 | C52: =FORMULASI!C52 -> Kulisusu Barat | D52: =FORMULASI!D52 -> Marga Karya | E52: =FORMULASI!E52 -> 485793000 | F52: ='7410 Kab. Buton Utara (2)'!D23 -> Tertinggal | G52: ='7410 Kab. Buton Utara'!E23 -> 3 | H52: ='7410 Kab. Buton Utara'!F23 -> 573 | I52: =H52/$H$90 -> 0.011980931 | J52: =I52*$I$93 -> 0.0011980931 | K52: ='7410 Kab. Buton Utara'!G23 -> 55 | L52: =K52/$K$90 -> 0.0071577303 | M52: =L52*$I$94 -> 0.0035788652 | N52: ='7410 Kab. Buton Utara'!H23 -> 66.039156 | O52: =N52/$N$90 -> 0.037885707 | P52: =O52*$I$95 -> 0.0056828561 | Q52: ='7410 Kab. Buton Utara'!I23 -> 34.806059 | R52: =Q52/$Q$90 -> 0.0096163892 | S52: =R52*$I$96 -> 0.0024040973 | T52: =J52+M52+P52+S52 -> 0.012863912 | U52: =FORMULASI!U52 -> 27569000 | V52: =FORMULASI!V52 -> 513362000 | W52: =3000000*12 -> 36000000 | X52: =2225000*12 -> 26700000 | Y52: =((2023000*6)+(2023000*2))*12 -> 194208000 | Z52: =((3000000*0.54%)+(2225000*0.54%)+((2023000*0.54%)*8))*12 -> 1387303.2 | AA52: 0 | AB52: =(W52+X52+Y52)*1% -> 2569080 | AC52: =((150000*1)+(100000*9))*12 -> 12600000 | AD52: 49200000 | AE52: =V52*10% -> 51336200 | AF52: 14700000 | AG52: 92000000 | AH52: =V52-(W52+X52+Y52+AA52+AB52+AE52+AF52+AG52+AC52+AD52+Z52) -> 32661417 | AJ52: =(AH52/AN52)*100 -> 6.3622584 | AK52: =W52+X52+Y52 -> 256908000 | AL52: =AA52+AB52 -> 2569080 | AM52: =W52+X52+Y52+Z52+AA52+AB52+AC52+AD52+AE52+AF52+AG52+AH52 -> 513362000 | AN52: =V52 -> 513362000 | AO52: =AM52-AN52 -> 0
B53: 43 | C53: =FORMULASI!C53 -> Kulisusu Barat | D53: =FORMULASI!D53 -> Kasulatombi | E53: =FORMULASI!E53 -> 485793000 | F53: ='7410 Kab. Buton Utara (2)'!D29 -> Tertinggal | G53: ='7410 Kab. Buton Utara'!E29 -> 5 | H53: ='7410 Kab. Buton Utara'!F29 -> 745 | I53: =H53/$H$90 -> 0.015577301 | J53: =I53*$I$93 -> 0.0015577301 | K53: ='7410 Kab. Buton Utara'!G29 -> 148 | L53: =K53/$K$90 -> 0.019260802 | M53: =L53*$I$94 -> 0.0096304008 | N53: ='7410 Kab. Buton Utara'!H29 -> 1.807888 | O53: =N53/$N$90 -> 0.0010371592 | P53: =O53*$I$95 -> 0.00015557387 | Q53: ='7410 Kab. Buton Utara'!I29 -> 41.334851 | R53: =Q53/$Q$90 -> 0.011420196 | S53: =R53*$I$96 -> 0.002855049 | T53: =J53+M53+P53+S53 -> 0.014198754 | U53: =FORMULASI!U53 -> 59303000 | V53: =FORMULASI!V53 -> 545096000 | W53: =3000000*12 -> 36000000 | X53: =2225000*12 -> 26700000 | Y53: =((2023000*6)+(2023000*2))*12 -> 194208000 | Z53: =((3000000*0.54%)+(2225000*0.54%)+((2023000*0.54%)*8))*12 -> 1387303.2 | AA53: 0 | AB53: =(W53+X53+Y53)*1% -> 2569080 | AC53: =((150000*1)+(100000*9))*12 -> 12600000 | AD53: 49200000 | AE53: =V53*10% -> 54509600 | AF53: 14700000 | AG53: 92000000 | AH53: =V53-(W53+X53+Y53+AA53+AB53+AE53+AF53+AG53+AC53+AD53+Z53) -> 61222017 | AJ53: =(AH53/AN53)*100 -> 11.231419 | AK53: =W53+X53+Y53 -> 256908000 | AL53: =AA53+AB53 -> 2569080 | AM53: =W53+X53+Y53+Z53+AA53+AB53+AC53+AD53+AE53+AF53+AG53+AH53 -> 545096000 | AN53: =V53 -> 545096000 | AO53: =AM53-AN53 -> 0
B54: 44 | C54: =FORMULASI!C54 -> Kulisusu Barat | D54: =FORMULASI!D54 -> Dampala Jaya | E54: =FORMULASI!E54 -> 485793000 | F54: ='7410 Kab. Buton Utara (2)'!D40 -> Tertinggal | G54: ='7410 Kab. Buton Utara'!E40 -> 2 | H54: ='7410 Kab. Buton Utara'!F40 -> 364 | I54: =H54/$H$90 -> 0.0076109229 | J54: =I54*$I$93 -> 0.00076109229 | K54: ='7410 Kab. Buton Utara'!G40 -> 27 | L54: =K54/$K$90 -> 0.0035137949 | M54: =L54*$I$94 -> 0.0017568974 | N54: ='7410 Kab. Buton Utara'!H40 -> 5.08177 | O54: =N54/$N$90 -> 0.0029153379 | P54: =O54*$I$95 -> 0.00043730068 | Q54: ='7410 Kab. Buton Utara'!I40 -> 53.617716 | R54: =Q54/$Q$90 -> 0.014813766 | S54: =R54*$I$96 -> 0.0037034416 | T54: =J54+M54+P54+S54 -> 0.006658732 | U54: =FORMULASI!U54 -> 44057000 | V54: =FORMULASI!V54 -> 529850000 | W54: =3000000*12 -> 36000000 | X54: =2225000*12 -> 26700000 | Y54: =((2023000*6)+(2023000*2))*12 -> 194208000 | Z54: =((3000000*0.54%)+(2225000*0.54%)+((2023000*0.54%)*8))*12 -> 1387303.2 | AA54: 0 | AB54: =(W54+X54+Y54)*1% -> 2569080 | AC54: =((150000*1)+(100000*9))*12 -> 12600000 | AD54: 49200000 | AE54: =V54*10% -> 52985000 | AF54: 14700000 | AG54: 92000000 | AH54: =V54-(W54+X54+Y54+AA54+AB54+AE54+AF54+AG54+AC54+AD54+Z54) -> 47500617 | AJ54: =(AH54/AN54)*100 -> 8.9649178 | AK54: =W54+X54+Y54 -> 256908000 | AL54: =AA54+AB54 -> 2569080 | AM54: =W54+X54+Y54+Z54+AA54+AB54+AC54+AD54+AE54+AF54+AG54+AH54 -> 529850000 | AN54: =V54 -> 529850000 | AO54: =AM54-AN54 -> 0
B55: 45 | C55: =FORMULASI!C55 -> Kulisusu Barat | D55: =FORMULASI!D55 -> Rahmat Baru | E55: =FORMULASI!E55 -> 485793000 | F55: ='7410 Kab. Buton Utara (2)'!D44 -> Sangat Tertinggal | G55: ='7410 Kab. Buton Utara'!E44 -> 4 | H55: ='7410 Kab. Buton Utara'!F44 -> 305 | I55: =H55/$H$90 -> 0.0063772843 | J55: =I55*$I$93 -> 0.00063772843 | K55: ='7410 Kab. Buton Utara'!G44 -> 74 | L55: =K55/$K$90 -> 0.0096304008 | M55: =L55*$I$94 -> 0.0048152004 | N55: ='7410 Kab. Buton Utara'!H44 -> 5.667586 | O55: =N55/$N$90 -> 0.003251412 | P55: =O55*$I$95 -> 0.0004877118 | Q55: ='7410 Kab. Buton Utara'!I44 -> 41.005686 | R55: =Q55/$Q$90 -> 0.011329253 | S55: =R55*$I$96 -> 0.0028323131 | T55: =J55+M55+P55+S55 -> 0.0087729538 | U55: =FORMULASI!U55 -> 37174000 | V55: =FORMULASI!V55 -> 522967000 | W55: =3000000*12 -> 36000000 | X55: =2225000*12 -> 26700000 | Y55: =((2023000*6)+(2023000*2))*12 -> 194208000 | Z55: =((3000000*0.54%)+(2225000*0.54%)+((2023000*0.54%)*8))*12 -> 1387303.2 | AA55: 0 | AB55: =(W55+X55+Y55)*1% -> 2569080 | AC55: =((150000*1)+(100000*9))*12 -> 12600000 | AD55: 49200000 | AE55: =V55*10% -> 52296700 | AF55: 14700000 | AG55: 92000000 | AH55: =V55-(W55+X55+Y55+AA55+AB55+AE55+AF55+AG55+AC55+AD55+Z55) -> 41305917 | AJ55: =(AH55/AN55)*100 -> 7.8983792 | AK55: =W55+X55+Y55 -> 256908000 | AL55: =AA55+AB55 -> 2569080 | AM55: =W55+X55+Y55+Z55+AA55+AB55+AC55+AD55+AE55+AF55+AG55+AH55 -> 522967000 | AN55: =V55 -> 522967000 | AO55: =AM55-AN55 -> 0
B56: 46 | C56: =FORMULASI!C56 -> Kulisusu Barat | D56: =FORMULASI!D56 -> Soloy Agung | E56: =FORMULASI!E56 -> 485793000 | F56: ='7410 Kab. Buton Utara (2)'!D49 -> Sangat Tertinggal | G56: ='7410 Kab. Buton Utara'!E49 -> 3 | H56: ='7410 Kab. Buton Utara'!F49 -> 255 | I56: =H56/$H$90 -> 0.0053318279 | J56: =I56*$I$93 -> 0.00053318279 | K56: ='7410 Kab. Buton Utara'!G49 -> 65 | L56: =K56/$K$90 -> 0.0084591359 | M56: =L56*$I$94 -> 0.0042295679 | N56: ='7410 Kab. Buton Utara'!H49 -> 7.503739 | O56: =N56/$N$90 -> 0.0043047864 | P56: =O56*$I$95 -> 0.00064571796 | Q56: ='7410 Kab. Buton Utara'!I49 -> 69.809045 | R56: =Q56/$Q$90 -> 0.019287186 | S56: =R56*$I$96 -> 0.0048217966 | T56: =J56+M56+P56+S56 -> 0.010230265 | U56: =FORMULASI!U56 -> 62933000 | V56: =FORMULASI!V56 -> 548726000 | W56: =3000000*12 -> 36000000 | X56: =2225000*12 -> 26700000 | Y56: =((2023000*6)+(2023000*2))*12 -> 194208000 | Z56: =((3000000*0.54%)+(2225000*0.54%)+((2023000*0.54%)*8))*12 -> 1387303.2 | AA56: 0 | AB56: =(W56+X56+Y56)*1% -> 2569080 | AC56: =((150000*1)+(100000*9))*12 -> 12600000 | AD56: 49200000 | AE56: =V56*10% -> 54872600 | AF56: 14700000 | AG56: 92000000 | AH56: =V56-(W56+X56+Y56+AA56+AB56+AE56+AF56+AG56+AC56+AD56+Z56) -> 64489017 | AJ56: =(AH56/AN56)*100 -> 11.752499 | AK56: =W56+X56+Y56 -> 256908000 | AL56: =AA56+AB56 -> 2569080 | AM56: =W56+X56+Y56+Z56+AA56+AB56+AC56+AD56+AE56+AF56+AG56+AH56 -> 548726000 | AN56: =V56 -> 548726000 | AO56: =AM56-AN56 -> 0
B57: 47 | C57: =FORMULASI!C57 -> Kulisusu Barat | D57: =FORMULASI!D57 -> Bumi Lapero | E57: =FORMULASI!E57 -> 485793000 | F57: ='7410 Kab. Buton Utara (2)'!D50 -> Tertinggal | G57: ='7410 Kab. Buton Utara'!E50 -> 2 | H57: ='7410 Kab. Buton Utara'!F50 -> 467 | I57: =H57/$H$90 -> 0.0097645632 | J57: =I57*$I$93 -> 0.00097645632 | K57: ='7410 Kab. Buton Utara'!G50 -> 32 | L57: =K57/$K$90 -> 0.0041644977 | M57: =L57*$I$94 -> 0.0020822488 | N57: ='7410 Kab. Buton Utara'!H50 -> 13.298423 | O57: =N57/$N$90 -> 0.0076291127 | P57: =O57*$I$95 -> 0.0011443669 | Q57: ='7410 Kab. Buton Utara'!I50 -> 43.496653 | R57: =Q57/$Q$90 -> 0.012017469 | S57: =R57*$I$96 -> 0.0030043673 | T57: =J57+M57+P57+S57 -> 0.0072074394 | U57: =FORMULASI!U57 -> 37382000 | V57: =FORMULASI!V57 -> 523175000 | W57: =3000000*12 -> 36000000 | X57: =2225000*12 -> 26700000 | Y57: =((2023000*6)+(2023000*2))*12 -> 194208000 | Z57: =((3000000*0.54%)+(2225000*0.54%)+((2023000*0.54%)*8))*12 -> 1387303.2 | AA57: 0 | AB57: =(W57+X57+Y57)*1% -> 2569080 | AC57: =((150000*1)+(100000*9))*12 -> 12600000 | AD57: 49200000 | AE57: =V57*10% -> 52317500 | AF57: 14700000 | AG57: 92000000 | AH57: =V57-(W57+X57+Y57+AA57+AB57+AE57+AF57+AG57+AC57+AD57+Z57) -> 41493117 | AJ57: =(AH57/AN57)*100 -> 7.9310206 | AK57: =W57+X57+Y57 -> 256908000 | AL57: =AA57+AB57 -> 2569080 | AM57: =W57+X57+Y57+Z57+AA57+AB57+AC57+AD57+AE57+AF57+AG57+AH57 -> 523175000 | AN57: =V57 -> 523175000 | AO57: =AM57-AN57 -> 0
B58: 48 | C58: =FORMULASI!C58 -> Kulisusu Barat | D58: =FORMULASI!D58 -> Karya Mulya | E58: =FORMULASI!E58 -> 485793000 | F58: ='7410 Kab. Buton Utara (2)'!D53 -> Tertinggal | G58: ='7410 Kab. Buton Utara'!E53 -> 5 | H58: ='7410 Kab. Buton Utara'!F53 -> 723 | I58: =H58/$H$90 -> 0.0151173 | J58: =I58*$I$93 -> 0.00151173 | K58: ='7410 Kab. Buton Utara'!G53 -> 139 | L58: =K58/$K$90 -> 0.018089537 | M58: =L58*$I$94 -> 0.0090447683 | N58: ='7410 Kab. Buton Utara'!H53 -> 65.789031 | O58: =N58/$N$90 -> 0.037742214 | P58: =O58*$I$95 -> 0.0056613321 | Q58: ='7410 Kab. Buton Utara'!I53 -> 42.344583 | R58: =Q58/$Q$90 -> 0.01169917 | S58: =R58*$I$96 -> 0.0029247924 | T58: =J58+M58+P58+S58 -> 0.019142623 | U58: =FORMULASI!U58 -> 43944000 | V58: =FORMULASI!V58 -> 529737000 | W58: =3000000*12 -> 36000000 | X58: =2225000*12 -> 26700000 | Y58: =((2023000*6)+(2023000*2))*12 -> 194208000 | Z58: =((3000000*0.54%)+(2225000*0.54%)+((2023000*0.54%)*8))*12 -> 1387303.2 | AA58: 0 | AB58: =(W58+X58+Y58)*1% -> 2569080 | AC58: =((150000*1)+(100000*9))*12 -> 12600000 | AD58: 49200000 | AE58: =V58*10% -> 52973700 | AF58: 14700000 | AG58: 92000000 | AH58: =V58-(W58+X58+Y58+AA58+AB58+AE58+AF58+AG58+AC58+AD58+Z58) -> 47398917 | AJ58: =(AH58/AN58)*100 -> 8.9476319 | AK58: =W58+X58+Y58 -> 256908000 | AL58: =AA58+AB58 -> 2569080 | AM58: =W58+X58+Y58+Z58+AA58+AB58+AC58+AD58+AE58+AF58+AG58+AH58 -> 529737000 | AN58: =V58 -> 529737000 | AO58: =AM58-AN58 -> 0
B59: 49 | C59: =FORMULASI!C59 -> Kulisusu Barat | D59: =FORMULASI!D59 -> Lambale | E59: =FORMULASI!E59 -> 485793000 | F59: ='7410 Kab. Buton Utara (2)'!D56 -> Tertinggal | G59: ='7410 Kab. Buton Utara'!E56 -> 6 | H59: ='7410 Kab. Buton Utara'!F56 -> 598 | I59: =H59/$H$90 -> 0.012503659 | J59: =I59*$I$93 -> 0.0012503659 | K59: ='7410 Kab. Buton Utara'!G56 -> 158 | L59: =K59/$K$90 -> 0.020562207 | M59: =L59*$I$94 -> 0.010281104 | N59: ='7410 Kab. Buton Utara'!H56 -> 36.157762 | O59: =N59/$N$90 -> 0.020743184 | P59: =O59*$I$95 -> 0.0031114777 | Q59: ='7410 Kab. Buton Utara'!I56 -> 46.439514 | R59: =Q59/$Q$90 -> 0.012830537 | S59: =R59*$I$96 -> 0.0032076343 | T59: =J59+M59+P59+S59 -> 0.017850581 | U59: =FORMULASI!U59 -> 84913000 | V59: =FORMULASI!V59 -> 570706000 | W59: =3000000*12 -> 36000000 | X59: =2225000*12 -> 26700000 | Y59: =((2023000*6)+(2023000*2))*12 -> 194208000 | Z59: =((3000000*0.54%)+(2225000*0.54%)+((2023000*0.54%)*8))*12 -> 1387303.2 | AA59: 0 | AB59: =(W59+X59+Y59)*1% -> 2569080 | AC59: =((150000*1)+(100000*9))*12 -> 12600000 | AD59: 49200000 | AE59: =V59*10% -> 57070600 | AF59: 14700000 | AG59: 92000000 | AH59: =V59-(W59+X59+Y59+AA59+AB59+AE59+AF59+AG59+AC59+AD59+Z59) -> 84271017 | AJ59: =(AH59/AN59)*100 -> 14.7661 | AK59: =W59+X59+Y59 -> 256908000 | AL59: =AA59+AB59 -> 2569080 | AM59: =W59+X59+Y59+Z59+AA59+AB59+AC59+AD59+AE59+AF59+AG59+AH59 -> 570706000 | AN59: =V59 -> 570706000 | AO59: =AM59-AN59 -> 0
B60: 50 | C60: =FORMULASI!C60 -> Kulisusu Barat | D60: =FORMULASI!D60 -> Lapandewa | E60: =FORMULASI!E60 -> 485793000 | F60: ='7410 Kab. Buton Utara (2)'!D57 -> Sangat Tertinggal | G60: ='7410 Kab. Buton Utara'!E57 -> 5 | H60: ='7410 Kab. Buton Utara'!F57 -> 554 | I60: =H60/$H$90 -> 0.011583657 | J60: =I60*$I$93 -> 0.0011583657 | K60: ='7410 Kab. Buton Utara'!G57 -> 138 | L60: =K60/$K$90 -> 0.017959396 | M60: =L60*$I$94 -> 0.0089796981 | N60: ='7410 Kab. Buton Utara'!H57 -> 9.64207 | O60: =N60/$N$90 -> 0.0055315159 | P60: =O60*$I$95 -> 0.00082972739 | Q60: ='7410 Kab. Buton Utara'!I57 -> 43.457001 | R60: =Q60/$Q$90 -> 0.012006514 | S60: =R60*$I$96 -> 0.0030016285 | T60: =J60+M60+P60+S60 -> 0.01396942 | U60: =FORMULASI!U60 -> 80018000 | V60: =FORMULASI!V60 -> 565811000 | W60: =3000000*12 -> 36000000 | X60: =2225000*12 -> 26700000 | Y60: =((2023000*6)+(2023000*2))*12 -> 194208000 | Z60: =((3000000*0.54%)+(2225000*0.54%)+((2023000*0.54%)*8))*12 -> 1387303.2 | AA60: 0 | AB60: =(W60+X60+Y60)*1% -> 2569080 | AC60: =((150000*1)+(100000*9))*12 -> 12600000 | AD60: 49200000 | AE60: =V60*10% -> 56581100 | AF60: 14700000 | AG60: 92000000 | AH60: =V60-(W60+X60+Y60+AA60+AB60+AE60+AF60+AG60+AC60+AD60+Z60) -> 79865517 | AJ60: =(AH60/AN60)*100 -> 14.115229 | AK60: =W60+X60+Y60 -> 256908000 | AL60: =AA60+AB60 -> 2569080 | AM60: =W60+X60+Y60+Z60+AA60+AB60+AC60+AD60+AE60+AF60+AG60+AH60 -> 565811000 | AN60: =V60 -> 565811000 | AO60: =AM60-AN60 -> 0
B61: 51 | C61: =FORMULASI!C61 -> Kulisusu Barat | D61: =FORMULASI!D61 -> Lauki | E61: =FORMULASI!E61 -> 485793000 | F61: ='7410 Kab. Buton Utara (2)'!D63 -> Tertinggal | G61: ='7410 Kab. Buton Utara'!E63 -> 2 | H61: ='7410 Kab. Buton Utara'!F63 -> 574 | I61: =H61/$H$90 -> 0.01200184 | J61: =I61*$I$93 -> 0.001200184 | K61: ='7410 Kab. Buton Utara'!G63 -> 30 | L61: =K61/$K$90 -> 0.0039042166 | M61: =L61*$I$94 -> 0.0019521083 | N61: ='7410 Kab. Buton Utara'!H63 -> 8.765577 | O61: =N61/$N$90 -> 0.0050286846 | P61: =O61*$I$95 -> 0.00075430269 | Q61: ='7410 Kab. Buton Utara'!I63 -> 63.388026 | R61: =Q61/$Q$90 -> 0.017513156 | S61: =R61*$I$96 -> 0.0043782889 | T61: =J61+M61+P61+S61 -> 0.0082848839 | U61: =FORMULASI!U61 -> 37078000 | V61: =FORMULASI!V61 -> 522871000 | W61: =3000000*12 -> 36000000 | X61: =2225000*12 -> 26700000 | Y61: =((2023000*6)+(2023000*2))*12 -> 194208000 | Z61: =((3000000*0.54%)+(2225000*0.54%)+((2023000*0.54%)*8))*12 -> 1387303.2 | AA61: 0 | AB61: =(W61+X61+Y61)*1% -> 2569080 | AC61: =((150000*1)+(100000*9))*12 -> 12600000 | AD61: 49200000 | AE61: =V61*10% -> 52287100 | AF61: 14700000 | AG61: 92000000 | AH61: =V61-(W61+X61+Y61+AA61+AB61+AE61+AF61+AG61+AC61+AD61+Z61) -> 41219517 | AJ61: =(AH61/AN61)*100 -> 7.8833052 | AK61: =W61+X61+Y61 -> 256908000 | AL61: =AA61+AB61 -> 2569080 | AM61: =W61+X61+Y61+Z61+AA61+AB61+AC61+AD61+AE61+AF61+AG61+AH61 -> 522871000 | AN61: =V61 -> 522871000 | AO61: =AM61-AN61 -> 0
B62: 52 | C62: =FORMULASI!C62 -> Kulisusu Barat | D62: =FORMULASI!D62 -> Mekar Jaya | E62: =FORMULASI!E62 -> 485793000 | F62: ='7410 Kab. Buton Utara (2)'!D69 -> Tertinggal | G62: ='7410 Kab. Buton Utara'!E69 -> 3 | H62: ='7410 Kab. Buton Utara'!F69 -> 589 | I62: =H62/$H$90 -> 0.012315477 | J62: =I62*$I$93 -> 0.0012315477 | K62: ='7410 Kab. Buton Utara'!G69 -> 47 | L62: =K62/$K$90 -> 0.0061166059 | M62: =L62*$I$94 -> 0.003058303 | N62: ='7410 Kab. Buton Utara'!H69 -> 35.724846 | O62: =N62/$N$90 -> 0.020494827 | P62: =O62*$I$95 -> 0.003074224 | Q62: ='7410 Kab. Buton Utara'!I69 -> 46.980529 | R62: =Q62/$Q$90 -> 0.012980012 | S62: =R62*$I$96 -> 0.0032450029 | T62: =J62+M62+P62+S62 -> 0.010609078 | U62: =FORMULASI!U62 -> 29674000 | V62: =FORMULASI!V62 -> 515467000 | W62: =3000000*12 -> 36000000 | X62: =2225000*12 -> 26700000 | Y62: =((2023000*6)+(2023000*2))*12 -> 194208000 | Z62: =((3000000*0.54%)+(2225000*0.54%)+((2023000*0.54%)*8))*12 -> 1387303.2 | AA62: 0 | AB62: =(W62+X62+Y62)*1% -> 2569080 | AC62: =((150000*1)+(100000*9))*12 -> 12600000 | AD62: 49200000 | AE62: =V62*10% -> 51546700 | AF62: 14700000 | AG62: 92000000 | AH62: =V62-(W62+X62+Y62+AA62+AB62+AE62+AF62+AG62+AC62+AD62+Z62) -> 34555917 | AJ62: =(AH62/AN62)*100 -> 6.7038078 | AK62: =W62+X62+Y62 -> 256908000 | AL62: =AA62+AB62 -> 2569080 | AM62: =W62+X62+Y62+Z62+AA62+AB62+AC62+AD62+AE62+AF62+AG62+AH62 -> 515467000 | AN62: =V62 -> 515467000 | AO62: =AM62-AN62 -> 0
B63: 53 | C63: =FORMULASI!C63 -> Kulisusu Barat | D63: =FORMULASI!D63 -> Labulanda | E63: =FORMULASI!E63 -> 485793000 | F63: ='7410 Kab. Buton Utara (2)'!D75 -> Sangat Tertinggal | G63: ='7410 Kab. Buton Utara'!E75 -> 1 | H63: ='7410 Kab. Buton Utara'!F75 -> 248 | I63: =H63/$H$90 -> 0.005185464 | J63: =I63*$I$93 -> 0.0005185464 | K63: ='7410 Kab. Buton Utara'!G75 -> 19 | L63: =K63/$K$90 -> 0.0024726705 | M63: =L63*$I$94 -> 0.0012363352 | N63: ='7410 Kab. Buton Utara'!H75 -> 50.498188 | O63: =N63/$N$90 -> 0.028970079 | P63: =O63*$I$95 -> 0.0043455119 | Q63: ='7410 Kab. Buton Utara'!I75 -> 56.294656 | R63: =Q63/$Q$90 -> 0.015553364 | S63: =R63*$I$96 -> 0.0038883411 | T63: =J63+M63+P63+S63 -> 0.0099887346 | U63: =FORMULASI!U63 -> 61663000 | V63: =FORMULASI!V63 -> 547456000 | W63: =3000000*12 -> 36000000 | X63: =2225000*12 -> 26700000 | Y63: =((2023000*6)+(2023000*2))*12 -> 194208000 | Z63: =((3000000*0.54%)+(2225000*0.54%)+((2023000*0.54%)*8))*12 -> 1387303.2 | AA63: 0 | AB63: =(W63+X63+Y63)*1% -> 2569080 | AC63: =((150000*1)+(100000*9))*12 -> 12600000 | AD63: 49200000 | AE63: =V63*10% -> 54745600 | AF63: 14700000 | AG63: 92000000 | AH63: =V63-(W63+X63+Y63+AA63+AB63+AE63+AF63+AG63+AC63+AD63+Z63) -> 63346017 | AJ63: =(AH63/AN63)*100 -> 11.570979 | AK63: =W63+X63+Y63 -> 256908000 | AL63: =AA63+AB63 -> 2569080 | AM63: =W63+X63+Y63+Z63+AA63+AB63+AC63+AD63+AE63+AF63+AG63+AH63 -> 547456000 | AN63: =V63 -> 547456000 | AO63: =AM63-AN63 -> 0
B64: 54 | C64: =FORMULASI!C64 -> Kulisusu Utara | D64: =FORMULASI!D64 -> Kurolabu | E64: =FORMULASI!E64 -> 485793000 | F64: ='7410 Kab. Buton Utara (2)'!D2 -> Tertinggal | G64: ='7410 Kab. Buton Utara'!E2 -> 3 | H64: ='7410 Kab. Buton Utara'!F2 -> 457 | I64: =H64/$H$90 -> 0.0095554719 | J64: =I64*$I$93 -> 0.00095554719 | K64: ='7410 Kab. Buton Utara'!G2 -> 48 | L64: =K64/$K$90 -> 0.0062467465 | M64: =L64*$I$94 -> 0.0031233732 | N64: ='7410 Kab. Buton Utara'!H2 -> 4.541707 | O64: =N64/$N$90 -> 0.0026055115 | P64: =O64*$I$95 -> 0.00039082673 | Q64: ='7410 Kab. Buton Utara'!I2 -> 32.568537 | R64: =Q64/$Q$90 -> 0.0089981956 | S64: =R64*$I$96 -> 0.0022495489 | T64: =J64+M64+P64+S64 -> 0.0067192961 | U64: =FORMULASI!U64 -> 119980000 | V64: =FORMULASI!V64 -> 605773000 | W64: =3000000*12 -> 36000000 | X64: =2225000*12 -> 26700000 | Y64: =((2023000*6)+(2023000*2))*12 -> 194208000 | Z64: =((3000000*0.54%)+(2225000*0.54%)+((2023000*0.54%)*8))*12 -> 1387303.2 | AA64: 0 | AB64: =(W64+X64+Y64)*1% -> 2569080 | AC64: =((150000*1)+(100000*9))*12 -> 12600000 | AD64: 49200000 | AE64: =V64*10% -> 60577300 | AF64: 14700000 | AG64: 92000000 | AH64: =V64-(W64+X64+Y64+AA64+AB64+AE64+AF64+AG64+AC64+AD64+Z64) -> 1.1583132e+08 | AJ64: =(AH64/AN64)*100 -> 19.121241 | AK64: =W64+X64+Y64 -> 256908000 | AL64: =AA64+AB64 -> 2569080 | AM64: =W64+X64+Y64+Z64+AA64+AB64+AC64+AD64+AE64+AF64+AG64+AH64 -> 605773000 | AN64: =V64 -> 605773000 | AO64: =AM64-AN64 -> 0
B65: 55 | C65: =FORMULASI!C65 -> Kulisusu Utara | D65: =FORMULASI!D65 -> Torombia | E65: =FORMULASI!E65 -> 485793000 | F65: ='7410 Kab. Buton Utara (2)'!D13 -> Sangat Tertinggal | G65: ='7410 Kab. Buton Utara'!E13 -> 5 | H65: ='7410 Kab. Buton Utara'!F13 -> 613 | I65: =H65/$H$90 -> 0.012817296 | J65: =I65*$I$93 -> 0.0012817296 | K65: ='7410 Kab. Buton Utara'!G13 -> 121 | L65: =K65/$K$90 -> 0.015747007 | M65: =L65*$I$94 -> 0.0078735034 | N65: ='7410 Kab. Buton Utara'!H13 -> 36.850642 | O65: =N65/$N$90 -> 0.02114068 | P65: =O65*$I$95 -> 0.0031711019 | Q65: ='7410 Kab. Buton Utara'!I13 -> 36.017245 | R65: =Q65/$Q$90 -> 0.0099510216 | S65: =R65*$I$96 -> 0.0024877554 | T65: =J65+M65+P65+S65 -> 0.01481409 | U65: =FORMULASI!U65 -> 65392000 | V65: =FORMULASI!V65 -> 551185000 | W65: =3000000*12 -> 36000000 | X65: =2225000*12 -> 26700000 | Y65: =((2023000*6)+(2023000*2))*12 -> 194208000 | Z65: =((3000000*0.54%)+(2225000*0.54%)+((2023000*0.54%)*8))*12 -> 1387303.2 | AA65: 0 | AB65: =(W65+X65+Y65)*1% -> 2569080 | AC65: =((150000*1)+(100000*9))*12 -> 12600000 | AD65: 49200000 | AE65: =V65*10% -> 55118500 | AF65: 14700000 | AG65: 92000000 | AH65: =V65-(W65+X65+Y65+AA65+AB65+AE65+AF65+AG65+AC65+AD65+Z65) -> 66702117 | AJ65: =(AH65/AN65)*100 -> 12.101584 | AK65: =W65+X65+Y65 -> 256908000 | AL65: =AA65+AB65 -> 2569080 | AM65: =W65+X65+Y65+Z65+AA65+AB65+AC65+AD65+AE65+AF65+AG65+AH65 -> 551185000 | AN65: =V65 -> 551185000 | AO65: =AM65-AN65 -> 0
B66: 56 | C66: =FORMULASI!C66 -> Kulisusu Utara | D66: =FORMULASI!D66 -> Lamoahi | E66: =FORMULASI!E66 -> 485793000 | F66: ='7410 Kab. Buton Utara (2)'!D17 -> Tertinggal | G66: ='7410 Kab. Buton Utara'!E17 -> 1 | H66: ='7410 Kab. Buton Utara'!F17 -> 285 | I66: =H66/$H$90 -> 0.0059591017 | J66: =I66*$I$93 -> 0.00059591017 | K66: ='7410 Kab. Buton Utara'!G17 -> 9 | L66: =K66/$K$90 -> 0.001171265 | M66: =L66*$I$94 -> 0.00058563248 | N66: ='7410 Kab. Buton Utara'!H17 -> 6.453603 | O66: =N66/$N$90 -> 0.0037023386 | P66: =O66*$I$95 -> 0.00055535079 | Q66: ='7410 Kab. Buton Utara'!I17 -> 50.702394 | R66: =Q66/$Q$90 -> 0.014008307 | S66: =R66*$I$96 -> 0.0035020767 | T66: =J66+M66+P66+S66 -> 0.0052389701 | U66: =FORMULASI!U66 -> 58021000 | V66: =FORMULASI!V66 -> 543814000 | W66: =3000000*12 -> 36000000 | X66: =2225000*12 -> 26700000 | Y66: =((2023000*6)+(2023000*2))*12 -> 194208000 | Z66: =((3000000*0.54%)+(2225000*0.54%)+((2023000*0.54%)*8))*12 -> 1387303.2 | AA66: 0 | AB66: =(W66+X66+Y66)*1% -> 2569080 | AC66: =((150000*1)+(100000*9))*12 -> 12600000 | AD66: 49200000 | AE66: =V66*10% -> 54381400 | AF66: 14700000 | AG66: 92000000 | AH66: =V66-(W66+X66+Y66+AA66+AB66+AE66+AF66+AG66+AC66+AD66+Z66) -> 60068217 | AJ66: =(AH66/AN66)*100 -> 11.045728 | AK66: =W66+X66+Y66 -> 256908000 | AL66: =AA66+AB66 -> 2569080 | AM66: =W66+X66+Y66+Z66+AA66+AB66+AC66+AD66+AE66+AF66+AG66+AH66 -> 543814000 | AN66: =V66 -> 543814000 | AO66: =AM66-AN66 -> 0
B67: 57 | C67: =FORMULASI!C67 -> Kulisusu Utara | D67: =FORMULASI!D67 -> Lanosangia | E67: =FORMULASI!E67 -> 485793000 | F67: ='7410 Kab. Buton Utara (2)'!D18 -> Sangat Tertinggal | G67: ='7410 Kab. Buton Utara'!E18 -> 4 | H67: ='7410 Kab. Buton Utara'!F18 -> 362 | I67: =H67/$H$90 -> 0.0075691047 | J67: =I67*$I$93 -> 0.00075691047 | K67: ='7410 Kab. Buton Utara'!G18 -> 100 | L67: =K67/$K$90 -> 0.013014055 | M67: =L67*$I$94 -> 0.0065070276 | N67: ='7410 Kab. Buton Utara'!H18 -> 2.219289 | O67: =N67/$N$90 -> 0.001273174 | P67: =O67*$I$95 -> 0.00019097609 | Q67: ='7410 Kab. Buton Utara'!I18 -> 45.146601 | R67: =Q67/$Q$90 -> 0.012473325 | S67: =R67*$I$96 -> 0.0031183312 | T67: =J67+M67+P67+S67 -> 0.010573245 | U67: =FORMULASI!U67 -> 51962000 | V67: =FORMULASI!V67 -> 537755000 | W67: =3000000*12 -> 36000000 | X67: =2225000*12 -> 26700000 | Y67: =((2023000*6)+(2023000*2))*12 -> 194208000 | Z67: =((3000000*0.54%)+(2225000*0.54%)+((2023000*0.54%)*8))*12 -> 1387303.2 | AA67: 0 | AB67: =(W67+X67+Y67)*1% -> 2569080 | AC67: =((150000*1)+(100000*9))*12 -> 12600000 | AD67: 49200000 | AE67: =V67*10% -> 53775500 | AF67: 14700000 | AG67: 92000000 | AH67: =V67-(W67+X67+Y67+AA67+AB67+AE67+AF67+AG67+AC67+AD67+Z67) -> 54615117 | AJ67: =(AH67/AN67)*100 -> 10.156134 | AK67: =W67+X67+Y67 -> 256908000 | AL67: =AA67+AB67 -> 2569080 | AM67: =W67+X67+Y67+Z67+AA67+AB67+AC67+AD67+AE67+AF67+AG67+AH67 -> 537755000 | AN67: =V67 -> 537755000 | AO67: =AM67-AN67 -> 0
B68: 58 | C68: =FORMULASI!C68 -> Kulisusu Utara | D68: =FORMULASI!D68 -> Pebaoa | E68: =FORMULASI!E68 -> 485793000 | F68: ='7410 Kab. Buton Utara (2)'!D21 -> Tertinggal | G68: ='7410 Kab. Buton Utara'!E21 -> 6 | H68: ='7410 Kab. Buton Utara'!F21 -> 774 | I68: =H68/$H$90 -> 0.016183666 | J68: =I68*$I$93 -> 0.0016183666 | K68: ='7410 Kab. Buton Utara'!G21 -> 176 | L68: =K68/$K$90 -> 0.022904737 | M68: =L68*$I$94 -> 0.011452369 | N68: ='7410 Kab. Buton Utara'!H21 -> 78.552738 | O68: =N68/$N$90 -> 0.045064568 | P68: =O68*$I$95 -> 0.0067596852 | Q68: ='7410 Kab. Buton Utara'!I21 -> 42.610769 | R68: =Q68/$Q$90 -> 0.011772713 | S68: =R68*$I$96 -> 0.0029431782 | T68: =J68+M68+P68+S68 -> 0.022773599 | U68: =FORMULASI!U68 -> 96587000 | V68: =FORMULASI!V68 -> 582380000 | W68: =3000000*12 -> 36000000 | X68: =2225000*12 -> 26700000 | Y68: =((2023000*6)+(2023000*2))*12 -> 194208000 | Z68: =((3000000*0.54%)+(2225000*0.54%)+((2023000*0.54%)*8))*12 -> 1387303.2 | AA68: 0 | AB68: =(W68+X68+Y68)*1% -> 2569080 | AC68: =((150000*1)+(100000*9))*12 -> 12600000 | AD68: 49200000 | AE68: =V68*10% -> 58238000 | AF68: 14700000 | AG68: 92000000 | AH68: =V68-(W68+X68+Y68+AA68+AB68+AE68+AF68+AG68+AC68+AD68+Z68) -> 94777617 | AJ68: =(AH68/AN68)*100 -> 16.274188 | AK68: =W68+X68+Y68 -> 256908000 | AL68: =AA68+AB68 -> 2569080 | AM68: =W68+X68+Y68+Z68+AA68+AB68+AC68+AD68+AE68+AF68+AG68+AH68 -> 582380000 | AN68: =V68 -> 582380000 | AO68: =AM68-AN68 -> 0
B69: 59 | C69: =FORMULASI!C69 -> Kulisusu Utara | D69: =FORMULASI!D69 -> Petetea'a | E69: =FORMULASI!E69 -> 485793000 | F69: ='7410 Kab. Buton Utara (2)'!D24 -> Tertinggal | G69: ='7410 Kab. Buton Utara'!E24 -> 1 | H69: ='7410 Kab. Buton Utara'!F24 -> 415 | I69: =H69/$H$90 -> 0.0086772885 | J69: =I69*$I$93 -> 0.00086772885 | K69: ='7410 Kab. Buton Utara'!G24 -> 5 | L69: =K69/$K$90 -> 0.00065070276 | M69: =L69*$I$94 -> 0.00032535138 | N69: ='7410 Kab. Buton Utara'!H24 -> 4.024878 | O69: =N69/$N$90 -> 0.0023090142 | P69: =O69*$I$95 -> 0.00034635213 | Q69: ='7410 Kab. Buton Utara'!I24 -> 44.525871 | R69: =Q69/$Q$90 -> 0.012301827 | S69: =R69*$I$96 -> 0.0030754567 | T69: =J69+M69+P69+S69 -> 0.004614889 | U69: =FORMULASI!U69 -> 44090000 | V69: =FORMULASI!V69 -> 529883000 | W69: =3000000*12 -> 36000000 | X69: =2225000*12 -> 26700000 | Y69: =((2023000*6)+(2023000*2))*12 -> 194208000 | Z69: =((3000000*0.54%)+(2225000*0.54%)+((2023000*0.54%)*8))*12 -> 1387303.2 | AA69: 0 | AB69: =(W69+X69+Y69)*1% -> 2569080 | AC69: =((150000*1)+(100000*9))*12 -> 12600000 | AD69: 49200000 | AE69: =V69*10% -> 52988300 | AF69: 14700000 | AG69: 92000000 | AH69: =V69-(W69+X69+Y69+AA69+AB69+AE69+AF69+AG69+AC69+AD69+Z69) -> 47530317 | AJ69: =(AH69/AN69)*100 -> 8.9699645 | AK69: =W69+X69+Y69 -> 256908000 | AL69: =AA69+AB69 -> 2569080 | AM69: =W69+X69+Y69+Z69+AA69+AB69+AC69+AD69+AE69+AF69+AG69+AH69 -> 529883000 | AN69: =V69 -> 529883000 | AO69: =AM69-AN69 -> 0
B70: 60 | C70: =FORMULASI!C70 -> Kulisusu Utara | D70: =FORMULASI!D70 -> Lelamo | E70: =FORMULASI!E70 -> 485793000 | F70: ='7410 Kab. Buton Utara (2)'!D26 -> Tertinggal | G70: ='7410 Kab. Buton Utara'!E26 -> 4 | H70: ='7410 Kab. Buton Utara'!F26 -> 844 | I70: =H70/$H$90 -> 0.017647305 | J70: =I70*$I$93 -> 0.0017647305 | K70: ='7410 Kab. Buton Utara'!G26 -> 88 | L70: =K70/$K$90 -> 0.011452369 | M70: =L70*$I$94 -> 0.0057261843 | N70: ='7410 Kab. Buton Utara'!H26 -> 4.502582 | O70: =N70/$N$90 -> 0.0025830661 | P70: =O70*$I$95 -> 0.00038745991 | Q70: ='7410 Kab. Buton Utara'!I26 -> 34.076827 | R70: =Q70/$Q$90 -> 0.0094149133 | S70: =R70*$I$96 -> 0.0023537283 | T70: =J70+M70+P70+S70 -> 0.010232103 | U70: =FORMULASI!U70 -> 32549000 | V70: =FORMULASI!V70 -> 518342000 | W70: =3000000*12 -> 36000000 | X70: =2225000*12 -> 26700000 | Y70: =((2023000*6)+(2023000*2))*12 -> 194208000 | Z70: =((3000000*0.54%)+(2225000*0.54%)+((2023000*0.54%)*8))*12 -> 1387303.2 | AA70: 0 | AB70: =(W70+X70+Y70)*1% -> 2569080 | AC70: =((150000*1)+(100000*9))*12 -> 12600000 | AD70: 49200000 | AE70: =V70*10% -> 51834200 | AF70: 14700000 | AG70: 92000000 | AH70: =V70-(W70+X70+Y70+AA70+AB70+AE70+AF70+AG70+AC70+AD70+Z70) -> 37143417 | AJ70: =(AH70/AN70)*100 -> 7.1658127 | AK70: =W70+X70+Y70 -> 256908000 | AL70: =AA70+AB70 -> 2569080 | AM70: =W70+X70+Y70+Z70+AA70+AB70+AC70+AD70+AE70+AF70+AG70+AH70 -> 518342000 | AN70: =V70 -> 518342000 | AO70: =AM70-AN70 -> 0
B71: 61 | C71: =FORMULASI!C71 -> Kulisusu Utara | D71: =FORMULASI!D71 -> Waode Buri | E71: =FORMULASI!E71 -> 485793000 | F71: ='7410 Kab. Buton Utara (2)'!D39 -> Tertinggal | G71: ='7410 Kab. Buton Utara'!E39 -> 1 | H71: ='7410 Kab. Buton Utara'!F39 -> 150 | I71: =H71/$H$90 -> 0.0031363693 | J71: =I71*$I$93 -> 0.00031363693 | K71: ='7410 Kab. Buton Utara'!G39 -> 10 | L71: =K71/$K$90 -> 0.0013014055 | M71: =L71*$I$94 -> 0.00065070276 | N71: ='7410 Kab. Buton Utara'!H39 -> 65.596637 | O71: =N71/$N$90 -> 0.037631841 | P71: =O71*$I$95 -> 0.0056447761 | Q71: ='7410 Kab. Buton Utara'!I39 -> 49.804185 | R71: =Q71/$Q$90 -> 0.013760145 | S71: =R71*$I$96 -> 0.0034400363 | T71: =J71+M71+P71+S71 -> 0.010049152 | U71: =FORMULASI!U71 -> 57355000 | V71: =FORMULASI!V71 -> 543148000 | W71: =3000000*12 -> 36000000 | X71: =2225000*12 -> 26700000 | Y71: =((2023000*6)+(2023000*2))*12 -> 194208000 | Z71: =((3000000*0.54%)+(2225000*0.54%)+((2023000*0.54%)*8))*12 -> 1387303.2 | AA71: 0 | AB71: =(W71+X71+Y71)*1% -> 2569080 | AC71: =((150000*1)+(100000*9))*12 -> 12600000 | AD71: 49200000 | AE71: =V71*10% -> 54314800 | AF71: 14700000 | AG71: 92000000 | AH71: =V71-(W71+X71+Y71+AA71+AB71+AE71+AF71+AG71+AC71+AD71+Z71) -> 59468817 | AJ71: =(AH71/AN71)*100 -> 10.948916 | AK71: =W71+X71+Y71 -> 256908000 | AL71: =AA71+AB71 -> 2569080 | AM71: =W71+X71+Y71+Z71+AA71+AB71+AC71+AD71+AE71+AF71+AG71+AH71 -> 543148000 | AN71: =V71 -> 543148000 | AO71: =AM71-AN71 -> 0
B72: 62 | C72: =FORMULASI!C72 -> Kulisusu Utara | D72: =FORMULASI!D72 -> Ulunambo | E72: =FORMULASI!E72 -> 485793000 | F72: ='7410 Kab. Buton Utara (2)'!D42 -> Tertinggal | G72: ='7410 Kab. Buton Utara'!E42 -> 3 | H72: ='7410 Kab. Buton Utara'!F42 -> 998 | I72: =H72/$H$90 -> 0.020867311 | J72: =I72*$I$93 -> 0.0020867311 | K72: ='7410 Kab. Buton Utara'!G42 -> 55 | L72: =K72/$K$90 -> 0.0071577303 | M72: =L72*$I$94 -> 0.0035788652 | N72: ='7410 Kab. Buton Utara'!H42 -> 2.73922 | O72: =N72/$N$90 -> 0.0015714508 | P72: =O72*$I$95 -> 0.00023571763 | Q72: ='7410 Kab. Buton Utara'!I42 -> 35.192273 | R72: =Q72/$Q$90 -> 0.0097230943 | S72: =R72*$I$96 -> 0.0024307736 | T72: =J72+M72+P72+S72 -> 0.0083320874 | U72: =FORMULASI!U72 -> 32753000 | V72: =FORMULASI!V72 -> 518546000 | W72: =3000000*12 -> 36000000 | X72: =2225000*12 -> 26700000 | Y72: =((2023000*6)+(2023000*2))*12 -> 194208000 | Z72: =((3000000*0.54%)+(2225000*0.54%)+((2023000*0.54%)*8))*12 -> 1387303.2 | AA72: 0 | AB72: =(W72+X72+Y72)*1% -> 2569080 | AC72: =((150000*1)+(100000*9))*12 -> 12600000 | AD72: 49200000 | AE72: =V72*10% -> 51854600 | AF72: 14700000 | AG72: 92000000 | AH72: =V72-(W72+X72+Y72+AA72+AB72+AE72+AF72+AG72+AC72+AD72+Z72) -> 37327017 | AJ72: =(AH72/AN72)*100 -> 7.1984003 | AK72: =W72+X72+Y72 -> 256908000 | AL72: =AA72+AB72 -> 2569080 | AM72: =W72+X72+Y72+Z72+AA72+AB72+AC72+AD72+AE72+AF72+AG72+AH72 -> 518546000 | AN72: =V72 -> 518546000 | AO72: =AM72-AN72 -> 0
B73: 63 | C73: =FORMULASI!C73 -> Kulisusu Utara | D73: =FORMULASI!D73 -> Bira | E73: =FORMULASI!E73 -> 485793000 | F73: ='7410 Kab. Buton Utara (2)'!D46 -> Berkembang | G73: ='7410 Kab. Buton Utara'!E46 -> 5 | H73: ='7410 Kab. Buton Utara'!F46 -> 1748 | I73: =H73/$H$90 -> 0.036549157 | J73: =I73*$I$93 -> 0.0036549157 | K73: ='7410 Kab. Buton Utara'!G46 -> 106 | L73: =K73/$K$90 -> 0.013794898 | M73: =L73*$I$94 -> 0.0068974492 | N73: ='7410 Kab. Buton Utara'!H46 -> 4.186375 | O73: =N73/$N$90 -> 0.0024016627 | P73: =O73*$I$95 -> 0.00036024941 | Q73: ='7410 Kab. Buton Utara'!I46 -> 45.533005 | R73: =Q73/$Q$90 -> 0.012580083 | S73: =R73*$I$96 -> 0.0031450206 | T73: =J73+M73+P73+S73 -> 0.014057635 | U73: =FORMULASI!U73 -> 42479000 | V73: =FORMULASI!V73 -> 528272000 | W73: =3000000*12 -> 36000000 | X73: =2225000*12 -> 26700000 | Y73: =((2023000*6)+(2023000*2))*12 -> 194208000 | Z73: =((3000000*0.54%)+(2225000*0.54%)+((2023000*0.54%)*8))*12 -> 1387303.2 | AA73: 0 | AB73: =(W73+X73+Y73)*1% -> 2569080 | AC73: =((150000*1)+(100000*9))*12 -> 12600000 | AD73: 49200000 | AE73: =V73*10% -> 52827200 | AF73: 14700000 | AG73: 92000000 | AH73: =V73-(W73+X73+Y73+AA73+AB73+AE73+AF73+AG73+AC73+AD73+Z73) -> 46080417 | AJ73: =(AH73/AN73)*100 -> 8.7228581 | AK73: =W73+X73+Y73 -> 256908000 | AL73: =AA73+AB73 -> 2569080 | AM73: =W73+X73+Y73+Z73+AA73+AB73+AC73+AD73+AE73+AF73+AG73+AH73 -> 528272000 | AN73: =V73 -> 528272000 | AO73: =AM73-AN73 -> 0
B74: 64 | C74: =FORMULASI!C74 -> Kulisusu Utara | D74: =FORMULASI!D74 -> E'erinere | E74: =FORMULASI!E74 -> 485793000 | F74: ='7410 Kab. Buton Utara (2)'!D54 -> Tertinggal | G74: ='7410 Kab. Buton Utara'!E54 -> 4 | H74: ='7410 Kab. Buton Utara'!F54 -> 375 | I74: =H74/$H$90 -> 0.0078409233 | J74: =I74*$I$93 -> 0.00078409233 | K74: ='7410 Kab. Buton Utara'!G54 -> 83 | L74: =K74/$K$90 -> 0.010801666 | M74: =L74*$I$94 -> 0.0054008329 | N74: ='7410 Kab. Buton Utara'!H54 -> 51.008271 | O74: =N74/$N$90 -> 0.029262706 | P74: =O74*$I$95 -> 0.004389406 | Q74: ='7410 Kab. Buton Utara'!I54 -> 42.791475 | R74: =Q74/$Q$90 -> 0.011822639 | S74: =R74*$I$96 -> 0.0029556598 | T74: =J74+M74+P74+S74 -> 0.013529991 | U74: =FORMULASI!U74 -> 23380000 | V74: =FORMULASI!V74 -> 509173000 | W74: =3000000*12 -> 36000000 | X74: =2225000*12 -> 26700000 | Y74: =((2023000*6)+(2023000*2))*12 -> 194208000 | Z74: =((3000000*0.54%)+(2225000*0.54%)+((2023000*0.54%)*8))*12 -> 1387303.2 | AA74: 0 | AB74: =(W74+X74+Y74)*1% -> 2569080 | AC74: =((150000*1)+(100000*9))*12 -> 12600000 | AD74: 49200000 | AE74: =V74*10% -> 50917300 | AF74: 14700000 | AG74: 92000000 | AH74: =V74-(W74+X74+Y74+AA74+AB74+AE74+AF74+AG74+AC74+AD74+Z74) -> 28891317 | AJ74: =(AH74/AN74)*100 -> 5.6741651 | AK74: =W74+X74+Y74 -> 256908000 | AL74: =AA74+AB74 -> 2569080 | AM74: =W74+X74+Y74+Z74+AA74+AB74+AC74+AD74+AE74+AF74+AG74+AH74 -> 509173000 | AN74: =V74 -> 509173000 | AO74: =AM74-AN74 -> 0
B75: 65 | C75: =FORMULASI!C75 -> Kulisusu Utara | D75: =FORMULASI!D75 -> Labelete | E75: =FORMULASI!E75 -> 485793000 | F75: ='7410 Kab. Buton Utara (2)'!D58 -> Sangat Tertinggal | G75: ='7410 Kab. Buton Utara'!E58 -> 8 | H75: ='7410 Kab. Buton Utara'!F58 -> 763 | I75: =H75/$H$90 -> 0.015953665 | J75: =I75*$I$93 -> 0.0015953665 | K75: ='7410 Kab. Buton Utara'!G58 -> 335 | L75: =K75/$K$90 -> 0.043597085 | M75: =L75*$I$94 -> 0.021798542 | N75: ='7410 Kab. Buton Utara'!H58 -> 3.414291 | O75: =N75/$N$90 -> 0.0019587293 | P75: =O75*$I$95 -> 0.00029380939 | Q75: ='7410 Kab. Buton Utara'!I58 -> 63.869449 | R75: =Q75/$Q$90 -> 0.017646165 | S75: =R75*$I$96 -> 0.0044115414 | T75: =J75+M75+P75+S75 -> 0.02809926 | U75: =FORMULASI!U75 -> 22357600 | V75: =FORMULASI!V75 -> 508150600 | W75: =3000000*12 -> 36000000 | X75: =2225000*12 -> 26700000 | Y75: =((2023000*6)+(2023000*2))*12 -> 194208000 | Z75: =((3000000*0.54%)+(2225000*0.54%)+((2023000*0.54%)*8))*12 -> 1387303.2 | AA75: 0 | AB75: =(W75+X75+Y75)*1% -> 2569080 | AC75: =((150000*1)+(100000*9))*12 -> 12600000 | AD75: 49200000 | AE75: =V75*10% -> 50815060 | AF75: 14700000 | AG75: 92000000 | AH75: =V75-(W75+X75+Y75+AA75+AB75+AE75+AF75+AG75+AC75+AD75+Z75) -> 27971157 | AJ75: =(AH75/AN75)*100 -> 5.5045014 | AK75: =W75+X75+Y75 -> 256908000 | AL75: =AA75+AB75 -> 2569080 | AM75: =W75+X75+Y75+Z75+AA75+AB75+AC75+AD75+AE75+AF75+AG75+AH75 -> 508150600 | AN75: =V75 -> 508150600 | AO75: =AM75-AN75 -> 0
B76: 66 | C76: =FORMULASI!C76 -> Kulisusu Utara | D76: =FORMULASI!D76 -> Wamboule | E76: =FORMULASI!E76 -> 485793000 | F76: ='7410 Kab. Buton Utara (2)'!D72 -> Tertinggal | G76: ='7410 Kab. Buton Utara'!E72 -> 3 | H76: ='7410 Kab. Buton Utara'!F72 -> 1164 | I76: =H76/$H$90 -> 0.024338226 | J76: =I76*$I$93 -> 0.0024338226 | K76: ='7410 Kab. Buton Utara'!G72 -> 45 | L76: =K76/$K$90 -> 0.0058563248 | M76: =L76*$I$94 -> 0.0029281624 | N76: ='7410 Kab. Buton Utara'!H72 -> 3.025598 | O76: =N76/$N$90 -> 0.0017357418 | P76: =O76*$I$95 -> 0.00026036126 | Q76: ='7410 Kab. Buton Utara'!I72 -> 28.973583 | R76: =Q76/$Q$90 -> 0.008004964 | S76: =R76*$I$96 -> 0.002001241 | T76: =J76+M76+P76+S76 -> 0.0076235873 | U76: =FORMULASI!U76 -> 26554000 | V76: =FORMULASI!V76 -> 512347000 | W76: =3000000*12 -> 36000000 | X76: =2225000*12 -> 26700000 | Y76: =((2023000*6)+(2023000*2))*12 -> 194208000 | Z76: =((3000000*0.54%)+(2225000*0.54%)+((2023000*0.54%)*8))*12 -> 1387303.2 | AA76: 0 | AB76: =(W76+X76+Y76)*1% -> 2569080 | AC76: =((150000*1)+(100000*9))*12 -> 12600000 | AD76: 49200000 | AE76: =V76*10% -> 51234700 | AF76: 14700000 | AG76: 92000000 | AH76: =V76-(W76+X76+Y76+AA76+AB76+AE76+AF76+AG76+AC76+AD76+Z76) -> 31747917 | AJ76: =(AH76/AN76)*100 -> 6.1965654 | AK76: =W76+X76+Y76 -> 256908000 | AL76: =AA76+AB76 -> 2569080 | AM76: =W76+X76+Y76+Z76+AA76+AB76+AC76+AD76+AE76+AF76+AG76+AH76 -> 512347000 | AN76: =V76 -> 512347000 | AO76: =AM76-AN76 -> 0
B77: 67 | C77: =FORMULASI!C77 -> Kulisusu Utara | D77: =FORMULASI!D77 -> Wowonga Jaya | E77: =FORMULASI!E77 -> 485793000 | F77: ='7410 Kab. Buton Utara (2)'!D74 -> Tertinggal | G77: ='7410 Kab. Buton Utara'!E74 -> 3 | H77: ='7410 Kab. Buton Utara'!F74 -> 421 | I77: =H77/$H$90 -> 0.0088027433 | J77: =I77*$I$93 -> 0.00088027433 | K77: ='7410 Kab. Buton Utara'!G74 -> 41 | L77: =K77/$K$90 -> 0.0053357626 | M77: =L77*$I$94 -> 0.0026678813 | N77: ='7410 Kab. Buton Utara'!H74 -> 3.602066 | O77: =N77/$N$90 -> 0.0020664531 | P77: =O77*$I$95 -> 0.00030996796 | Q77: ='7410 Kab. Buton Utara'!I74 -> 41.880684 | R77: =Q77/$Q$90 -> 0.011571001 | S77: =R77*$I$96 -> 0.0028927503 | T77: =J77+M77+P77+S77 -> 0.0067508739 | U77: =FORMULASI!U77 -> 28976000 | V77: =FORMULASI!V77 -> 514769000 | W77: =3000000*12 -> 36000000 | X77: =2225000*12 -> 26700000 | Y77: =((2023000*6)+(2023000*2))*12 -> 194208000 | Z77: =((3000000*0.54%)+(2225000*0.54%)+((2023000*0.54%)*8))*12 -> 1387303.2 | AA77: 0 | AB77: =(W77+X77+Y77)*1% -> 2569080 | AC77: =((150000*1)+(100000*9))*12 -> 12600000 | AD77: 49200000 | AE77: =V77*10% -> 51476900 | AF77: 14700000 | AG77: 92000000 | AH77: =V77-(W77+X77+Y77+AA77+AB77+AE77+AF77+AG77+AC77+AD77+Z77) -> 33927717 | AJ77: =(AH77/AN77)*100 -> 6.5908625 | AK77: =W77+X77+Y77 -> 256908000 | AL77: =AA77+AB77 -> 2569080 | AM77: =W77+X77+Y77+Z77+AA77+AB77+AC77+AD77+AE77+AF77+AG77+AH77 -> 514769000 | AN77: =V77 -> 514769000 | AO77: =AM77-AN77 -> 0
B78: 68 | C78: =FORMULASI!C78 -> Wakorumba Utara | D78: =FORMULASI!D78 -> Lasiwa | E78: =FORMULASI!E78 -> 485793000 | F78: ='7410 Kab. Buton Utara (2)'!D4 -> Tertinggal | G78: ='7410 Kab. Buton Utara'!E4 -> 5 | H78: ='7410 Kab. Buton Utara'!F4 -> 336 | I78: =H78/$H$90 -> 0.0070254673 | J78: =I78*$I$93 -> 0.00070254673 | K78: ='7410 Kab. Buton Utara'!G4 -> 105 | L78: =K78/$K$90 -> 0.013664758 | M78: =L78*$I$94 -> 0.006832379 | N78: ='7410 Kab. Buton Utara'!H4 -> 7.266135 | O78: =N78/$N$90 -> 0.0041684764 | P78: =O78*$I$95 -> 0.00062527146 | Q78: ='7410 Kab. Buton Utara'!I4 -> 55.652802 | R78: =Q78/$Q$90 -> 0.01537603 | S78: =R78*$I$96 -> 0.0038440075 | T78: =J78+M78+P78+S78 -> 0.012004205 | U78: =FORMULASI!U78 -> 59444000 | V78: =FORMULASI!V78 -> 545237000 | W78: =3000000*12 -> 36000000 | X78: =2225000*12 -> 26700000 | Y78: =((2023000*6)+(2023000*2))*12 -> 194208000 | Z78: =((3000000*0.54%)+(2225000*0.54%)+((2023000*0.54%)*8))*12 -> 1387303.2 | AA78: 0 | AB78: =(W78+X78+Y78)*1% -> 2569080 | AC78: =((150000*1)+(100000*9))*12 -> 12600000 | AD78: 49200000 | AE78: =V78*10% -> 54523700 | AF78: 14700000 | AG78: 92000000 | AH78: =V78-(W78+X78+Y78+AA78+AB78+AE78+AF78+AG78+AC78+AD78+Z78) -> 61348917 | AJ78: =(AH78/AN78)*100 -> 11.251789 | AK78: =W78+X78+Y78 -> 256908000 | AL78: =AA78+AB78 -> 2569080 | AM78: =W78+X78+Y78+Z78+AA78+AB78+AC78+AD78+AE78+AF78+AG78+AH78 -> 545237000 | AN78: =V78 -> 545237000 | AO78: =AM78-AN78 -> 0
B79: 69 | C79: =FORMULASI!C79 -> Wakorumba Utara | D79: =FORMULASI!D79 -> Laeya | E79: =FORMULASI!E79 -> 485793000 | F79: ='7410 Kab. Buton Utara (2)'!D19 -> Sangat Tertinggal | G79: ='7410 Kab. Buton Utara'!E19 -> 3 | H79: ='7410 Kab. Buton Utara'!F19 -> 287 | I79: =H79/$H$90 -> 0.00600092 | J79: =I79*$I$93 -> 0.000600092 | K79: ='7410 Kab. Buton Utara'!G19 -> 62 | L79: =K79/$K$90 -> 0.0080687142 | M79: =L79*$I$94 -> 0.0040343571 | N79: ='7410 Kab. Buton Utara'!H19 -> 3.519355 | O79: =N79/$N$90 -> 0.002019003 | P79: =O79*$I$95 -> 0.00030285045 | Q79: ='7410 Kab. Buton Utara'!I19 -> 38.816725 | R79: =Q79/$Q$90 -> 0.010724476 | S79: =R79*$I$96 -> 0.0026811189 | T79: =J79+M79+P79+S79 -> 0.0076184185 | U79: =FORMULASI!U79 -> 43323000 | V79: =FORMULASI!V79 -> 529116000 | W79: =3000000*12 -> 36000000 | X79: =2225000*12 -> 26700000 | Y79: =((2023000*6)+(2023000*2))*12 -> 194208000 | Z79: =((3000000*0.54%)+(2225000*0.54%)+((2023000*0.54%)*8))*12 -> 1387303.2 | AA79: 0 | AB79: =(W79+X79+Y79)*1% -> 2569080 | AC79: =((150000*1)+(100000*9))*12 -> 12600000 | AD79: 49200000 | AE79: =V79*10% -> 52911600 | AF79: 14700000 | AG79: 92000000 | AH79: =V79-(W79+X79+Y79+AA79+AB79+AE79+AF79+AG79+AC79+AD79+Z79) -> 46840017 | AJ79: =(AH79/AN79)*100 -> 8.8525043 | AK79: =W79+X79+Y79 -> 256908000 | AL79: =AA79+AB79 -> 2569080 | AM79: =W79+X79+Y79+Z79+AA79+AB79+AC79+AD79+AE79+AF79+AG79+AH79 -> 529116000 | AN79: =V79 -> 529116000 | AO79: =AM79-AN79 -> 0
B80: 70 | C80: =FORMULASI!C80 -> Wakorumba Utara | D80: =FORMULASI!D80 -> Matalagi | E80: =FORMULASI!E80 -> 485793000 | F80: ='7410 Kab. Buton Utara (2)'!D31 -> Tertinggal | G80: ='7410 Kab. Buton Utara'!E31 -> 5 | H80: ='7410 Kab. Buton Utara'!F31 -> 726 | I80: =H80/$H$90 -> 0.015180028 | J80: =I80*$I$93 -> 0.0015180028 | K80: ='7410 Kab. Buton Utara'!G31 -> 129 | L80: =K80/$K$90 -> 0.016788131 | M80: =L80*$I$94 -> 0.0083940656 | N80: ='7410 Kab. Buton Utara'!H31 -> 4.069036 | O80: =N80/$N$90 -> 0.002334347 | P80: =O80*$I$95 -> 0.00035015205 | Q80: ='7410 Kab. Buton Utara'!I31 -> 33.317782 | R80: =Q80/$Q$90 -> 0.0092052007 | S80: =R80*$I$96 -> 0.0023013002 | T80: =J80+M80+P80+S80 -> 0.012563521 | U80: =FORMULASI!U80 -> 39389000 | V80: =FORMULASI!V80 -> 525182000 | W80: =3000000*12 -> 36000000 | X80: =2225000*12 -> 26700000 | Y80: =((2023000*6)+(2023000*2))*12 -> 194208000 | Z80: =((3000000*0.54%)+(2225000*0.54%)+((2023000*0.54%)*8))*12 -> 1387303.2 | AA80: 0 | AB80: =(W80+X80+Y80)*1% -> 2569080 | AC80: =((150000*1)+(100000*9))*12 -> 12600000 | AD80: 49200000 | AE80: =V80*10% -> 52518200 | AF80: 14700000 | AG80: 92000000 | AH80: =V80-(W80+X80+Y80+AA80+AB80+AE80+AF80+AG80+AC80+AD80+Z80) -> 43299417 | AJ80: =(AH80/AN80)*100 -> 8.2446498 | AK80: =W80+X80+Y80 -> 256908000 | AL80: =AA80+AB80 -> 2569080 | AM80: =W80+X80+Y80+Z80+AA80+AB80+AC80+AD80+AE80+AF80+AG80+AH80 -> 525182000 | AN80: =V80 -> 525182000 | AO80: =AM80-AN80 -> 0
B81: 71 | C81: =FORMULASI!C81 -> Wakorumba Utara | D81: =FORMULASI!D81 -> Wantulasi | E81: =FORMULASI!E81 -> 485793000 | F81: ='7410 Kab. Buton Utara (2)'!D32 -> Tertinggal | G81: ='7410 Kab. Buton Utara'!E32 -> 6 | H81: ='7410 Kab. Buton Utara'!F32 -> 587 | I81: =H81/$H$90 -> 0.012273659 | J81: =I81*$I$93 -> 0.0012273659 | K81: ='7410 Kab. Buton Utara'!G32 -> 170 | L81: =K81/$K$90 -> 0.022123894 | M81: =L81*$I$94 -> 0.011061947 | N81: ='7410 Kab. Buton Utara'!H32 -> 18.136274 | O81: =N81/$N$90 -> 0.010404518 | P81: =O81*$I$95 -> 0.0015606777 | Q81: ='7410 Kab. Buton Utara'!I32 -> 35.636427 | R81: =Q81/$Q$90 -> 0.0098458073 | S81: =R81*$I$96 -> 0.0024614518 | T81: =J81+M81+P81+S81 -> 0.016311442 | U81: =FORMULASI!U81 -> 40504000 | V81: =FORMULASI!V81 -> 526297000 | W81: =3000000*12 -> 36000000 | X81: =2225000*12 -> 26700000 | Y81: =((2023000*6)+(2023000*2))*12 -> 194208000 | Z81: =((3000000*0.54%)+(2225000*0.54%)+((2023000*0.54%)*8))*12 -> 1387303.2 | AA81: 0 | AB81: =(W81+X81+Y81)*1% -> 2569080 | AC81: =((150000*1)+(100000*9))*12 -> 12600000 | AD81: 49200000 | AE81: =V81*10% -> 52629700 | AF81: 14700000 | AG81: 92000000 | AH81: =V81-(W81+X81+Y81+AA81+AB81+AE81+AF81+AG81+AC81+AD81+Z81) -> 44302917 | AJ81: =(AH81/AN81)*100 -> 8.4178547 | AK81: =W81+X81+Y81 -> 256908000 | AL81: =AA81+AB81 -> 2569080 | AM81: =W81+X81+Y81+Z81+AA81+AB81+AC81+AD81+AE81+AF81+AG81+AH81 -> 526297000 | AN81: =V81 -> 526297000 | AO81: =AM81-AN81 -> 0
B82: 72 | C82: =FORMULASI!C82 -> Wakorumba Utara | D82: =FORMULASI!D82 -> Labuan Bajo | E82: =FORMULASI!E82 -> 485793000 | F82: ='7410 Kab. Buton Utara (2)'!D47 -> Tertinggal | G82: ='7410 Kab. Buton Utara'!E47 -> 6 | H82: ='7410 Kab. Buton Utara'!F47 -> 499 | I82: =H82/$H$90 -> 0.010433655 | J82: =I82*$I$93 -> 0.0010433655 | K82: ='7410 Kab. Buton Utara'!G47 -> 158 | L82: =K82/$K$90 -> 0.020562207 | M82: =L82*$I$94 -> 0.010281104 | N82: ='7410 Kab. Buton Utara'!H47 -> 15.166459 | O82: =N82/$N$90 -> 0.0087007779 | P82: =O82*$I$95 -> 0.0013051167 | Q82: ='7410 Kab. Buton Utara'!I47 -> 60.870413 | R82: =Q82/$Q$90 -> 0.016817577 | S82: =R82*$I$96 -> 0.0042043943 | T82: =J82+M82+P82+S82 -> 0.01683398 | U82: =FORMULASI!U82 -> 68482000 | V82: =FORMULASI!V82 -> 554275000 | W82: =3000000*12 -> 36000000 | X82: =2225000*12 -> 26700000 | Y82: =((2023000*6)+(2023000*2))*12 -> 194208000 | Z82: =((3000000*0.54%)+(2225000*0.54%)+((2023000*0.54%)*8))*12 -> 1387303.2 | AA82: 0 | AB82: =(W82+X82+Y82)*1% -> 2569080 | AC82: =((150000*1)+(100000*9))*12 -> 12600000 | AD82: 49200000 | AE82: =V82*10% -> 55427500 | AF82: 14700000 | AG82: 92000000 | AH82: =V82-(W82+X82+Y82+AA82+AB82+AE82+AF82+AG82+AC82+AD82+Z82) -> 69483117 | AJ82: =(AH82/AN82)*100 -> 12.535856 | AK82: =W82+X82+Y82 -> 256908000 | AL82: =AA82+AB82 -> 2569080 | AM82: =W82+X82+Y82+Z82+AA82+AB82+AC82+AD82+AE82+AF82+AG82+AH82 -> 554275000 | AN82: =V82 -> 554275000 | AO82: =AM82-AN82 -> 0
B83: 73 | C83: =FORMULASI!C83 -> Wakorumba Utara | D83: =FORMULASI!D83 -> Labaraga | E83: =FORMULASI!E83 -> 485793000 | F83: ='7410 Kab. Buton Utara (2)'!D48 -> Tertinggal | G83: ='7410 Kab. Buton Utara'!E48 -> 4 | H83: ='7410 Kab. Buton Utara'!F48 -> 497 | I83: =H83/$H$90 -> 0.010391837 | J83: =I83*$I$93 -> 0.0010391837 | K83: ='7410 Kab. Buton Utara'!G48 -> 94 | L83: =K83/$K$90 -> 0.012233212 | M83: =L83*$I$94 -> 0.0061166059 | N83: ='7410 Kab. Buton Utara'!H48 -> 6.801103 | O83: =N83/$N$90 -> 0.0039016943 | P83: =O83*$I$95 -> 0.00058525414 | Q83: ='7410 Kab. Buton Utara'!I48 -> 36.001551 | R83: =Q83/$Q$90 -> 0.0099466856 | S83: =R83*$I$96 -> 0.0024866714 | T83: =J83+M83+P83+S83 -> 0.010227715 | U83: =FORMULASI!U83 -> 36788000 | V83: =FORMULASI!V83 -> 522581000 | W83: =3000000*12 -> 36000000 | X83: =2225000*12 -> 26700000 | Y83: =((2023000*6)+(2023000*2))*12 -> 194208000 | Z83: =((3000000*0.54%)+(2225000*0.54%)+((2023000*0.54%)*8))*12 -> 1387303.2 | AA83: 0 | AB83: =(W83+X83+Y83)*1% -> 2569080 | AC83: =((150000*1)+(100000*9))*12 -> 12600000 | AD83: 49200000 | AE83: =V83*10% -> 52258100 | AF83: 14700000 | AG83: 92000000 | AH83: =V83-(W83+X83+Y83+AA83+AB83+AE83+AF83+AG83+AC83+AD83+Z83) -> 40958517 | AJ83: =(AH83/AN83)*100 -> 7.8377355 | AK83: =W83+X83+Y83 -> 256908000 | AL83: =AA83+AB83 -> 2569080 | AM83: =W83+X83+Y83+Z83+AA83+AB83+AC83+AD83+AE83+AF83+AG83+AH83 -> 522581000 | AN83: =V83 -> 522581000 | AO83: =AM83-AN83 -> 0
B84: 74 | C84: =FORMULASI!C84 -> Wakorumba Utara | D84: =FORMULASI!D84 -> Wamorapa | E84: =FORMULASI!E84 -> 485793000 | F84: ='7410 Kab. Buton Utara (2)'!D59 -> Tertinggal | G84: ='7410 Kab. Buton Utara'!E59 -> 4 | H84: ='7410 Kab. Buton Utara'!F59 -> 1185 | I84: =H84/$H$90 -> 0.024777318 | J84: =I84*$I$93 -> 0.0024777318 | K84: ='7410 Kab. Buton Utara'!G59 -> 92 | L84: =K84/$K$90 -> 0.011972931 | M84: =L84*$I$94 -> 0.0059864654 | N84: ='7410 Kab. Buton Utara'!H59 -> 2.788452 | O84: =N84/$N$90 -> 0.0015996945 | P84: =O84*$I$95 -> 0.00023995418 | Q84: ='7410 Kab. Buton Utara'!I59 -> 56.314491 | R84: =Q84/$Q$90 -> 0.015558845 | S84: =R84*$I$96 -> 0.0038897111 | T84: =J84+M84+P84+S84 -> 0.012593862 | U84: =FORMULASI!U84 -> 31139000 | V84: =FORMULASI!V84 -> 516932000 | W84: =3000000*12 -> 36000000 | X84: =2225000*12 -> 26700000 | Y84: =((2023000*6)+(2023000*2))*12 -> 194208000 | Z84: =((3000000*0.54%)+(2225000*0.54%)+((2023000*0.54%)*8))*12 -> 1387303.2 | AA84: 0 | AB84: =(W84+X84+Y84)*1% -> 2569080 | AC84: =((150000*1)+(100000*9))*12 -> 12600000 | AD84: 49200000 | AE84: =V84*10% -> 51693200 | AF84: 14700000 | AG84: 92000000 | AH84: =V84-(W84+X84+Y84+AA84+AB84+AE84+AF84+AG84+AC84+AD84+Z84) -> 35874417 | AJ84: =(AH84/AN84)*100 -> 6.9398715 | AK84: =W84+X84+Y84 -> 256908000 | AL84: =AA84+AB84 -> 2569080 | AM84: =W84+X84+Y84+Z84+AA84+AB84+AC84+AD84+AE84+AF84+AG84+AH84 -> 516932000 | AN84: =V84 -> 516932000 | AO84: =AM84-AN84 -> 0
B85: 75 | C85: =FORMULASI!C85 -> Wakorumba Utara | D85: =FORMULASI!D85 -> Sumampeno | E85: =FORMULASI!E85 -> 485793000 | F85: ='7410 Kab. Buton Utara (2)'!D61 -> Tertinggal | G85: ='7410 Kab. Buton Utara'!E61 -> 2 | H85: ='7410 Kab. Buton Utara'!F61 -> 448 | I85: =H85/$H$90 -> 0.0093672898 | J85: =I85*$I$93 -> 0.00093672898 | K85: ='7410 Kab. Buton Utara'!G61 -> 26 | L85: =K85/$K$90 -> 0.0033836543 | M85: =L85*$I$94 -> 0.0016918272 | N85: ='7410 Kab. Buton Utara'!H61 -> 10.408354 | O85: =N85/$N$90 -> 0.005971122 | P85: =O85*$I$95 -> 0.00089566829 | Q85: ='7410 Kab. Buton Utara'!I61 -> 36.9575 | R85: =Q85/$Q$90 -> 0.0102108 | S85: =R85*$I$96 -> 0.0025527 | T85: =J85+M85+P85+S85 -> 0.0060769244 | U85: =FORMULASI!U85 -> 35815000 | V85: =FORMULASI!V85 -> 521608000 | W85: =3000000*12 -> 36000000 | X85: =2225000*12 -> 26700000 | Y85: =((2023000*6)+(2023000*2))*12 -> 194208000 | Z85: =((3000000*0.54%)+(2225000*0.54%)+((2023000*0.54%)*8))*12 -> 1387303.2 | AA85: 0 | AB85: =(W85+X85+Y85)*1% -> 2569080 | AC85: =((150000*1)+(100000*9))*12 -> 12600000 | AD85: 49200000 | AE85: =V85*10% -> 52160800 | AF85: 14700000 | AG85: 92000000 | AH85: =V85-(W85+X85+Y85+AA85+AB85+AE85+AF85+AG85+AC85+AD85+Z85) -> 40082817 | AJ85: =(AH85/AN85)*100 -> 7.6844713 | AK85: =W85+X85+Y85 -> 256908000 | AL85: =AA85+AB85 -> 2569080 | AM85: =W85+X85+Y85+Z85+AA85+AB85+AC85+AD85+AE85+AF85+AG85+AH85 -> 521608000 | AN85: =V85 -> 521608000 | AO85: =AM85-AN85 -> 0
B86: 76 | C86: =FORMULASI!C86 -> Wakorumba Utara | D86: =FORMULASI!D86 -> Oengkapala | E86: =FORMULASI!E86 -> 485793000 | F86: ='7410 Kab. Buton Utara (2)'!D67 -> Tertinggal | G86: ='7410 Kab. Buton Utara'!E67 -> 3 | H86: ='7410 Kab. Buton Utara'!F67 -> 307 | I86: =H86/$H$90 -> 0.0064191026 | J86: =I86*$I$93 -> 0.00064191026 | K86: ='7410 Kab. Buton Utara'!G67 -> 48 | L86: =K86/$K$90 -> 0.0062467465 | M86: =L86*$I$94 -> 0.0031233732 | N86: ='7410 Kab. Buton Utara'!H67 -> 16.291105 | O86: =N86/$N$90 -> 0.009345971 | P86: =O86*$I$95 -> 0.0014018957 | Q86: ='7410 Kab. Buton Utara'!I67 -> 63.637138 | R86: =Q86/$Q$90 -> 0.017581981 | S86: =R86*$I$96 -> 0.0043954954 | T86: =J86+M86+P86+S86 -> 0.0095626745 | U86: =FORMULASI!U86 -> 25478000 | V86: =FORMULASI!V86 -> 511271000 | W86: =3000000*12 -> 36000000 | X86: =2225000*12 -> 26700000 | Y86: =((2023000*6)+(2023000*2))*12 -> 194208000 | Z86: =((3000000*0.54%)+(2225000*0.54%)+((2023000*0.54%)*8))*12 -> 1387303.2 | AA86: 0 | AB86: =(W86+X86+Y86)*1% -> 2569080 | AC86: =((150000*1)+(100000*9))*12 -> 12600000 | AD86: 49200000 | AE86: =V86*10% -> 51127100 | AF86: 14700000 | AG86: 92000000 | AH86: =V86-(W86+X86+Y86+AA86+AB86+AE86+AF86+AG86+AC86+AD86+Z86) -> 30779517 | AJ86: =(AH86/AN86)*100 -> 6.0201961 | AK86: =W86+X86+Y86 -> 256908000 | AL86: =AA86+AB86 -> 2569080 | AM86: =W86+X86+Y86+Z86+AA86+AB86+AC86+AD86+AE86+AF86+AG86+AH86 -> 511271000 | AN86: =V86 -> 511271000 | AO86: =AM86-AN86 -> 0
B87: 77 | C87: =FORMULASI!C87 -> Wakorumba Utara | D87: =FORMULASI!D87 -> Labuko | E87: =FORMULASI!E87 -> 485793000 | F87: ='7410 Kab. Buton Utara (2)'!D73 -> Tertinggal | G87: ='7410 Kab. Buton Utara'!E73 -> 3 | H87: ='7410 Kab. Buton Utara'!F73 -> 323 | I87: =H87/$H$90 -> 0.0067536486 | J87: =I87*$I$93 -> 0.00067536486 | K87: ='7410 Kab. Buton Utara'!G73 -> 57 | L87: =K87/$K$90 -> 0.0074180115 | M87: =L87*$I$94 -> 0.0037090057 | N87: ='7410 Kab. Buton Utara'!H73 -> 4.534069 | O87: =N87/$N$90 -> 0.0026011297 | P87: =O87*$I$95 -> 0.00039016946 | Q87: ='7410 Kab. Buton Utara'!I73 -> 33.775845 | R87: =Q87/$Q$90 -> 0.0093317566 | S87: =R87*$I$96 -> 0.0023329391 | T87: =J87+M87+P87+S87 -> 0.0071074792 | U87: =FORMULASI!U87 -> 53119000 | V87: =FORMULASI!V87 -> 538912000 | W87: =3000000*12 -> 36000000 | X87: =2225000*12 -> 26700000 | Y87: =((2023000*6)+(2023000*2))*12 -> 194208000 | Z87: =((3000000*0.54%)+(2225000*0.54%)+((2023000*0.54%)*8))*12 -> 1387303.2 | AA87: 0 | AB87: =(W87+X87+Y87)*1% -> 2569080 | AC87: =((150000*1)+(100000*9))*12 -> 12600000 | AD87: 49200000 | AE87: =V87*10% -> 53891200 | AF87: 14700000 | AG87: 92000000 | AH87: =V87-(W87+X87+Y87+AA87+AB87+AE87+AF87+AG87+AC87+AD87+Z87) -> 55656417 | AJ87: =(AH87/AN87)*100 -> 10.327552 | AK87: =W87+X87+Y87 -> 256908000 | AL87: =AA87+AB87 -> 2569080 | AM87: =W87+X87+Y87+Z87+AA87+AB87+AC87+AD87+AE87+AF87+AG87+AH87 -> 538912000 | AN87: =V87 -> 538912000 | AO87: =AM87-AN87 -> 0
B88: 78 | C88: =FORMULASI!C88 -> Wakorumba Utara | D88: =FORMULASI!D88 -> Laba Jaya | E88: =FORMULASI!E88 -> 485793000 | F88: ='7410 Kab. Buton Utara (2)'!D76 -> Sangat Tertinggal | G88: ='7410 Kab. Buton Utara'!E76 -> 4 | H88: ='7410 Kab. Buton Utara'!F76 -> 877 | I88: =H88/$H$90 -> 0.018337306 | J88: =I88*$I$93 -> 0.0018337306 | K88: ='7410 Kab. Buton Utara'!G76 -> 86 | L88: =K88/$K$90 -> 0.011192087 | M88: =L88*$I$94 -> 0.0055960437 | N88: ='7410 Kab. Buton Utara'!H76 -> 0.203639 | O88: =N88/$N$90 -> 0.00011682475 | P88: =O88*$I$95 -> 1.7523712e-05 | Q88: ='7410 Kab. Buton Utara'!I76 -> 35.977331 | R88: =Q88/$Q$90 -> 0.0099399939 | S88: =R88*$I$96 -> 0.0024849985 | T88: =J88+M88+P88+S88 -> 0.0099322965 | U88: =FORMULASI!U88 -> 67869000 | V88: =FORMULASI!V88 -> 553662000 | W88: =3000000*12 -> 36000000 | X88: =2225000*12 -> 26700000 | Y88: =((2023000*6)+(2023000*2))*12 -> 194208000 | Z88: =((3000000*0.54%)+(2225000*0.54%)+((2023000*0.54%)*8))*12 -> 1387303.2 | AA88: 0 | AB88: =(W88+X88+Y88)*1% -> 2569080 | AC88: =((150000*1)+(100000*9))*12 -> 12600000 | AD88: 49200000 | AE88: =V88*10% -> 55366200 | AF88: 14700000 | AG88: 92000000 | AH88: =V88-(W88+X88+Y88+AA88+AB88+AE88+AF88+AG88+AC88+AD88+Z88) -> 68931417 | AJ88: =(AH88/AN88)*100 -> 12.45009 | AK88: =W88+X88+Y88 -> 256908000 | AL88: =AA88+AB88 -> 2569080 | AM88: =W88+X88+Y88+Z88+AA88+AB88+AC88+AD88+AE88+AF88+AG88+AH88 -> 553662000 | AN88: =V88 -> 553662000 | AO88: =AM88-AN88 -> 0
AJ89: =SUM(SUM(AVERAGE(AJ11:AJ88))) -> 10.326819 | AK89: =W89+X89+Y89 -> 0 | AL89: =AA89+AB89 -> 0
B90: Total | E90: =SUM(E11:E88)+54 -> 37891854054 | H90: =SUM(H11:H88) -> 47826 | I90: =SUM(I11:I88) -> 1 | J90: =SUM(J11:J88) -> 0.1 | K90: =SUM(K11:K88) -> 7684 | L90: =SUM(L11:L88) -> 1 | M90: =SUM(M11:M88) -> 0.5 | N90: =SUM(N11:N88) -> 1743.1153 | O90: =SUM(O11:O88) -> 1 | ... AH90: =SUM(AH11:AH88) -> 4.4015092e+09
C92: Kontrol Penghitungan | H92: Bobot | V92: =W90+X90+Y90+AA90+AB90+AE90+AF90+AG90+AH90 -> 3.7173536e+10
C93: Pagu Dana Desa Kabupaten Buton Utara | F93: 44852565000 | H93: JP | I93: 0.1
C94: Hasil Perhitungan Pagu Dana Desa Kab. Buton Utara | F94: =V90 -> 42102145600 | H94: JPM | I94: 0.5
C95: Pagu Alokasi Dasar Kabupaten Buton Utara | F95: =F93*90% -> 40367308500 | H95: LW | I95: 0.15
C96: Hasil Hitung Alokasi Dasar Kabupaten Buton Utara | F96: =E90 -> 37891854054 | H96: IKG | I96: 0.25
C97: Pagu Alokasi Afirmasi Kabupaten Buton Utara | F97: 422578
C98: Hasil Hitung Alokasi Afirmasi Kab. Buton Utara | F98: =#REF! -> #REF!
C99: Pagu Alokasi Formula Kabupaten Buton Utara | F99: =F93*10% -> 4485256500
C100: Hasil Hitung Alokasi Formula Kab. Buton Utara | F100: =U90 -> 4210291600 | Q100: Tempat Kedudukan, DD/MM/YYYY
C101: Jumlah Desa | F101: 78
...

Sheet DATA (21)
A1: kddesa | B1: kdprov | C1: prov | D1: kdpemda | E1: pemda | F1: kec | G1: desa | H1: Klaster_JP | I1: KlasifikasiDesa | J1: desil_JPM | K1: skor_kinerja | L1: JP | M1: JPM | N1: LW | O1: IKG
A2: 7410012001 | B2: 74 | C2: Sulawesi Tenggara | D2: 7410 | E2: Kab. Buton Utara | F2: Kulisusu | G2: Tri Wacu-Wacu | H2: 2 | I2: TERTINGGAL | J2: 6 | K2: 46.591937 | L2: 500 | M2: 142 | N2: 54.57885 | O2: 30.767103
A3: 7410012002 | B3: 74 | C3: Sulawesi Tenggara | D3: 7410 | E3: Kab. Buton Utara | F3: Kulisusu | G3: Waculaea | H3: 2 | I3: TERTINGGAL | J3: 3 | K3: 45.934396 | L3: 531 | M3: 53 | N3: 55.655691 | O3: 28.071301
A4: 7410012003 | B4: 74 | C4: Sulawesi Tenggara | D4: 7410 | E4: Kab. Buton Utara | F4: Kulisusu | G4: Eelahaji | H4: 2 | I4: BERKEMBANG | J4: 4 | K4: 51.896119 | L4: 901 | M4: 61 | N4: 34.572273 | O4: 28.733798
A5: 7410012004 | B5: 74 | C5: Sulawesi Tenggara | D5: 7410 | E5: Kab. Buton Utara | F5: Kulisusu | G5: Tomoahi | H5: 2 | I5: BERKEMBANG | J5: 2 | K5: 48.555367 | L5: 958 | M5: 31 | N5: 43.266349 | O5: 23.981075
A6: 7410012005 | B6: 74 | C6: Sulawesi Tenggara | D6: 7410 | E6: Kab. Buton Utara | F6: Kulisusu | G6: Kalibu | H6: 2 | I6: BERKEMBANG | J6: 4 | K6: 42.029838 | L6: 989 | M6: 65 | N6: 32.588618 | O6: 17.458146
A7: 7410012006 | B7: 74 | C7: Sulawesi Tenggara | D7: 7410 | E7: Kab. Buton Utara | F7: Kulisusu | G7: Jampaka | H7: 2 | I7: BERKEMBANG | J7: 6 | K7: 54.034743 | L7: 604 | M7: 142 | N7: 48.027121 | O7: 29.342813
A8: 7410012007 | B8: 74 | C8: Sulawesi Tenggara | D8: 7410 | E8: Kab. Buton Utara | F8: Kulisusu | G8: Loji | H8: 3 | I8: BERKEMBANG | J8: 4 | K8: 50.602124 | L8: 1202 | M8: 88 | N8: 1.6165917 | O8: 27.411836
A9: 7410012011 | B9: 74 | C9: Sulawesi Tenggara | D9: 7410 | E9: Kab. Buton Utara | F9: Kulisusu | G9: Linsowu | H9: 3 | I9: BERKEMBANG | J9: 5 | K9: 49.951833 | L9: 1091 | M9: 122 | N9: 7.6512407 | O9: 19.023554
A10: 7410012013 | B10: 74 | C10: Sulawesi Tenggara | D10: 7410 | E10: Kab. Buton Utara | F10: Kulisusu | G10: Rombo | H10: 3 | I10: BERKEMBANG | J10: 6 | K10: 40.733926 | L10: 1056 | M10: 152 | N10: 0.95215439 | O10: 36.439428
A11: 7410012018 | B11: 74 | C11: Sulawesi Tenggara | D11: 7410 | E11: Kab. Buton Utara | F11: Kulisusu | G11: Wasalabose | H11: 2 | I11: BERKEMBANG | J11: 4 | K11: 50.310397 | L11: 880 | M11: 87 | N11: 4.272245 | O11: 45.107533
A12: 7410012019 | B12: 74 | C12: Sulawesi Tenggara | D12: 7410 | E12: Kab. Buton Utara | F12: Kulisusu | G12: Malalanda | H12: 2 | I12: BERKEMBANG | J12: 5 | K12: 43.955677 | L12: 667 | M12: 106 | N12: 4.8976766 | O12: 30.99914
A13: 7410012020 | B13: 74 | C13: Sulawesi Tenggara | D13: 7410 | E13: Kab. Buton Utara | F13: Kulisusu | G13: Lemo Ea | H13: 2 | I13: BERKEMBANG | J13: 5 | K13: 49.501903 | L13: 772 | M13: 113 | N13: 1.5858445 | O13: 42.233827
... A79: 7410062013 | B79: 74 | C79: Sulawesi Tenggara | D79: 7410 | E79: Kab. Buton Utara | F79: Wakorumba Utara | G79: Laba Jaya | H79: 2 | I79: TERTINGGAL | J79: 6 | K79: 48.287688 | L79: 495 | M79: 155 | N79: 15.166459 | O79: 41.324843

Sheet DATA (20)
A1: kode_desa | B1: kdprov | C1: prov | D1: kode_pemda | E1: nama_kab_kota | F1: kec | G1: desa | H1: KlasifikasiDesa | I1: desil_JPM | J1: skor | K1: JP | L1: JPM | M1: LW | N1: IKG
A2: 7410012001 | B2: 74 | C2: Sulawesi Tenggara | D2: 7410 | E2: Kab. Buton Utara | F2: Kulisusu | G2: Tri Wacu-Wacu | H2: Tertinggal | I2: 6 | J2: 45.365079 | K2: 498 | L2: 143 | M2: 54.57885 | N2: 36.029773
A3: 7410012002 | B3: 74 | C3: Sulawesi Tenggara | D3: 7410 | E3: Kab. Buton Utara | F3: Kulisusu | G3: Waculaea | H3: Tertinggal | I3: 3 | J3: 47.196203 | K3: 500 | L3: 53 | M3: 55.655691 | N3: 35.528974
A4: 7410012003 | B4: 74 | C4: Sulawesi Tenggara | D4: 7410 | E4: Kab. Buton Utara | F4: Kulisusu | G4: Eelahaji | H4: Tertinggal | I4: 4 | J4: 50.219067 | K4: 878 | L4: 61 | M4: 34.572273 | N4: 28.353249
A5: 7410012004 | B5: 74 | C5: Sulawesi Tenggara | D5: 7410 | E5: Kab. Buton Utara | F5: Kulisusu | G5: Tomoahi | H5: Berkembang | I5: 2 | J5: 48.016375 | K5: 971 | L5: 31 | M5: 43.266349 | N5: 30.785327
A6: 7410012005 | B6: 74 | C6: Sulawesi Tenggara | D6: 7410 | E6: Kab. Buton Utara | F6: Kulisusu | G6: Kalibu | H6: Berkembang | I6: 4 | J6: 48.579231 | K6: 925 | L6: 65 | M6: 32.588618 | N6: 20.263974
A7: 7410012006 | B7: 74 | C7: Sulawesi Tenggara | D7: 7410 | E7: Kab. Buton Utara | F7: Kulisusu | G7: Jampaka | H7: Tertinggal | I7: 6 | J7: 48.95957 | K7: 591 | L7: 150 | M7: 48.027121 | N7: 34.641109
A8: 7410012007 | B8: 74 | C8: Sulawesi Tenggara | D8: 7410 | E8: Kab. Buton Utara | F8: Kulisusu | G8: Loji | H8: Berkembang | I8: 5 | J8: 51.816826 | K8: 1176 | L8: 98 | M8: 1.6165917 | N8: 35.679887
A9: 7410012011 | B9: 74 | C9: Sulawesi Tenggara | D9: 7410 | E9: Kab. Buton Utara | F9: Kulisusu | G9: Linsowu | H9: Berkembang | I9: 5 | J9: 48.261159 | K9: 996 | L9: 123 | M9: 7.6512407 | N9: 22.626918
A10: 7410012013 | B10: 74 | C10: Sulawesi Tenggara | D10: 7410 | E10: Kab. Buton Utara | F10: Kulisusu | G10: Rombo | H10: Berkembang | I10: 6 | J10: 53.473781 | K10: 1039 | L10: 155 | M10: 0.95215439 | N10: 41.017188
A11: 7410012018 | B11: 74 | C11: Sulawesi Tenggara | D11: 7410 | E11: Kab. Buton Utara | F11: Kulisusu | G11: Wasalabose | H11: Berkembang | I11: 4 | J11: 55.067834 | K11: 772 | L11: 88 | M11: 4.272245 | N11: 43.603939
A12: 7410012019 | B12: 74 | C12: Sulawesi Tenggara | D12: 7410 | E12: Kab. Buton Utara | F12: Kulisusu | G12: Malalanda | H12: Berkembang | I12: 5 | J12: 46.675243 | K12: 624 | L12: 111 | M12: 4.8976766 | N12: 35.293403
A13: 7410012020 | B13: 74 | C13: Sulawesi Tenggara | D13: 7410 | E13: Kab. Buton Utara | F13: Kulisusu | G13: Lemo Ea | H13: Berkembang | I13: 5 | J13: 53.900667 | K13: 714 | L13: 113 | M13: 1.5858445 | N13: 38.474841
... A79: 7410062013 | B79: 74 | C79: Sulawesi Tenggara | D79: 7410 | E79: Kab. Buton Utara | F79: Wakorumba Utara | G79: Laba Jaya | H79: Tertinggal | I79: 6 | J79: 51.748565 | K79: 506 | L79: 158 | M79: 15.166459 | N79: 40.431739

Sheet LAMPIRAN ADD 2021
AK1: =AK2+AK3 -> 12200000
C2: LAMPIRAN | D2: : PERATURAN BUPATI BUTON UTARA | AK2: 5000000
D3: NOMOR | E3: : 4 TAHUN 2021 | AK3: =600000*12 -> 7200000
D4: TANGGAL | E4: : 15-2-2021 | AK4: =(1000000+900000+800000+(700000*2))*12 -> 49200000 | AL4: 81000000
D5: TENTANG | E5: : PERATURAN BUPATI BUTON UTARA NOMOR 00 TENTANG PEDOMAN PENGALOKASIAN DAN PENGGUNAAN ALOKASI DANA DESA KABUPATEN BUTON UTARA TAHUN ANGGARAN 2021 | AK5: =AK4+5000000 -> 54200000
AK6: =AK4+AK3+AK2 -> 61400000
B7: No. | C7: Kecamatan | D7: Nama Desa | E7: Alokasi Dasar | F7: Klasifikasi Desa IDM | G7: Desil JPM | H7: Alokasi Formula | T7: Total Bobot | U7: Alokasi Formula | V7: Pagu Alokasi Dana Desa per-Desa | W7: SILTAP | Z7: Tunjangan | AE7: Operasional | AH7: Pembangunan/ Pengadaan | AK7: =AK4+AK3 -> 56400000
H8: Jumlah Penduduk | K8: Jumlah Penduduk Miskin | N8: Luas Wilayah | Q8: IKG | AK8: =AC11+AD11 -> 61800000
H9: Jumlah Penduduk | I9: Rasio Jumlah Penduduk | J9: Bobot | K9: Jumlah Penduduk Miskin | L9: Rasio Jumlah Penduduk Miskin | M9: Bobot | N9: Luas Wilayah | O9: Rasio Luas Wilayah | P9: Bobot | Q9: Indeks Kesulitan Geografis | R9: Rasio Indeks Kesulitan Geografis | S9: Bobot | W9: Kades | X9: Sekdes | Y9: Kaur, Seksi dan Kadus | Z9: BPJS Ketenagakerjaan | AA9: BPJS Kesehatan 4% | AB9: BPJS Kesehatan 1% | AC9: Kepala Desa dan Perangkat | AD9: BPD | AE9: Kantor | AF9: BPD | AG9: LKD | AV9: BPJS KETENAGAKERJAAN | BB9: BPJS KESEHATAN
B10: (1) | C10: (2) | D10: (3) | E10: (4) | F10: (5) | G10: (6) | H10: (8) | I10: (9) | J10: (10) | K10: (11) | L10: (12) | M10: (13) | N10: (14) | O10: (15) | P10: (16) | Q10: (17) | R10: (18) | S10: (19) | T10: (20) = (10) + (13) + (16) + (19) | U10: (5) | V10: (6)=(4)+(5) | W10: (7) | X10: (8) | Y10: (9) | Z10: (10) | AA10: (11) | AB10: (11) | AC10: (12) | AD10: (13) | AE10: (14) | AF10: (15) | AG10: (16) | AH10: (17) | AI10: =W11+X11+Y11+Z11+AA11+AB11+AC11+AD11+AF11 -> 337911444
B11: 1 | C11: =FORMULASI!C11 -> Kulisusu | D11: =FORMULASI!D11 -> Tri Wacu-Wacu | E11: =FORMULASI!E11 -> 485793000 | F11: ='7410 Kab. Buton Utara (2)'!D10 -> Sangat Tertinggal | G11: ='7410 Kab. Buton Utara'!E10 -> 3 | H11: ='7410 Kab. Buton Utara'!F10 -> 368 | I11: =H11/$H$90 -> 0.0076945594 | J11: =I11*$I$93 -> 0.00076945594 | K11: ='7410 Kab. Buton Utara'!G10 -> 48 | L11: =K11/$K$90 -> 0.0062467465 | M11: =L11*$I$94 -> 0.0031233732 | N11: ='7410 Kab. Buton Utara'!H10 -> 60.578715 | O11: =N11/$N$90 -> 0.034753131 | P11: =O11*$I$95 -> 0.0052129697 | Q11: ='7410 Kab. Buton Utara'!I10 -> 39.358392 | R11: =Q11/$Q$90 -> 0.01087413 | S11: =R11*$I$96 -> 0.0027185325 | T11: =J11+M11+P11+S11 -> 0.011824331 | U11: =FORMULASI!U11 -> 75294000 | V11: =FORMULASI!V11 -> 561087000 | W11: =3000000*12 -> 36000000 | X11: =2225000*12 -> 26700000 | Y11: =((2023000*6)+(2023000*2))*12 -> 194208000 | Z11: =$AZ$22 -> 1387284 | AA11: 0 | AB11: =$BF$22 -> 3116160 | AC11: =((150000*1)+(100000*9))*12 -> 12600000 | AD11: 49200000 | AE11: =V11*10% -> 56108700 | AF11: 14700000 | AG11: 92000000 | AH11: =V11-(W11+X11+Y11+AA11+AB11+AE11+AF11+AG11+AC11+AD11+Z11) -> 75066856 | AJ11: =(AH11/AN11)*100 -> 13.378826 | AK11: =W11+X11+Y11 -> 256908000 | AL11: =AA11+AB11 -> 3116160 | AM11: =W11+X11+Y11+Z11+AA11+AB11+AC11+AD11+AE11+AF11+AG11+AH11 -> 561087000 | AN11: =V11 -> 561087000 | AO11: =AM11-AN11 -> 0 | AP11: =ROUNDDOWN(AH11,-3) -> 75066000 | AR11: =E11+U11 -> 561087000 | AS11: =AN11-AR11 -> 0 | AV11: kepala desa | AW11: 3000000 | AX11: 0.0054 | AY11: =AW11*AX11 -> 16200 | AZ11: 16200 | BB11: kepala desa | BC11: 3000000 | BD11: 0.01 | BE11: =BC11*BD11 -> 30000 | BF11: 30000
B12: 2 | C12: =FORMULASI!C12 -> Kulisusu | D12: =FORMULASI!D12 -> Waculaea | E12: =FORMULASI!E12 -> 485793000 | F12: ='7410 Kab. Buton Utara (2)'!D12 -> Tertinggal | G12: ='7410 Kab. Buton Utara'!E12 -> 5 | H12: ='7410 Kab. Buton Utara'!F12 -> 240 | I12: =H12/$H$90 -> 0.0050181909 | J12: =I12*$I$93 -> 0.00050181909 | K12: ='7410 Kab. Buton Utara'!G12 -> 105 | L12: =K12/$K$90 -> 0.013664758 | M12: =L12*$I$94 -> 0.006832379 | N12: ='7410 Kab. Buton Utara'!H12 -> 24.83881 | O12: =N12/$N$90 -> 0.014249666 | P12: =O12*$I$95 -> 0.0021374498 | Q12: ='7410 Kab. Buton Utara'!I12 -> 48.442036 | R12: =Q12/$Q$90 -> 0.013383804 | S12: =R12*$I$96 -> 0.003345951 | T12: =J12+M12+P12+S12 -> 0.012817599 | U12: =FORMULASI!U12 -> 50064000 | V12: =FORMULASI!V12 -> 535857000 | W12: =3000000*12 -> 36000000 | X12: =2225000*12 -> 26700000 | Y12: =((2023000*6)+(2023000*2))*12 -> 194208000 | Z12: =$AZ$22 -> 1387284 | AA12: 0 | AB12: =$BF$22 -> 3116160 | AC12: =((150000*1)+(100000*9))*12 -> 12600000 | AD12: 49200000 | AE12: =V12*10% -> 53585700 | AF12: 14700000 | AG12: 92000000 | AH12: =V12-(W12+X12+Y12+AA12+AB12+AE12+AF12+AG12+AC12+AD12+Z12) -> 52359856 | AJ12: =(AH12/AN12)*100 -> 9.7712367 | AK12: =W12+X12+Y12 -> 256908000 | AL12: =AA12+AB12 -> 3116160 | AM12: =W12+X12+Y12+Z12+AA12+AB12+AC12+AD12+AE12+AF12+AG12+AH12 -> 535857000 | AN12: =V12 -> 535857000 | AO12: =AM12-AN12 -> 0 | AP12: =ROUNDDOWN(AH12,-3) -> 52359000 | AR12: =E12+U12 -> 535857000 | AS12: =AN12-AR12 -> 0 | AV12: sekdes | AW12: 2225000 | AX12: 0.0054 | AY12: =AW12*AX12 -> 12015 | AZ12: 12015 | BB12: sekdes | BC12: 2552014 | BD12: 0.01 | BE12: =BC12*BD12 -> 25520.14 | BF12: 25520
B13: 3 | C13: =FORMULASI!C13 -> Kulisusu | D13: =FORMULASI!D13 -> Eelahaji | E13: =FORMULASI!E13 -> 485793000 | F13: ='7410 Kab. Buton Utara (2)'!D15 -> Tertinggal | G13: ='7410 Kab. Buton Utara'!E15 -> 1 | H13: ='7410 Kab. Buton Utara'!F15 -> 418 | I13: =H13/$H$90 -> 0.0087400159 | J13: =I13*$I$93 -> 0.00087400159 | K13: ='7410 Kab. Buton Utara'!G15 -> 13 | L13: =K13/$K$90 -> 0.0016918272 | M13: =L13*$I$94 -> 0.00084591359 | N13: ='7410 Kab. Buton Utara'!H15 -> 19.917515 | O13: =N13/$N$90 -> 0.01142639 | P13: =O13*$I$95 -> 0.0017139585 | Q13: ='7410 Kab. Buton Utara'!I15 -> 54.790809 | R13: =Q13/$Q$90 -> 0.015137874 | S13: =R13*$I$96 -> 0.0037844685 | T13: =J13+M13+P13+S13 -> 0.0072183422 | U13: =FORMULASI!U13 -> 47822000 | V13: =FORMULASI!V13 -> 533615000 | W13: =3000000*12 -> 36000000 | X13: =2225000*12 -> 26700000 | Y13: =((2023000*6)+(2023000*2))*12 -> 194208000 | Z13: =$AZ$22 -> 1387284 | AA13: 0 | AB13: =$BF$22 -> 3116160 | AC13: =((150000*1)+(100000*9))*12 -> 12600000 | AD13: 49200000 | AE13: =V13*10% -> 53361500 | AF13: 14700000 | AG13: 92000000 | AH13: =V13-(W13+X13+Y13+AA13+AB13+AE13+AF13+AG13+AC13+AD13+Z13) -> 50342056 | AJ13: =(AH13/AN13)*100 -> 9.4341531 | AK13: =W13+X13+Y13 -> 256908000 | AL13: =AA13+AB13 -> 3116160 | AM13: =W13+X13+Y13+Z13+AA13+AB13+AC13+AD13+AE13+AF13+AG13+AH13 -> 533615000 | AN13: =V13 -> 533615000 | AO13: =AM13-AN13 -> 0 | AP13: =ROUNDDOWN(AH13,-3) -> 50342000 | AR13: =E13+U13 -> 533615000 | AS13: =AN13-AR13 -> 0 | AV13: kaur | AW13: 2023000 | AX13: 0.0054 | AY13: =AW13*AX13 -> 10924.2 | AZ13: 10924 | BB13: kaur | BC13: 2552014 | BD13: 0.01 | BE13: =BC13*BD13 -> 25520.14 | BF13: 25520
B14: 4 | C14: =FORMULASI!C14 -> Kulisusu | D14: =FORMULASI!D14 -> Tomoahi | E14: =FORMULASI!E14 -> 485793000 | F14: ='7410 Kab. Buton Utara (2)'!D20 -> Tertinggal | G14: ='7410 Kab. Buton Utara'!E20 -> 3 | H14: ='7410 Kab. Buton Utara'!F20 -> 418 | I14: =H14/$H$90 -> 0.0087400159 | J14: =I14*$I$93 -> 0.00087400159 | K14: ='7410 Kab. Buton Utara'!G20 -> 62 | L14: =K14/$K$90 -> 0.0080687142 | M14: =L14*$I$94 -> 0.0040343571 | N14: ='7410 Kab. Buton Utara'!H20 -> 120.99737 | O14: =N14/$N$90 -> 0.069414437 | P14: =O14*$I$95 -> 0.010412166 | Q14: ='7410 Kab. Buton Utara'!I20 -> 58.255129 | R14: =Q14/$Q$90 -> 0.016095014 | S14: =R14*$I$96 -> 0.0040237534 | T14: =J14+M14+P14+S14 -> 0.019344278 | U14: =FORMULASI!U14 -> 41480000 | V14: =FORMULASI!V14 -> 527273000 | W14: =3000000*12 -> 36000000 | X14: =2225000*12 -> 26700000 | Y14: =((2023000*6)+(2023000*2))*12 -> 194208000 | Z14: =$AZ$22 -> 1387284 | AA14: 0 | AB14: =$BF$22 -> 3116160 | AC14: =((150000*1)+(100000*9))*12 -> 12600000 | AD14: 49200000 | AE14: =V14*10% -> 52727300 | AF14: 14700000 | AG14: 92000000 | AH14: =V14-(W14+X14+Y14+AA14+AB14+AE14+AF14+AG14+AC14+AD14+Z14) -> 44634256 | AJ14: =(AH14/AN14)*100 -> 8.4651131 | AK14: =W14+X14+Y14 -> 256908000 | AL14: =AA14+AB14 -> 3116160 | AM14: =W14+X14+Y14+Z14+AA14+AB14+AC14+AD14+AE14+AF14+AG14+AH14 -> 527273000 | AN14: =V14 -> 527273000 | AO14: =AM14-AN14 -> 0 | AP14: =ROUNDDOWN(AH14,-3) -> 44634000 | AR14: =E14+U14 -> 527273000 | AS14: =AN14-AR14 -> 0 | AV14: kaur | AW14: 2023000 | AX14: 0.0054 | AY14: =AW14*AX14 -> 10924.2 | AZ14: 10924 | BB14: kaur | BC14: 2552014 | BD14: 0.01 | BE14: =BC14*BD14 -> 25520.14 | BF14: 25520
B15: 5 | C15: =FORMULASI!C15 -> Kulisusu | D15: =FORMULASI!D15 -> Kalibu | E15: =FORMULASI!E15 -> 485793000 | F15: ='7410 Kab. Buton Utara (2)'!D28 -> Sangat Tertinggal | G15: ='7410 Kab. Buton Utara'!E28 -> 2 | H15: ='7410 Kab. Buton Utara'!F28 -> 204 | I15: =H15/$H$90 -> 0.0042654623 | J15: =I15*$I$93 -> 0.00042654623 | K15: ='7410 Kab. Buton Utara'!G28 -> 30 | L15: =K15/$K$90 -> 0.0039042166 | M15: =L15*$I$94 -> 0.0019521083 | N15: ='7410 Kab. Buton Utara'!H28 -> 6.801103 | O15: =N15/$N$90 -> 0.0039016943 | P15: =O15*$I$95 -> 0.00058525414 | Q15: ='7410 Kab. Buton Utara'!I28 -> 52.335044 | R15: =Q15/$Q$90 -> 0.014459383 | S15: =R15*$I$96 -> 0.0036148458 | T15: =J15+M15+P15+S15 -> 0.0065787545 | U15: =FORMULASI!U15 -> 44995000 | V15: =FORMULASI!V15 -> 530788000 | W15: =3000000*12 -> 36000000 | X15: =2225000*12 -> 26700000 | Y15: =((2023000*6)+(2023000*2))*12 -> 194208000 | Z15: =$AZ$22 -> 1387284 | AA15: 0 | AB15: =$BF$22 -> 3116160 | AC15: =((150000*1)+(100000*9))*12 -> 12600000 | AD15: 49200000 | AE15: =V15*10% -> 53078800 | AF15: 14700000 | AG15: 92000000 | AH15: =V15-(W15+X15+Y15+AA15+AB15+AE15+AF15+AG15+AC15+AD15+Z15) -> 47797756 | AJ15: =(AH15/AN15)*100 -> 9.0050559 | AK15: =W15+X15+Y15 -> 256908000 | AL15: =AA15+AB15 -> 3116160 | AM15: =W15+X15+Y15+Z15+AA15+AB15+AC15+AD15+AE15+AF15+AG15+AH15 -> 530788000 | AN15: =V15 -> 530788000 | AO15: =AM15-AN15 -> 0 | AP15: =ROUNDDOWN(AH15,-3) -> 47797000 | AR15: =E15+U15 -> 530788000 | AS15: =AN15-AR15 -> 0 | AV15: kaur | AW15: 2023000 | AX15: 0.0054 | AY15: =AW15*AX15 -> 10924.2 | AZ15: 10924 | BB15: kaur | BC15: 2552014 | BD15: 0.01 | BE15: =BC15*BD15 -> 25520.14 | BF15: 25520
B16: 6 | C16: =FORMULASI!C16 -> Kulisusu | D16: =FORMULASI!D16 -> Jampaka | E16: =FORMULASI!E16 -> 485793000 | F16: ='7410 Kab. Buton Utara (2)'!D34 -> Berkembang | G16: ='7410 Kab. Buton Utara'!E34 -> 3 | H16: ='7410 Kab. Buton Utara'!F34 -> 484 | I16: =H16/$H$90 -> 0.010120018 | J16: =I16*$I$93 -> 0.0010120018 | K16: ='7410 Kab. Buton Utara'!G34 -> 43 | L16: =K16/$K$90 -> 0.0055960437 | M16: =L16*$I$94 -> 0.0027980219 | N16: ='7410 Kab. Buton Utara'!H34 -> 49.793788 | O16: =N16/$N$90 -> 0.028565975 | P16: =O16*$I$95 -> 0.0042848963 | Q16: ='7410 Kab. Buton Utara'!I34 -> 61.483534 | R16: =Q16/$Q$90 -> 0.016986973 | S16: =R16*$I$96 -> 0.0042467433 | T16: =J16+M16+P16+S16 -> 0.012341663 | U16: =FORMULASI!U16 -> 73234000 | V16: =FORMULASI!V16 -> 559027000 | W16: =3000000*12 -> 36000000 | X16: =2225000*12 -> 26700000 | Y16: =((2023000*6)+(2023000*2))*12 -> 194208000 | Z16: =$AZ$22 -> 1387284 | AA16: 0 | AB16: =$BF$22 -> 3116160 | AC16: =((150000*1)+(100000*9))*12 -> 12600000 | AD16: 49200000 | AE16: =V16*10% -> 55902700 | AF16: 14700000 | AG16: 92000000 | AH16: =V16-(W16+X16+Y16+AA16+AB16+AE16+AF16+AG16+AC16+AD16+Z16) -> 73212856 | AJ16: =(AH16/AN16)*100 -> 13.096479 | AK16: =W16+X16+Y16 -> 256908000 | AL16: =AA16+AB16 -> 3116160 | AM16: =W16+X16+Y16+Z16+AA16+AB16+AC16+AD16+AE16+AF16+AG16+AH16 -> 559027000 | AN16: =V16 -> 559027000 | AO16: =AM16-AN16 -> 0 | AP16: =ROUNDDOWN(AH16,-3) -> 73212000 | AR16: =E16+U16 -> 559027000 | AS16: =AN16-AR16 -> 0 | AV16: kasi | AW16: 2023000 | AX16: 0.0054 | AY16: =AW16*AX16 -> 10924.2 | AZ16: 10924 | BB16: kasi | BC16: 2552014 | BD16: 0.01 | BE16: =BC16*BD16 -> 25520.14 | BF16: 25520
B17: 7 | C17: =FORMULASI!C17 -> Kulisusu | D17: =FORMULASI!D17 -> Loji | E17: =FORMULASI!E17 -> 485793000 | F17: ='7410 Kab. Buton Utara (2)'!D38 -> Tertinggal | G17: ='7410 Kab. Buton Utara'!E38 -> 3 | H17: ='7410 Kab. Buton Utara'!F38 -> 751 | I17: =H17/$H$90 -> 0.015702756 | J17: =I17*$I$93 -> 0.0015702756 | K17: ='7410 Kab. Buton Utara'!G38 -> 59 | L17: =K17/$K$90 -> 0.0076782926 | M17: =L17*$I$94 -> 0.0038391463 | N17: ='7410 Kab. Buton Utara'!H38 -> 8.104648 | O17: =N17/$N$90 -> 0.0046495192 | P17: =O17*$I$95 -> 0.00069742788 | Q17: ='7410 Kab. Buton Utara'!I38 -> 57.714174 | R17: =Q17/$Q$90 -> 0.015945556 | S17: =R17*$I$96 -> 0.003986389 | T17: =J17+M17+P17+S17 -> 0.010093239 | U17: =FORMULASI!U17 -> 45181000 | V17: =FORMULASI!V17 -> 530974000 | W17: =3000000*12 -> 36000000 | X17: =2225000*12 -> 26700000 | Y17: =((2023000*6)+(2023000*2))*12 -> 194208000 | Z17: =$AZ$22 -> 1387284 | AA17: 0 | AB17: =$BF$22 -> 3116160 | AC17: =((150000*1)+(100000*9))*12 -> 12600000 | AD17: 49200000 | AE17: =V17*10% -> 53097400 | AF17: 14700000 | AG17: 92000000 | AH17: =V17-(W17+X17+Y17+AA17+AB17+AE17+AF17+AG17+AC17+AD17+Z17) -> 47965156 | AJ17: =(AH17/AN17)*100 -> 9.0334284 | AK17: =W17+X17+Y17 -> 256908000 | AL17: =AA17+AB17 -> 3116160 | AM17: =W17+X17+Y17+Z17+AA17+AB17+AC17+AD17+AE17+AF17+AG17+AH17 -> 530974000 | AN17: =V17 -> 530974000 | AO17: =AM17-AN17 -> 0 | AP17: =ROUNDDOWN(AH17,-3) -> 47965000 | AR17: =E17+U17 -> 530974000 | AS17: =AN17-AR17 -> 0 | AV17: kasi | AW17: 2023000 | AX17: 0.0054 | AY17: =AW17*AX17 -> 10924.2 | AZ17: 10924 | BB17: kasi | BC17: 2552014 | BD17: 0.01 | BE17: =BC17*BD17 -> 25520.14 | BF17: 25520
B18: 8 | C18: =FORMULASI!C18 -> Kulisusu | D18: =FORMULASI!D18 -> Linsowu | E18: =FORMULASI!E18 -> 485793000 | F18: ='7410 Kab. Buton Utara (2)'!D60 -> Sangat Tertinggal | G18: ='7410 Kab. Buton Utara'!E60 -> 7 | H18: ='7410 Kab. Buton Utara'!F60 -> 835 | I18: =H18/$H$90 -> 0.017459123 | J18: =I18*$I$93 -> 0.0017459123 | K18: ='7410 Kab. Buton Utara'!G60 -> 228 | L18: =K18/$K$90 -> 0.029672046 | M18: =L18*$I$94 -> 0.014836023 | N18: ='7410 Kab. Buton Utara'!H60 -> 56.970571 | O18: =N18/$N$90 -> 0.032683192 | P18: =O18*$I$95 -> 0.0049024787 | Q18: ='7410 Kab. Buton Utara'!I60 -> 69.362306 | R18: =Q18/$Q$90 -> 0.019163759 | S18: =R18*$I$96 -> 0.0047909398 | T18: =J18+M18+P18+S18 -> 0.026275354 | U18: =FORMULASI!U18 -> 53074000 | V18: =FORMULASI!V18 -> 538867000 | W18: =3000000*12 -> 36000000 | X18: =2225000*12 -> 26700000 | Y18: =((2023000*6)+(2023000*2))*12 -> 194208000 | Z18: =$AZ$22 -> 1387284 | AA18: 0 | AB18: =$BF$22 -> 3116160 | AC18: =((150000*1)+(100000*9))*12 -> 12600000 | AD18: 49200000 | AE18: =V18*10% -> 53886700 | AF18: 14700000 | AG18: 92000000 | AH18: =V18-(W18+X18+Y18+AA18+AB18+AE18+AF18+AG18+AC18+AD18+Z18) -> 55068856 | AJ18: =(AH18/AN18)*100 -> 10.219378 | AK18: =W18+X18+Y18 -> 256908000 | AL18: =AA18+AB18 -> 3116160 | AM18: =W18+X18+Y18+Z18+AA18+AB18+AC18+AD18+AE18+AF18+AG18+AH18 -> 538867000 | AN18: =V18 -> 538867000 | AO18: =AM18-AN18 -> 0 | AP18: =ROUNDDOWN(AH18,-3) -> 55068000 | AR18: =E18+U18 -> 538867000 | AS18: =AN18-AR18 -> 0 | AV18: kasi | AW18: 2023000 | AX18: 0.0054 | AY18: =AW18*AX18 -> 10924.2 | AZ18: 10924 | BB18: kasi | BC18: 2552014 | BD18: 0.01 | BE18: =BC18*BD18 -> 25520.14 | BF18: 25520
B19: 9 | C19: =FORMULASI!C19 -> Kulisusu | D19: =FORMULASI!D19 -> Rombo | E19: =FORMULASI!E19 -> 485793000 | F19: ='7410 Kab. Buton Utara (2)'!D68 -> Tertinggal | G19: ='7410 Kab. Buton Utara'!E68 -> 6 | H19: ='7410 Kab. Buton Utara'!F68 -> 1070 | I19: =H19/$H$90 -> 0.022372768 | J19: =I19*$I$93 -> 0.0022372768 | K19: ='7410 Kab. Buton Utara'!G68 -> 173 | L19: =K19/$K$90 -> 0.022514315 | M19: =L19*$I$94 -> 0.011257158 | N19: ='7410 Kab. Buton Utara'!H68 -> 19.271476 | O19: =N19/$N$90 -> 0.011055767 | P19: =O19*$I$95 -> 0.001658365 | Q19: ='7410 Kab. Buton Utara'!I68 -> 57.674178 | R19: =Q19/$Q$90 -> 0.015934506 | S19: =R19*$I$96 -> 0.0039836264 | T19: =J19+M19+P19+S19 -> 0.019136426 | U19: =FORMULASI!U19 -> 64797000 | V19: =FORMULASI!V19 -> 550590000 | W19: =3000000*12 -> 36000000 | X19: =2225000*12 -> 26700000 | Y19: =((2023000*6)+(2023000*2))*12 -> 194208000 | Z19: =$AZ$22 -> 1387284 | AA19: 0 | AB19: =$BF$22 -> 3116160 | AC19: =((150000*1)+(100000*9))*12 -> 12600000 | AD19: 49200000 | AE19: =V19*10% -> 55059000 | AF19: 14700000 | AG19: 92000000 | AH19: =V19-(W19+X19+Y19+AA19+AB19+AE19+AF19+AG19+AC19+AD19+Z19) -> 65619556 | AJ19: =(AH19/AN19)*100 -> 11.918044 | AK19: =W19+X19+Y19 -> 256908000 | AL19: =AA19+AB19 -> 3116160 | AM19: =W19+X19+Y19+Z19+AA19+AB19+AC19+AD19+AE19+AF19+AG19+AH19 -> 550590000 | AN19: =V19 -> 550590000 | AO19: =AM19-AN19 -> 0 | AP19: =ROUNDDOWN(AH19,-3) -> 65619000 | AR19: =E19+U19 -> 550590000 | AS19: =AN19-AR19 -> 0 | AV19: kadus | AW19: 2023000 | AX19: 0.0054 | AY19: =AW19*AX19 -> 10924.2 | AZ19: 10924 | BB19: kadus | BC19: 2552014 | BD19: 0.01 | BE19: =BC19*BD19 -> 25520.14 | BF19: 25520
B20: 10 | C20: =FORMULASI!C20 -> Kulisusu | D20: =FORMULASI!D20 -> Wasalabose | E20: =FORMULASI!E20 -> 485793000 | F20: ='7410 Kab. Buton Utara (2)'!D70 -> Sangat Tertinggal | G20: ='7410 Kab. Buton Utara'!E70 -> 3 | H20: ='7410 Kab. Buton Utara'!F70 -> 487 | I20: =H20/$H$90 -> 0.010182746 | J20: =I20*$I$93 -> 0.0010182746 | K20: ='7410 Kab. Buton Utara'!G70 -> 59 | L20: =K20/$K$90 -> 0.0076782926 | M20: =L20*$I$94 -> 0.0038391463 | N20: ='7410 Kab. Buton Utara'!H70 -> 124.45443 | O20: =N20/$N$90 -> 0.071397706 | P20: =O20*$I$95 -> 0.010709656 | Q20: ='7410 Kab. Buton Utara'!I70 -> 59.399377 | R20: =Q20/$Q$90 -> 0.016411152 | S20: =R20*$I$96 -> 0.004102788 | T20: =J20+M20+P20+S20 -> 0.019669865 | U20: =FORMULASI!U20 -> 49354000 | V20: =FORMULASI!V20 -> 535147000 | W20: =3000000*12 -> 36000000 | X20: =2225000*12 -> 26700000 | Y20: =((2023000*6)+(2023000*2))*12 -> 194208000 | Z20: =$AZ$22 -> 1387284 | AA20: 0 | AB20: =$BF$22 -> 3116160 | AC20: =((150000*1)+(100000*9))*12 -> 12600000 | AD20: 49200000 | AE20: =V20*10% -> 53514700 | AF20: 14700000 | AG20: 92000000 | AH20: =V20-(W20+X20+Y20+AA20+AB20+AE20+AF20+AG20+AC20+AD20+Z20) -> 51720856 | AJ20: =(AH20/AN20)*100 -> 9.6647942 | AK20: =W20+X20+Y20 -> 256908000 | AL20: =AA20+AB20 -> 3116160 | AM20: =W20+X20+Y20+Z20+AA20+AB20+AC20+AD20+AE20+AF20+AG20+AH20 -> 535147000 | AN20: =V20 -> 535147000 | AO20: =AM20-AN20 -> 0 | AP20: =ROUNDDOWN(AH20,-3) -> 51720000 | AR20: =E20+U20 -> 535147000 | AS20: =AN20-AR20 -> 0 | AV20: kadus | AW20: 2023000 | AX20: 0.0054 | AY20: =AW20*AX20 -> 10924.2 | AZ20: 10924 | BB20: kadus | BC20: 2552014 | BD20: 0.01 | BE20: =BC20*BD20 -> 25520.14 | BF20: 25520
B21: 11 | C21: =FORMULASI!C21 -> Kulisusu | D21: =FORMULASI!D21 -> Malalanda | E21: =FORMULASI!E21 -> 485793000 | F21: ='7410 Kab. Buton Utara (2)'!D71 -> Berkembang | G21: ='7410 Kab. Buton Utara'!E71 -> 4 | H21: ='7410 Kab. Buton Utara'!F71 -> 485 | I21: =H21/$H$90 -> 0.010140928 | J21: =I21*$I$93 -> 0.0010140928 | K21: ='7410 Kab. Buton Utara'!G71 -> 78 | L21: =K21/$K$90 -> 0.010150963 | M21: =L21*$I$94 -> 0.0050754815 | N21: ='7410 Kab. Buton Utara'!H71 -> 10.201654 | O21: =N21/$N$90 -> 0.0058525412 | P21: =O21*$I$95 -> 0.00087788117 | Q21: ='7410 Kab. Buton Utara'!I71 -> 40.964353 | R21: =Q21/$Q$90 -> 0.011317833 | S21: =R21*$I$96 -> 0.0028294582 | T21: =J21+M21+P21+S21 -> 0.0097969137 | U21: =FORMULASI!U21 -> 48138000 | V21: =FORMULASI!V21 -> 533931000 | W21: =3000000*12 -> 36000000 | X21: =2225000*12 -> 26700000 | Y21: =((2023000*6)+(2023000*2))*12 -> 194208000 | Z21: =$AZ$22 -> 1387284 | AA21: 0 | AB21: =$BF$22 -> 3116160 | AC21: =((150000*1)+(100000*9))*12 -> 12600000 | AD21: 49200000 | AE21: =V21*10% -> 53393100 | AF21: 14700000 | AG21: 92000000 | AH21: =V21-(W21+X21+Y21+AA21+AB21+AE21+AF21+AG21+AC21+AD21+Z21) -> 50626456 | AJ21: =(AH21/AN21)*100 -> 9.4818349 | AK21: =W21+X21+Y21 -> 256908000 | AL21: =AA21+AB21 -> 3116160 | AM21: =W21+X21+Y21+Z21+AA21+AB21+AC21+AD21+AE21+AF21+AG21+AH21 -> 533931000 | AN21: =V21 -> 533931000 | AO21: =AM21-AN21 -> 0 | AP21: =ROUNDDOWN(AH21,-3) -> 50626000 | AR21: =E21+U21 -> 533931000 | AS21: =AN21-AR21 -> 0 | AY21: =SUM(AY11:AY20) -> 115608.6 | AZ21: =SUM(AZ11:AZ20) -> 115607 | BE21: =SUM(BE11:BE20) -> 259681.26 | BF21: =SUM(BF11:BF20) -> 259680
B22: 12 | C22: =FORMULASI!C22 -> Kulisusu | D22: =FORMULASI!D22 -> Lemo Ea | E22: =FORMULASI!E22 -> 485793000 | F22: ='7410 Kab. Buton Utara (2)'!D77 -> Tertinggal | G22: ='7410 Kab. Buton Utara'!E77 -> 7 | H22: ='7410 Kab. Buton Utara'!F77 -> 789 | I22: =H22/$H$90 -> 0.016497303 | J22: =I22*$I$93 -> 0.0016497303 | K22: ='7410 Kab. Buton Utara'!G77 -> 266 | L22: =K22/$K$90 -> 0.034617387 | M22: =L22*$I$94 -> 0.017308693 | N22: ='7410 Kab. Buton Utara'!H77 -> 54.408823 | O22: =N22/$N$90 -> 0.031213554 | P22: =O22*$I$95 -> 0.0046820331 | Q22: ='7410 Kab. Buton Utara'!I77 -> 55.286183 | R22: =Q22/$Q$90 -> 0.015274739 | S22: =R22*$I$96 -> 0.0038186846 | T22: =J22+M22+P22+S22 -> 0.027459141 | U22: =FORMULASI!U22 -> 53706000 | V22: =FORMULASI!V22 -> 539499000 | W22: =3000000*12 -> 36000000 | X22: =2225000*12 -> 26700000 | Y22: =((2023000*6)+(2023000*2))*12 -> 194208000 | Z22: =$AZ$22 -> 1387284 | AA22: 0 | AB22: =$BF$22 -> 3116160 | AC22: =((150000*1)+(100000*9))*12 -> 12600000 | AD22: 49200000 | AE22: =V22*10% -> 53949900 | AF22: 14700000 | AG22: 92000000 | AH22: =V22-(W22+X22+Y22+AA22+AB22+AE22+AF22+AG22+AC22+AD22+Z22) -> 55637656 | AJ22: =(AH22/AN22)*100 -> 10.312838 | AK22: =W22+X22+Y22 -> 256908000 | AL22: =AA22+AB22 -> 3116160 | AM22: =W22+X22+Y22+Z22+AA22+AB22+AC22+AD22+AE22+AF22+AG22+AH22 -> 539499000 | AN22: =V22 -> 539499000 | AO22: =AM22-AN22 -> 0 | AP22: =ROUNDDOWN(AH22,-3) -> 55637000 | AR22: =E22+U22 -> 539499000 | AS22: =AN22-AR22 -> 0 | AW22: =AY22-AZ22 -> 19.2 | AX22: 12 | AY22: =AX22*AY21 -> 1387303.2 | AZ22: =AX22*AZ21 -> 1387284 | BC22: =BE22-BF22 -> 15.12 | BD22: 12 | BE22: =BE21*BD22 -> 3116175.1 | BF22: =BD22*BF21 -> 3116160
B23: 13 | C23: =FORMULASI!C23 -> Kulisusu | D23: =FORMULASI!D23 -> Lantagi | E23: =FORMULASI!E23 -> 485793000 | F23: ='7410 Kab. Buton Utara (2)'!D79 -> Tertinggal | G23: ='7410 Kab. Buton Utara'!E79 -> 4 | H23: ='7410 Kab. Buton Utara'!F79 -> 362 | I23: =H23/$H$90 -> 0.0075691047 | J23: =I23*$I$93 -> 0.00075691047 | K23: ='7410 Kab. Buton Utara'!G79 -> 86 | L23: =K23/$K$90 -> 0.011192087 | M23: =L23*$I$94 -> 0.0055960437 | N23: ='7410 Kab. Buton Utara'!H79 -> 10.86698 | O23: =N23/$N$90 -> 0.006234229 | P23: =O23*$I$95 -> 0.00093513436 | Q23: ='7410 Kab. Buton Utara'!I79 -> 40.356338 | R23: =Q23/$Q$90 -> 0.011149848 | S23: =R23*$I$96 -> 0.0027874619 | T23: =J23+M23+P23+S23 -> 0.01007555 | U23: =FORMULASI!U23 -> 85847000 | V23: =FORMULASI!V23 -> 571640000 | W23: =3000000*12 -> 36000000 | X23: =2225000*12 -> 26700000 | Y23: =((2023000*6)+(2023000*2))*12 -> 194208000 | Z23: =$AZ$22 -> 1387284 | AA23: 0 | AB23: =$BF$22 -> 3116160 | AC23: =((150000*1)+(100000*9))*12 -> 12600000 | AD23: 49200000 | AE23: =V23*10% -> 57164000 | AF23: 14700000 | AG23: 92000000 | AH23: =V23-(W23+X23+Y23+AA23+AB23+AE23+AF23+AG23+AC23+AD23+Z23) -> 84564556 | AJ23: =(AH23/AN23)*100 -> 14.793324 | AK23: =W23+X23+Y23 -> 256908000 | AL23: =AA23+AB23 -> 3116160 | AM23: =W23+X23+Y23+Z23+AA23+AB23+AC23+AD23+AE23+AF23+AG23+AH23 -> 571640000 | AN23: =V23 -> 571640000 | AO23: =AM23-AN23 -> 0 | AP23: =ROUNDDOWN(AH23,-3) -> 84564000 | AR23: =E23+U23 -> 571640000 | AS23: =AN23-AR23 -> 0 | AW23: =AY23-AZ23 -> 1497.6 | AX23: 78 | AY23: =AX23*AY22 -> 1.0820965e+08 | AZ23: =AZ22*AX23 -> 108208152 | BC23: =BE23-BF23 -> 1179.36 | BD23: 78 | BE23: =BE22*BD23 -> 2.4306166e+08 | BF23: =BF22*BD23 -> 243060480
B24: 14 | C24: =FORMULASI!C24 -> Kulisusu | D24: =FORMULASI!D24 -> Laangke | E24: =FORMULASI!E24 -> 485793000 | F24: ='7410 Kab. Buton Utara (2)'!D3 -> Tertinggal | G24: ='7410 Kab. Buton Utara'!E3 -> 5 | H24: ='7410 Kab. Buton Utara'!F3 -> 396 | I24: =H24/$H$90 -> 0.0082800151 | J24: =I24*$I$93 -> 0.00082800151 | K24: ='7410 Kab. Buton Utara'!G3 -> 107 | L24: =K24/$K$90 -> 0.013925039 | M24: =L24*$I$94 -> 0.0069625195 | N24: ='7410 Kab. Buton Utara'!H3 -> 9.108944 | O24: =N24/$N$90 -> 0.0052256693 | P24: =O24*$I$95 -> 0.00078385039 | Q24: ='7410 Kab. Buton Utara'!I3 -> 55.21822 | R24: =Q24/$Q$90 -> 0.015255961 | S24: =R24*$I$96 -> 0.0038139903 | T24: =J24+M24+P24+S24 -> 0.012388362 | U24: =FORMULASI!U24 -> 52972000 | V24: =FORMULASI!V24 -> 538765000 | W24: =3000000*12 -> 36000000 | X24: =2225000*12 -> 26700000 | Y24: =((2023000*6)+(2023000*2))*12 -> 194208000 | Z24: =$AZ$22 -> 1387284 | AA24: 0 | AB24: =$BF$22 -> 3116160 | AC24: =((150000*1)+(100000*9))*12 -> 12600000 | AD24: 49200000 | AE24: =V24*10% -> 53876500 | AF24: 14700000 | AG24: 92000000 | AH24: =V24-(W24+X24+Y24+AA24+AB24+AE24+AF24+AG24+AC24+AD24+Z24) -> 54977056 | AJ24: =(AH24/AN24)*100 -> 10.204274 | AK24: =W24+X24+Y24 -> 256908000 | AL24: =AA24+AB24 -> 3116160 | AM24: =W24+X24+Y24+Z24+AA24+AB24+AC24+AD24+AE24+AF24+AG24+AH24 -> 538765000 | AN24: =V24 -> 538765000 | AO24: =AM24-AN24 -> 0 | AP24: =ROUNDDOWN(AH24,-3) -> 54977000 | AR24: =E24+U24 -> 538765000 | AS24: =AN24-AR24 -> 0
B25: 15 | C25: =FORMULASI!C25 -> Kulisusu | D25: =FORMULASI!D25 -> Kadacua | E25: =FORMULASI!E25 -> 485793000 | F25: ='7410 Kab. Buton Utara (2)'!D5 -> Tertinggal | G25: ='7410 Kab. Buton Utara'!E5 -> 6 | H25: ='7410 Kab. Buton Utara'!F5 -> 913 | I25: =H25/$H$90 -> 0.019090035 | J25: =I25*$I$93 -> 0.0019090035 | K25: ='7410 Kab. Buton Utara'!G5 -> 179 | L25: =K25/$K$90 -> 0.023295159 | M25: =L25*$I$94 -> 0.011647579 | N25: ='7410 Kab. Buton Utara'!H5 -> 6.828466 | O25: =N25/$N$90 -> 0.0039173921 | P25: =O25*$I$95 -> 0.00058760881 | Q25: ='7410 Kab. Buton Utara'!I5 -> 32.71669 | R25: =Q25/$Q$90 -> 0.009039128 | S25: =R25*$I$96 -> 0.002259782 | T25: =J25+M25+P25+S25 -> 0.016403974 | U25: =FORMULASI!U25 -> 47269000 | V25: =FORMULASI!V25 -> 533062000 | W25: =3000000*12 -> 36000000 | X25: =2225000*12 -> 26700000 | Y25: =((2023000*6)+(2023000*2))*12 -> 194208000 | Z25: =$AZ$22 -> 1387284 | AA25: 0 | AB25: =$BF$22 -> 3116160 | AC25: =((150000*1)+(100000*9))*12 -> 12600000 | AD25: 49200000 | AE25: =V25*10% -> 53306200 | AF25: 14700000 | AG25: 92000000 | AH25: =V25-(W25+X25+Y25+AA25+AB25+AE25+AF25+AG25+AC25+AD25+Z25) -> 49844356 | AJ25: =(AH25/AN25)*100 -> 9.3505739 | AK25: =W25+X25+Y25 -> 256908000 | AL25: =AA25+AB25 -> 3116160 | AM25: =W25+X25+Y25+Z25+AA25+AB25+AC25+AD25+AE25+AF25+AG25+AH25 -> 533062000 | AN25: =V25 -> 533062000 | AO25: =AM25-AN25 -> 0 | AP25: =ROUNDDOWN(AH25,-3) -> 49844000 | AR25: =E25+U25 -> 533062000 | AS25: =AN25-AR25 -> 0
B26: 16 | C26: =FORMULASI!C26 -> Kulisusu | D26: =FORMULASI!D26 -> Banu-Banua Jaya | E26: =FORMULASI!E26 -> 485793000 | F26: ='7410 Kab. Buton Utara (2)'!D6 -> Tertinggal | G26: ='7410 Kab. Buton Utara'!E6 -> 4 | H26: ='7410 Kab. Buton Utara'!F6 -> 569 | I26: =H26/$H$90 -> 0.011897294 | J26: =I26*$I$93 -> 0.0011897294 | K26: ='7410 Kab. Buton Utara'!G6 -> 75 | L26: =K26/$K$90 -> 0.0097605414 | M26: =L26*$I$94 -> 0.0048802707 | N26: ='7410 Kab. Buton Utara'!H6 -> 10.820555 | O26: =N26/$N$90 -> 0.0062075957 | P26: =O26*$I$95 -> 0.00093113935 | Q26: ='7410 Kab. Buton Utara'!I6 -> 33.644462 | R26: =Q26/$Q$90 -> 0.0092954574 | S26: =R26*$I$96 -> 0.0023238644 | T26: =J26+M26+P26+S26 -> 0.0093250038 | U26: =FORMULASI!U26 -> 73835000 | V26: =FORMULASI!V26 -> 559628000 | W26: =3000000*12 -> 36000000 | X26: =2225000*12 -> 26700000 | Y26: =((2023000*6)+(2023000*2))*12 -> 194208000 | Z26: =$AZ$22 -> 1387284 | AA26: 0 | AB26: =$BF$22 -> 3116160 | AC26: =((150000*1)+(100000*9))*12 -> 12600000 | AD26: 49200000 | AE26: =V26*10% -> 55962800 | AF26: 14700000 | AG26: 92000000 | AH26: =V26-(W26+X26+Y26+AA26+AB26+AE26+AF26+AG26+AC26+AD26+Z26) -> 73753756 | AJ26: =(AH26/AN26)*100 -> 13.179068 | AK26: =W26+X26+Y26 -> 256908000 | AL26: =AA26+AB26 -> 3116160 | AM26: =W26+X26+Y26+Z26+AA26+AB26+AC26+AD26+AE26+AF26+AG26+AH26 -> 559628000 | AN26: =V26 -> 559628000 | AO26: =AM26-AN26 -> 0 | AP26: =ROUNDDOWN(AH26,-3) -> 73753000 | AR26: =E26+U26 -> 559628000 | AS26: =AN26-AR26 -> 0
B27: 17 | C27: =FORMULASI!C27 -> Kambowa | D27: =FORMULASI!D27 -> Bubu | E27: =FORMULASI!E27 -> 485793000 | F27: ='7410 Kab. Buton Utara (2)'!D8 -> Tertinggal | G27: ='7410 Kab. Buton Utara'!E8 -> 7 | H27: ='7410 Kab. Buton Utara'!F8 -> 1016 | I27: =H27/$H$90 -> 0.021243675 | J27: =I27*$I$93 -> 0.0021243675 | K27: ='7410 Kab. Buton Utara'!G8 -> 293 | L27: =K27/$K$90 -> 0.038131182 | M27: =L27*$I$94 -> 0.019065591 | N27: ='7410 Kab. Buton Utara'!H8 -> 36.435775 | O27: =N27/$N$90 -> 0.020902676 | P27: =O27*$I$95 -> 0.0031354015 | Q27: ='7410 Kab. Buton Utara'!I8 -> 33.50976 | R27: =Q27/$Q$90 -> 0.0092582413 | S27: =R27*$I$96 -> 0.0023145603 | T27: =J27+M27+P27+S27 -> 0.02663992 | U27: =FORMULASI!U27 -> 75024000 | V27: =FORMULASI!V27 -> 560817000 | W27: =3000000*12 -> 36000000 | X27: =2225000*12 -> 26700000 | Y27: =((2023000*6)+(2023000*2))*12 -> 194208000 | Z27: =$AZ$22 -> 1387284 | AA27: 0 | AB27: =$BF$22 -> 3116160 | AC27: =((150000*1)+(100000*9))*12 -> 12600000 | AD27: 49200000 | AE27: =V27*10% -> 56081700 | AF27: 14700000 | AG27: 92000000 | AH27: =V27-(W27+X27+Y27+AA27+AB27+AE27+AF27+AG27+AC27+AD27+Z27) -> 74823856 | AJ27: =(AH27/AN27)*100 -> 13.341938 | AK27: =W27+X27+Y27 -> 256908000 | AL27: =AA27+AB27 -> 3116160 | AM27: =W27+X27+Y27+Z27+AA27+AB27+AC27+AD27+AE27+AF27+AG27+AH27 -> 560817000 | AN27: =V27 -> 560817000 | AO27: =AM27-AN27 -> 0 | AP27: =ROUNDDOWN(AH27,-3) -> 74823000 | AR27: =E27+U27 -> 560817000 | AS27: =AN27-AR27 -> 0
B28: 18 | C28: =FORMULASI!C28 -> Kambowa | D28: =FORMULASI!D28 -> Lahumoko | E28: =FORMULASI!E28 -> 485793000 | F28: ='7410 Kab. Buton Utara (2)'!D30 -> Tertinggal | G28: ='7410 Kab. Buton Utara'!E30 -> 5 | H28: ='7410 Kab. Buton Utara'!F30 -> 901 | I28: =H28/$H$90 -> 0.018839125 | J28: =I28*$I$93 -> 0.0018839125 | K28: ='7410 Kab. Buton Utara'!G30 -> 141 | L28: =K28/$K$90 -> 0.018349818 | M28: =L28*$I$94 -> 0.0091749089 | N28: ='7410 Kab. Buton Utara'!H30 -> 27.204411 | O28: =N28/$N$90 -> 0.015606777 | P28: =O28*$I$95 -> 0.0023410165 | Q28: ='7410 Kab. Buton Utara'!I30 -> 34.748608 | R28: =Q28/$Q$90 -> 0.0096005163 | S28: =R28*$I$96 -> 0.0024001291 | T28: =J28+M28+P28+S28 -> 0.015799967 | U28: =FORMULASI!U28 -> 58755000 | V28: =FORMULASI!V28 -> 544548000 | W28: =3000000*12 -> 36000000 | X28: =2225000*12 -> 26700000 | Y28: =((2023000*6)+(2023000*2))*12 -> 194208000 | Z28: =$AZ$22 -> 1387284 | AA28: 0 | AB28: =$BF$22 -> 3116160 | AC28: =((150000*1)+(100000*9))*12 -> 12600000 | AD28: 49200000 | AE28: =V28*10% -> 54454800 | AF28: 14700000 | AG28: 92000000 | AH28: =V28-(W28+X28+Y28+AA28+AB28+AE28+AF28+AG28+AC28+AD28+Z28) -> 60181756 | AJ28: =(AH28/AN28)*100 -> 11.05169 | AK28: =W28+X28+Y28 -> 256908000 | AL28: =AA28+AB28 -> 3116160 | AM28: =W28+X28+Y28+Z28+AA28+AB28+AC28+AD28+AE28+AF28+AG28+AH28 -> 544548000 | AN28: =V28 -> 544548000 | AO28: =AM28-AN28 -> 0 | AP28: =ROUNDDOWN(AH28,-3) -> 60181000 | AR28: =E28+U28 -> 544548000 | AS28: =AN28-AR28 -> 0
B29: 19 | C29: =FORMULASI!C29 -> Kambowa | D29: =FORMULASI!D29 -> Morindino | E29: =FORMULASI!E29 -> 485793000 | F29: ='7410 Kab. Buton Utara (2)'!D35 -> Tertinggal | G29: ='7410 Kab. Buton Utara'!E35 -> 3 | H29: ='7410 Kab. Buton Utara'!F35 -> 219 | I29: =H29/$H$90 -> 0.0045790992 | J29: =I29*$I$93 -> 0.00045790992 | K29: ='7410 Kab. Buton Utara'!G35 -> 61 | L29: =K29/$K$90 -> 0.0079385737 | M29: =L29*$I$94 -> 0.0039692868 | N29: ='7410 Kab. Buton Utara'!H35 -> 5.039458 | O29: =N29/$N$90 -> 0.0028910641 | P29: =O29*$I$95 -> 0.00043365961 | Q29: ='7410 Kab. Buton Utara'!I35 -> 63.865944 | R29: =Q29/$Q$90 -> 0.017645197 | S29: =R29*$I$96 -> 0.0044112993 | T29: =J29+M29+P29+S29 -> 0.0092721556 | U29: =FORMULASI!U29 -> 47112000 | V29: =FORMULASI!V29 -> 532905000 | W29: =3000000*12 -> 36000000 | X29: =2225000*12 -> 26700000 | Y29: =((2023000*6)+(2023000*2))*12 -> 194208000 | Z29: =$AZ$22 -> 1387284 | AA29: 0 | AB29: =$BF$22 -> 3116160 | AC29: =((150000*1)+(100000*9))*12 -> 12600000 | AD29: 49200000 | AE29: =V29*10% -> 53290500 | AF29: 14700000 | AG29: 92000000 | AH29: =V29-(W29+X29+Y29+AA29+AB29+AE29+AF29+AG29+AC29+AD29+Z29) -> 49703056 | AJ29: =(AH29/AN29)*100 -> 9.3268136 | AK29: =W29+X29+Y29 -> 256908000 | AL29: =AA29+AB29 -> 3116160 | AM29: =W29+X29+Y29+Z29+AA29+AB29+AC29+AD29+AE29+AF29+AG29+AH29 -> 532905000 | AN29: =V29 -> 532905000 | AO29: =AM29-AN29 -> 0 | AP29: =ROUNDDOWN(AH29,-3) -> 49703000 | AR29: =E29+U29 -> 532905000 | AS29: =AN29-AR29 -> 0
B30: 20 | C30: =FORMULASI!C30 -> Kambowa | D30: =FORMULASI!D30 -> Pongkowulu | E30: =FORMULASI!E30 -> 485793000 | F30: ='7410 Kab. Buton Utara (2)'!D41 -> Tertinggal | G30: ='7410 Kab. Buton Utara'!E41 -> 4 | H30: ='7410 Kab. Buton Utara'!F41 -> 437 | I30: =H30/$H$90 -> 0.0091372893 | J30: =I30*$I$93 -> 0.00091372893 | K30: ='7410 Kab. Buton Utara'!G41 -> 70 | L30: =K30/$K$90 -> 0.0091098386 | M30: =L30*$I$94 -> 0.0045549193 | N30: ='7410 Kab. Buton Utara'!H41 -> 7.213703 | O30: =N30/$N$90 -> 0.0041383969 | P30: =O30*$I$95 -> 0.00062075954 | Q30: ='7410 Kab. Buton Utara'!I41 -> 36.948517 | R30: =Q30/$Q$90 -> 0.010208318 | S30: =R30*$I$96 -> 0.0025520795 | T30: =J30+M30+P30+S30 -> 0.0086414873 | U30: =FORMULASI!U30 -> 116678000 | V30: =FORMULASI!V30 -> 602471000 | W30: =3000000*12 -> 36000000 | X30: =2225000*12 -> 26700000 | Y30: =((2023000*6)+(2023000*2))*12 -> 194208000 | Z30: =$AZ$22 -> 1387284 | AA30: 0 | AB30: =$BF$22 -> 3116160 | AC30: =((150000*1)+(100000*9))*12 -> 12600000 | AD30: 49200000 | AE30: =V30*10% -> 60247100 | AF30: 14700000 | AG30: 92000000 | AH30: =V30-(W30+X30+Y30+AA30+AB30+AE30+AF30+AG30+AC30+AD30+Z30) -> 112312456 | AJ30: =(AH30/AN30)*100 -> 18.641969 | AK30: =W30+X30+Y30 -> 256908000 | AL30: =AA30+AB30 -> 3116160 | AM30: =W30+X30+Y30+Z30+AA30+AB30+AC30+AD30+AE30+AF30+AG30+AH30 -> 602471000 | AN30: =V30 -> 602471000 | AO30: =AM30-AN30 -> 0 | AP30: =ROUNDDOWN(AH30,-3) -> 112312000 | AR30: =E30+U30 -> 602471000 | AS30: =AN30-AR30 -> 0
B31: 21 | C31: =FORMULASI!C31 -> Kambowa | D31: =FORMULASI!D31 -> Lagundi | E31: =FORMULASI!E31 -> 485793000 | F31: ='7410 Kab. Buton Utara (2)'!D43 -> Tertinggal | G31: ='7410 Kab. Buton Utara'!E43 -> 2 | H31: ='7410 Kab. Buton Utara'!F43 -> 448 | I31: =H31/$H$90 -> 0.0093672898 | J31: =I31*$I$93 -> 0.00093672898 | K31: ='7410 Kab. Buton Utara'!G43 -> 37 | L31: =K31/$K$90 -> 0.0048152004 | M31: =L31*$I$94 -> 0.0024076002 | N31: ='7410 Kab. Buton Utara'!H43 -> 38.754951 | O31: =N31/$N$90 -> 0.022233154 | P31: =O31*$I$95 -> 0.0033349731 | Q31: ='7410 Kab. Buton Utara'!I43 -> 58.118174 | R31: =Q31/$Q$90 -> 0.016057175 | S31: =R31*$I$96 -> 0.0040142937 | T31: =J31+M31+P31+S31 -> 0.010693596 | U31: =FORMULASI!U31 -> 69586000 | V31: =FORMULASI!V31 -> 555379000 | W31: =3000000*12 -> 36000000 | X31: =2225000*12 -> 26700000 | Y31: =((2023000*6)+(2023000*2))*12 -> 194208000 | Z31: =$AZ$22 -> 1387284 | AA31: 0 | AB31: =$BF$22 -> 3116160 | AC31: =((150000*1)+(100000*9))*12 -> 12600000 | AD31: 49200000 | AE31: =V31*10% -> 55537900 | AF31: 14700000 | AG31: 92000000 | AH31: =V31-(W31+X31+Y31+AA31+AB31+AE31+AF31+AG31+AC31+AD31+Z31) -> 69929656 | AJ31: =(AH31/AN31)*100 -> 12.59134 | AK31: =W31+X31+Y31 -> 256908000 | AL31: =AA31+AB31 -> 3116160 | AM31: =W31+X31+Y31+Z31+AA31+AB31+AC31+AD31+AE31+AF31+AG31+AH31 -> 555379000 | AN31: =V31 -> 555379000 | AO31: =AM31-AN31 -> 0 | AP31: =ROUNDDOWN(AH31,-3) -> 69929000 | AR31: =E31+U31 -> 555379000 | AS31: =AN31-AR31 -> 0
B32: 22 | C32: =FORMULASI!C32 -> Kambowa | D32: =FORMULASI!D32 -> Konde | E32: =FORMULASI!E32 -> 485793000 | F32: ='7410 Kab. Buton Utara (2)'!D62 -> Tertinggal | G32: ='7410 Kab. Buton Utara'!E62 -> 5 | H32: ='7410 Kab. Buton Utara'!F62 -> 621 | I32: =H32/$H$90 -> 0.012984569 | J32: =I32*$I$93 -> 0.0012984569 | K32: ='7410 Kab. Buton Utara'!G62 -> 127 | L32: =K32/$K$90 -> 0.01652785 | M32: =L32*$I$94 -> 0.008263925 | N32: ='7410 Kab. Buton Utara'!H62 -> 17.002757 | O32: =N32/$N$90 -> 0.0097542354 | P32: =O32*$I$95 -> 0.0014631353 | Q32: ='7410 Kab. Buton Utara'!I62 -> 44.714926 | R32: =Q32/$Q$90 -> 0.01235406 | S32: =R32*$I$96 -> 0.0030885149 | T32: =J32+M32+P32+S32 -> 0.014114032 | U32: =FORMULASI!U32 -> 42754000 | V32: =FORMULASI!V32 -> 528547000 | W32: =3000000*12 -> 36000000 | X32: =2225000*12 -> 26700000 | Y32: =((2023000*6)+(2023000*2))*12 -> 194208000 | Z32: =$AZ$22 -> 1387284 | AA32: 0 | AB32: =$BF$22 -> 3116160 | AC32: =((150000*1)+(100000*9))*12 -> 12600000 | AD32: 49200000 | AE32: =V32*10% -> 52854700 | AF32: 14700000 | AG32: 92000000 | AH32: =V32-(W32+X32+Y32+AA32+AB32+AE32+AF32+AG32+AC32+AD32+Z32) -> 45780856 | AJ32: =(AH32/AN32)*100 -> 8.6616433 | AK32: =W32+X32+Y32 -> 256908000 | AL32: =AA32+AB32 -> 3116160 | AM32: =W32+X32+Y32+Z32+AA32+AB32+AC32+AD32+AE32+AF32+AG32+AH32 -> 528547000 | AN32: =V32 -> 528547000 | AO32: =AM32-AN32 -> 0 | AP32: =ROUNDDOWN(AH32,-3) -> 45780000 | AR32: =E32+U32 -> 528547000 | AS32: =AN32-AR32 -> 0
B33: 23 | C33: =FORMULASI!C33 -> Kambowa | D33: =FORMULASI!D33 -> Mata | E33: =FORMULASI!E33 -> 485793000 | F33: ='7410 Kab. Buton Utara (2)'!D65 -> Tertinggal | G33: ='7410 Kab. Buton Utara'!E65 -> 4 | H33: ='7410 Kab. Buton Utara'!F65 -> 661 | I33: =H33/$H$90 -> 0.013820934 | J33: =I33*$I$93 -> 0.0013820934 | K33: ='7410 Kab. Buton Utara'!G65 -> 72 | L33: =K33/$K$90 -> 0.0093701197 | M33: =L33*$I$94 -> 0.0046850599 | N33: ='7410 Kab. Buton Utara'!H65 -> 18.136274 | O33: =N33/$N$90 -> 0.010404518 | P33: =O33*$I$95 -> 0.0015606777 | Q33: ='7410 Kab. Buton Utara'!I65 -> 36.064888 | R33: =Q33/$Q$90 -> 0.0099641846 | S33: =R33*$I$96 -> 0.0024910462 | T33: =J33+M33+P33+S33 -> 0.010118877 | U33: =FORMULASI!U33 -> 51341000 | V33: =FORMULASI!V33 -> 537134000 | W33: =3000000*12 -> 36000000 | X33: =2225000*12 -> 26700000 | Y33: =((2023000*6)+(2023000*2))*12 -> 194208000 | Z33: =$AZ$22 -> 1387284 | AA33: 0 | AB33: =$BF$22 -> 3116160 | AC33: =((150000*1)+(100000*9))*12 -> 12600000 | AD33: 49200000 | AE33: =V33*10% -> 53713400 | AF33: 14700000 | AG33: 92000000 | AH33: =V33-(W33+X33+Y33+AA33+AB33+AE33+AF33+AG33+AC33+AD33+Z33) -> 53509156 | AJ33: =(AH33/AN33)*100 -> 9.9619752 | AK33: =W33+X33+Y33 -> 256908000 | AL33: =AA33+AB33 -> 3116160 | AM33: =W33+X33+Y33+Z33+AA33+AB33+AC33+AD33+AE33+AF33+AG33+AH33 -> 537134000 | AN33: =V33 -> 537134000 | AO33: =AM33-AN33 -> 0 | AP33: =ROUNDDOWN(AH33,-3) -> 53509000 | AR33: =E33+U33 -> 537134000 | AS33: =AN33-AR33 -> 0
B34: 24 | C34: =FORMULASI!C34 -> Kambowa | D34: =FORMULASI!D34 -> Bubu Barat | E34: =FORMULASI!E34 -> 485793000 | F34: ='7410 Kab. Buton Utara (2)'!D9 -> Tertinggal | G34: ='7410 Kab. Buton Utara'!E9 -> 4 | H34: ='7410 Kab. Buton Utara'!F9 -> 955 | I34: =H34/$H$90 -> 0.019968218 | J34: =I34*$I$93 -> 0.0019968218 | K34: ='7410 Kab. Buton Utara'!G9 -> 82 | L34: =K34/$K$90 -> 0.010671525 | M34: =L34*$I$94 -> 0.0053357626 | N34: ='7410 Kab. Buton Utara'!H9 -> 43.266349 | O34: =N34/$N$90 -> 0.024821278 | P34: =O34*$I$95 -> 0.0037231917 | Q34: ='7410 Kab. Buton Utara'!I9 -> 41.039921 | R34: =Q34/$Q$90 -> 0.011338711 | S34: =R34*$I$96 -> 0.0028346778 | T34: =J34+M34+P34+S34 -> 0.013890454 | U34: =FORMULASI!U34 -> 40057000 | V34: =FORMULASI!V34 -> 525850000 | W34: =3000000*12 -> 36000000 | X34: =2225000*12 -> 26700000 | Y34: =((2023000*6)+(2023000*2))*12 -> 194208000 | Z34: =$AZ$22 -> 1387284 | AA34: 0 | AB34: =$BF$22 -> 3116160 | AC34: =((150000*1)+(100000*9))*12 -> 12600000 | AD34: 49200000 | AE34: =V34*10% -> 52585000 | AF34: 14700000 | AG34: 92000000 | AH34: =V34-(W34+X34+Y34+AA34+AB34+AE34+AF34+AG34+AC34+AD34+Z34) -> 43353556 | AJ34: =(AH34/AN34)*100 -> 8.244472 | AK34: =W34+X34+Y34 -> 256908000 | AL34: =AA34+AB34 -> 3116160 | AM34: =W34+X34+Y34+Z34+AA34+AB34+AC34+AD34+AE34+AF34+AG34+AH34 -> 525850000 | AN34: =V34 -> 525850000 | AO34: =AM34-AN34 -> 0 | AP34: =ROUNDDOWN(AH34,-3) -> 43353000 | AR34: =E34+U34 -> 525850000 | AS34: =AN34-AR34 -> 0
B35: 25 | C35: =FORMULASI!C35 -> Kambowa | D35: =FORMULASI!D35 -> Bente | E35: =FORMULASI!E35 -> 485793000 | F35: ='7410 Kab. Buton Utara (2)'!D11 -> Tertinggal | G35: ='7410 Kab. Buton Utara'!E11 -> 6 | H35: ='7410 Kab. Buton Utara'!F11 -> 1034 | I35: =H35/$H$90 -> 0.021620039 | J35: =I35*$I$93 -> 0.0021620039 | K35: ='7410 Kab. Buton Utara'!G11 -> 155 | L35: =K35/$K$90 -> 0.020171786 | M35: =L35*$I$94 -> 0.010085893 | N35: ='7410 Kab. Buton Utara'!H11 -> 0.952154 | O35: =N35/$N$90 -> 0.00054623696 | P35: =O35*$I$95 -> 8.1935544e-05 | Q35: ='7410 Kab. Buton Utara'!I11 -> 45.55587 | R35: =Q35/$Q$90 -> 0.0125864 | S35: =R35*$I$96 -> 0.0031466 | T35: =J35+M35+P35+S35 -> 0.015476432 | U35: =FORMULASI!U35 -> 36734000 | V35: =FORMULASI!V35 -> 522527000 | W35: =3000000*12 -> 36000000 | X35: =2225000*12 -> 26700000 | Y35: =((2023000*6)+(2023000*2))*12 -> 194208000 | Z35: =$AZ$22 -> 1387284 | AA35: 0 | AB35: =$BF$22 -> 3116160 | AC35: =((150000*1)+(100000*9))*12 -> 12600000 | AD35: 49200000 | AE35: =V35*10% -> 52252700 | AF35: 14700000 | AG35: 92000000 | AH35: =V35-(W35+X35+Y35+AA35+AB35+AE35+AF35+AG35+AC35+AD35+Z35) -> 40362856 | AJ35: =(AH35/AN35)*100 -> 7.7245494 | AK35: =W35+X35+Y35 -> 256908000 | AL35: =AA35+AB35 -> 3116160 | AM35: =W35+X35+Y35+Z35+AA35+AB35+AC35+AD35+AE35+AF35+AG35+AH35 -> 522527000 | AN35: =V35 -> 522527000 | AO35: =AM35-AN35 -> 0 | AP35: =ROUNDDOWN(AH35,-3) -> 40362000 | AR35: =E35+U35 -> 522527000 | AS35: =AN35-AR35 -> 0
B36: 26 | C36: =FORMULASI!C36 -> Kambowa | D36: =FORMULASI!D36 -> Baluara | E36: =FORMULASI!E36 -> 485793000 | F36: ='7410 Kab. Buton Utara (2)'!D14 -> Tertinggal | G36: ='7410 Kab. Buton Utara'!E14 -> 4 | H36: ='7410 Kab. Buton Utara'!F14 -> 1169 | I36: =H36/$H$90 -> 0.024442772 | J36: =I36*$I$93 -> 0.0024442772 | K36: ='7410 Kab. Buton Utara'!G14 -> 81 | L36: =K36/$K$90 -> 0.010541385 | M36: =L36*$I$94 -> 0.0052706923 | N36: ='7410 Kab. Buton Utara'!H14 -> 1.616592 | O36: =N36/$N$90 -> 0.00092741542 | P36: =O36*$I$95 -> 0.00013911231 | Q36: ='7410 Kab. Buton Utara'!I14 -> 58.791934 | R36: =Q36/$Q$90 -> 0.016243325 | S36: =R36*$I$96 -> 0.0040608312 | T36: =J36+M36+P36+S36 -> 0.011914913 | U36: =FORMULASI!U36 -> 55084000 | V36: =FORMULASI!V36 -> 540877000 | W36: =3000000*12 -> 36000000 | X36: =2225000*12 -> 26700000 | Y36: =((2023000*6)+(2023000*2))*12 -> 194208000 | Z36: =$AZ$22 -> 1387284 | AA36: 0 | AB36: =$BF$22 -> 3116160 | AC36: =((150000*1)+(100000*9))*12 -> 12600000 | AD36: 49200000 | AE36: =V36*10% -> 54087700 | AF36: 14700000 | AG36: 92000000 | AH36: =V36-(W36+X36+Y36+AA36+AB36+AE36+AF36+AG36+AC36+AD36+Z36) -> 56877856 | AJ36: =(AH36/AN36)*100 -> 10.515858 | AK36: =W36+X36+Y36 -> 256908000 | AL36: =AA36+AB36 -> 3116160 | AM36: =W36+X36+Y36+Z36+AA36+AB36+AC36+AD36+AE36+AF36+AG36+AH36 -> 540877000 | AN36: =V36 -> 540877000 | AO36: =AM36-AN36 -> 0 | AP36: =ROUNDDOWN(AH36,-3) -> 56877000 | AR36: =E36+U36 -> 540877000 | AS36: =AN36-AR36 -> 0
B37: 27 | C37: =FORMULASI!C37 -> Bonegunu | D37: =FORMULASI!D37 -> Gunung Sari | E37: =FORMULASI!E37 -> 485793000 | F37: ='7410 Kab. Buton Utara (2)'!D16 -> Berkembang | G37: ='7410 Kab. Buton Utara'!E16 -> 5 | H37: ='7410 Kab. Buton Utara'!F16 -> 971 | I37: =H37/$H$90 -> 0.020302764 | J37: =I37*$I$93 -> 0.0020302764 | K37: ='7410 Kab. Buton Utara'!G16 -> 123 | L37: =K37/$K$90 -> 0.016007288 | M37: =L37*$I$94 -> 0.0080036439 | N37: ='7410 Kab. Buton Utara'!H16 -> 7.651241 | O37: =N37/$N$90 -> 0.0043894062 | P37: =O37*$I$95 -> 0.00065841092 | Q37: ='7410 Kab. Buton Utara'!I16 -> 32.990375 | R37: =Q37/$Q$90 -> 0.009114743 | S37: =R37*$I$96 -> 0.0022786858 | T37: =J37+M37+P37+S37 -> 0.012971017 | U37: =FORMULASI!U37 -> 47697000 | V37: =FORMULASI!V37 -> 533490000 | W37: =3000000*12 -> 36000000 | X37: =2225000*12 -> 26700000 | Y37: =((2023000*6)+(2023000*2))*12 -> 194208000 | Z37: =$AZ$22 -> 1387284 | AA37: 0 | AB37: =$BF$22 -> 3116160 | AC37: =((150000*1)+(100000*9))*12 -> 12600000 | AD37: 49200000 | AE37: =V37*10% -> 53349000 | AF37: 14700000 | AG37: 92000000 | AH37: =V37-(W37+X37+Y37+AA37+AB37+AE37+AF37+AG37+AC37+AD37+Z37) -> 50229556 | AJ37: =(AH37/AN37)*100 -> 9.415276 | AK37: =W37+X37+Y37 -> 256908000 | AL37: =AA37+AB37 -> 3116160 | AM37: =W37+X37+Y37+Z37+AA37+AB37+AC37+AD37+AE37+AF37+AG37+AH37 -> 533490000 | AN37: =V37 -> 533490000 | AO37: =AM37-AN37 -> 0 | AP37: =ROUNDDOWN(AH37,-3) -> 50229000 | AR37: =E37+U37 -> 533490000 | AS37: =AN37-AR37 -> 0
B38: 28 | C38: =FORMULASI!C38 -> Bonegunu | D38: =FORMULASI!D38 -> Ronta | E38: =FORMULASI!E38 -> 485793000 | F38: ='7410 Kab. Buton Utara (2)'!D25 -> Tertinggal | G38: ='7410 Kab. Buton Utara'!E25 -> 5 | H38: ='7410 Kab. Buton Utara'!F25 -> 496 | I38: =H38/$H$90 -> 0.010370928 | J38: =I38*$I$93 -> 0.0010370928 | K38: ='7410 Kab. Buton Utara'!G25 -> 143 | L38: =K38/$K$90 -> 0.018610099 | M38: =L38*$I$94 -> 0.0093050495 | N38: ='7410 Kab. Buton Utara'!H25 -> 54.57885 | O38: =N38/$N$90 -> 0.031311096 | P38: =O38*$I$95 -> 0.0046966644 | Q38: ='7410 Kab. Buton Utara'!I25 -> 64.750073 | R38: =Q38/$Q$90 -> 0.017889469 | S38: =R38*$I$96 -> 0.0044723672 | T38: =J38+M38+P38+S38 -> 0.019511174 | U38: =FORMULASI!U38 -> 30863000 | V38: =FORMULASI!V38 -> 516656000 | W38: =3000000*12 -> 36000000 | X38: =2225000*12 -> 26700000 | Y38: =((2023000*6)+(2023000*2))*12 -> 194208000 | Z38: =$AZ$22 -> 1387284 | AA38: 0 | AB38: =$BF$22 -> 3116160 | AC38: =((150000*1)+(100000*9))*12 -> 12600000 | AD38: 49200000 | AE38: =V38*10% -> 51665600 | AF38: 14700000 | AG38: 92000000 | AH38: =V38-(W38+X38+Y38+AA38+AB38+AE38+AF38+AG38+AC38+AD38+Z38) -> 35078956 | AJ38: =(AH38/AN38)*100 -> 6.7896155 | AK38: =W38+X38+Y38 -> 256908000 | AL38: =AA38+AB38 -> 3116160 | AM38: =W38+X38+Y38+Z38+AA38+AB38+AC38+AD38+AE38+AF38+AG38+AH38 -> 516656000 | AN38: =V38 -> 516656000 | AO38: =AM38-AN38 -> 0 | AP38: =ROUNDDOWN(AH38,-3) -> 35078000 | AR38: =E38+U38 -> 516656000 | AS38: =AN38-AR38 -> 0
B39: 29 | C39: =FORMULASI!C39 -> Bonegunu | D39: =FORMULASI!D39 -> Waode Angkalo | E39: =FORMULASI!E39 -> 485793000 | F39: ='7410 Kab. Buton Utara (2)'!D27 -> Tertinggal | G39: ='7410 Kab. Buton Utara'!E27 -> 6 | H39: ='7410 Kab. Buton Utara'!F27 -> 569 | I39: =H39/$H$90 -> 0.011897294 | J39: =I39*$I$93 -> 0.0011897294 | K39: ='7410 Kab. Buton Utara'!G27 -> 222 | L39: =K39/$K$90 -> 0.028891202 | M39: =L39*$I$94 -> 0.014445601 | N39: ='7410 Kab. Buton Utara'!H27 -> 3.30393 | O39: =N39/$N$90 -> 0.0018954168 | P39: =O39*$I$95 -> 0.00028431252 | Q39: ='7410 Kab. Buton Utara'!I27 -> 35.253539 | R39: =Q39/$Q$90 -> 0.0097400211 | S39: =R39*$I$96 -> 0.0024350053 | T39: =J39+M39+P39+S39 -> 0.018354648 | U39: =FORMULASI!U39 -> 37814000 | V39: =FORMULASI!V39 -> 523607000 | W39: =3000000*12 -> 36000000 | X39: =2225000*12 -> 26700000 | Y39: =((2023000*6)+(2023000*2))*12 -> 194208000 | Z39: =$AZ$22 -> 1387284 | AA39: 0 | AB39: =$BF$22 -> 3116160 | AC39: =((150000*1)+(100000*9))*12 -> 12600000 | AD39: 49200000 | AE39: =V39*10% -> 52360700 | AF39: 14700000 | AG39: 92000000 | AH39: =V39-(W39+X39+Y39+AA39+AB39+AE39+AF39+AG39+AC39+AD39+Z39) -> 41334856 | AJ39: =(AH39/AN39)*100 -> 7.894252 | AK39: =W39+X39+Y39 -> 256908000 | AL39: =AA39+AB39 -> 3116160 | AM39: =W39+X39+Y39+Z39+AA39+AB39+AC39+AD39+AE39+AF39+AG39+AH39 -> 523607000 | AN39: =V39 -> 523607000 | AO39: =AM39-AN39 -> 0 | AP39: =ROUNDDOWN(AH39,-3) -> 41334000 | AR39: =E39+U39 -> 523607000 | AS39: =AN39-AR39 -> 0
B40: 30 | C40: =FORMULASI!C40 -> Bonegunu | D40: =FORMULASI!D40 -> Langere | E40: =FORMULASI!E40 -> 485793000 | F40: ='7410 Kab. Buton Utara (2)'!D33 -> Tertinggal | G40: ='7410 Kab. Buton Utara'!E33 -> 5 | H40: ='7410 Kab. Buton Utara'!F33 -> 592 | I40: =H40/$H$90 -> 0.012378204 | J40: =I40*$I$93 -> 0.0012378204 | K40: ='7410 Kab. Buton Utara'!G33 -> 111 | L40: =K40/$K$90 -> 0.014445601 | M40: =L40*$I$94 -> 0.0072228006 | N40: ='7410 Kab. Buton Utara'!H33 -> 4.897677 | O40: =N40/$N$90 -> 0.0028097264 | P40: =O40*$I$95 -> 0.00042145895 | Q40: ='7410 Kab. Buton Utara'!I33 -> 32.513989 | R40: =Q40/$Q$90 -> 0.0089831248 | S40: =R40*$I$96 -> 0.0022457812 | T40: =J40+M40+P40+S40 -> 0.011127861 | U40: =FORMULASI!U40 -> 110218000 | V40: =FORMULASI!V40 -> 596011000 | W40: =3000000*12 -> 36000000 | X40: =2225000*12 -> 26700000 | Y40: =((2023000*6)+(2023000*2))*12 -> 194208000 | Z40: =$AZ$22 -> 1387284 | AA40: 0 | AB40: =$BF$22 -> 3116160 | AC40: =((150000*1)+(100000*9))*12 -> 12600000 | AD40: 49200000 | AE40: =V40*10% -> 59601100 | AF40: 14700000 | AG40: 92000000 | AH40: =V40-(W40+X40+Y40+AA40+AB40+AE40+AF40+AG40+AC40+AD40+Z40) -> 106498456 | AJ40: =(AH40/AN40)*100 -> 17.868539 | AK40: =W40+X40+Y40 -> 256908000 | AL40: =AA40+AB40 -> 3116160 | AM40: =W40+X40+Y40+Z40+AA40+AB40+AC40+AD40+AE40+AF40+AG40+AH40 -> 596011000 | AN40: =V40 -> 596011000 | AO40: =AM40-AN40 -> 0 | AP40: =ROUNDDOWN(AH40,-3) -> 106498000 | AR40: =E40+U40 -> 596011000 | AS40: =AN40-AR40 -> 0
B41: 31 | C41: =FORMULASI!C41 -> Bonegunu | D41: =FORMULASI!D41 -> Koepisino | E41: =FORMULASI!E41 -> 485793000 | F41: ='7410 Kab. Buton Utara (2)'!D36 -> Tertinggal | G41: ='7410 Kab. Buton Utara'!E36 -> 3 | H41: ='7410 Kab. Buton Utara'!F36 -> 927 | I41: =H41/$H$90 -> 0.019382763 | J41: =I41*$I$93 -> 0.0019382763 | K41: ='7410 Kab. Buton Utara'!G36 -> 65 | L41: =K41/$K$90 -> 0.0084591359 | M41: =L41*$I$94 -> 0.0042295679 | N41: ='7410 Kab. Buton Utara'!H36 -> 32.588618 | O41: =N41/$N$90 -> 0.018695618 | P41: =O41*$I$95 -> 0.0028043427 | Q41: ='7410 Kab. Buton Utara'!I36 -> 24.736322 | R41: =Q41/$Q$90 -> 0.0068342727 | S41: =R41*$I$96 -> 0.0017085682 | T41: =J41+M41+P41+S41 -> 0.010680755 | U41: =FORMULASI!U41 -> 119037000 | V41: =FORMULASI!V41 -> 604830000 | W41: =3000000*12 -> 36000000 | X41: =2225000*12 -> 26700000 | Y41: =((2023000*6)+(2023000*2))*12 -> 194208000 | Z41: =$AZ$22 -> 1387284 | AA41: 0 | AB41: =$BF$22 -> 3116160 | AC41: =((150000*1)+(100000*9))*12 -> 12600000 | AD41: 49200000 | AE41: =V41*10% -> 60483000 | AF41: 14700000 | AG41: 92000000 | AH41: =V41-(W41+X41+Y41+AA41+AB41+AE41+AF41+AG41+AC41+AD41+Z41) -> 114435556 | AJ41: =(AH41/AN41)*100 -> 18.920284 | AK41: =W41+X41+Y41 -> 256908000 | AL41: =AA41+AB41 -> 3116160 | AM41: =W41+X41+Y41+Z41+AA41+AB41+AC41+AD41+AE41+AF41+AG41+AH41 -> 604830000 | AN41: =V41 -> 604830000 | AO41: =AM41-AN41 -> 0 | AP41: =ROUNDDOWN(AH41,-3) -> 114435000 | AR41: =E41+U41 -> 604830000 | AS41: =AN41-AR41 -> 0
B42: 32 | C42: =FORMULASI!C42 -> Bonegunu | D42: =FORMULASI!D42 -> Waode Kalowo | E42: =FORMULASI!E42 -> 485793000 | F42: ='7410 Kab. Buton Utara (2)'!D37 -> Tertinggal | G42: ='7410 Kab. Buton Utara'!E37 -> 4 | H42: ='7410 Kab. Buton Utara'!F37 -> 741 | I42: =H42/$H$90 -> 0.015493665 | J42: =I42*$I$93 -> 0.0015493665 | K42: ='7410 Kab. Buton Utara'!G37 -> 88 | L42: =K42/$K$90 -> 0.011452369 | M42: =L42*$I$94 -> 0.0057261843 | N42: ='7410 Kab. Buton Utara'!H37 -> 4.272245 | O42: =N42/$N$90 -> 0.0024509251 | P42: =O42*$I$95 -> 0.00036763876 | Q42: ='7410 Kab. Buton Utara'!I37 -> 49.819509 | R42: =Q42/$Q$90 -> 0.013764379 | S42: =R42*$I$96 -> 0.0034410947 | T42: =J42+M42+P42+S42 -> 0.011084284 | U42: =FORMULASI!U42 -> 85320000 | V42: =FORMULASI!V42 -> 571113000 | W42: =3000000*12 -> 36000000 | X42: =2225000*12 -> 26700000 | Y42: =((2023000*6)+(2023000*2))*12 -> 194208000 | Z42: =$AZ$22 -> 1387284 | AA42: 0 | AB42: =$BF$22 -> 3116160 | AC42: =((150000*1)+(100000*9))*12 -> 12600000 | AD42: 49200000 | AE42: =V42*10% -> 57111300 | AF42: 14700000 | AG42: 92000000 | AH42: =V42-(W42+X42+Y42+AA42+AB42+AE42+AF42+AG42+AC42+AD42+Z42) -> 84090256 | AJ42: =(AH42/AN42)*100 -> 14.723926 | AK42: =W42+X42+Y42 -> 256908000 | AL42: =AA42+AB42 -> 3116160 | AM42: =W42+X42+Y42+Z42+AA42+AB42+AC42+AD42+AE42+AF42+AG42+AH42 -> 571113000 | AN42: =V42 -> 571113000 | AO42: =AM42-AN42 -> 0 | AP42: =ROUNDDOWN(AH42,-3) -> 84090000 | AR42: =E42+U42 -> 571113000 | AS42: =AN42-AR42 -> 0
B43: 33 | C43: =FORMULASI!C43 -> Bonegunu | D43: =FORMULASI!D43 -> Laano Ipi | E43: =FORMULASI!E43 -> 485793000 | F43: ='7410 Kab. Buton Utara (2)'!D45 -> Tertinggal | G43: ='7410 Kab. Buton Utara'!E45 -> 5 | H43: ='7410 Kab. Buton Utara'!F45 -> 588 | I43: =H43/$H$90 -> 0.012294568 | J43: =I43*$I$93 -> 0.0012294568 | K43: ='7410 Kab. Buton Utara'!G45 -> 150 | L43: =K43/$K$90 -> 0.019521083 | M43: =L43*$I$94 -> 0.0097605414 | N43: ='7410 Kab. Buton Utara'!H45 -> 48.027121 | O43: =N43/$N$90 -> 0.027552464 | P43: =O43*$I$95 -> 0.0041328696 | Q43: ='7410 Kab. Buton Utara'!I45 -> 43.902354 | R43: =Q43/$Q$90 -> 0.012129558 | S43: =R43*$I$96 -> 0.0030323896 | T43: =J43+M43+P43+S43 -> 0.018155257 | U43: =FORMULASI!U43 -> 43900000 | V43: =FORMULASI!V43 -> 529693000 | W43: =3000000*12 -> 36000000 | X43: =2225000*12 -> 26700000 | Y43: =((2023000*6)+(2023000*2))*12 -> 194208000 | Z43: =$AZ$22 -> 1387284 | AA43: 0 | AB43: =$BF$22 -> 3116160 | AC43: =((150000*1)+(100000*9))*12 -> 12600000 | AD43: 49200000 | AE43: =V43*10% -> 52969300 | AF43: 14700000 | AG43: 92000000 | AH43: =V43-(W43+X43+Y43+AA43+AB43+AE43+AF43+AG43+AC43+AD43+Z43) -> 46812256 | AJ43: =(AH43/AN43)*100 -> 8.8376203 | AK43: =W43+X43+Y43 -> 256908000 | AL43: =AA43+AB43 -> 3116160 | AM43: =W43+X43+Y43+Z43+AA43+AB43+AC43+AD43+AE43+AF43+AG43+AH43 -> 529693000 | AN43: =V43 -> 529693000 | AO43: =AM43-AN43 -> 0 | AP43: =ROUNDDOWN(AH43,-3) -> 46812000 | AR43: =E43+U43 -> 529693000 | AS43: =AN43-AR43 -> 0
B44: 34 | C44: =FORMULASI!C44 -> Bonegunu | D44: =FORMULASI!D44 -> Eensumala | E44: =FORMULASI!E44 -> 485793000 | F44: ='7410 Kab. Buton Utara (2)'!D51 -> Tertinggal | G44: ='7410 Kab. Buton Utara'!E51 -> 4 | H44: ='7410 Kab. Buton Utara'!F51 -> 665 | I44: =H44/$H$90 -> 0.013904571 | J44: =I44*$I$93 -> 0.0013904571 | K44: ='7410 Kab. Buton Utara'!G51 -> 75 | L44: =K44/$K$90 -> 0.0097605414 | M44: =L44*$I$94 -> 0.0048802707 | N44: ='7410 Kab. Buton Utara'!H51 -> 8.320172 | O44: =N44/$N$90 -> 0.0047731622 | P44: =O44*$I$95 -> 0.00071597433 | Q44: ='7410 Kab. Buton Utara'!I51 -> 48.097519 | R44: =Q44/$Q$90 -> 0.013288619 | S44: =R44*$I$96 -> 0.0033221548 | T44: =J44+M44+P44+S44 -> 0.010308857 | U44: =FORMULASI!U44 -> 37594000 | V44: =FORMULASI!V44 -> 523387000 | W44: =3000000*12 -> 36000000 | X44: =2225000*12 -> 26700000 | Y44: =((2023000*6)+(2023000*2))*12 -> 194208000 | Z44: =$AZ$22 -> 1387284 | AA44: 0 | AB44: =$BF$22 -> 3116160 | AC44: =((150000*1)+(100000*9))*12 -> 12600000 | AD44: 49200000 | AE44: =V44*10% -> 52338700 | AF44: 14700000 | AG44: 92000000 | AH44: =V44-(W44+X44+Y44+AA44+AB44+AE44+AF44+AG44+AC44+AD44+Z44) -> 41136856 | AJ44: =(AH44/AN44)*100 -> 7.8597397 | AK44: =W44+X44+Y44 -> 256908000 | AL44: =AA44+AB44 -> 3116160 | AM44: =W44+X44+Y44+Z44+AA44+AB44+AC44+AD44+AE44+AF44+AG44+AH44 -> 523387000 | AN44: =V44 -> 523387000 | AO44: =AM44-AN44 -> 0 | AP44: =ROUNDDOWN(AH44,-3) -> 41136000 | AR44: =E44+U44 -> 523387000 | AS44: =AN44-AR44 -> 0
B45: 35 | C45: =FORMULASI!C45 -> Bonegunu | D45: =FORMULASI!D45 -> Tatombuli | E45: =FORMULASI!E45 -> 485793000 | F45: ='7410 Kab. Buton Utara (2)'!D52 -> Berkembang | G45: ='7410 Kab. Buton Utara'!E52 -> 5 | H45: ='7410 Kab. Buton Utara'!F52 -> 752 | I45: =H45/$H$90 -> 0.015723665 | J45: =I45*$I$93 -> 0.0015723665 | K45: ='7410 Kab. Buton Utara'!G52 -> 130 | L45: =K45/$K$90 -> 0.016918272 | M45: =L45*$I$94 -> 0.0084591359 | N45: ='7410 Kab. Buton Utara'!H52 -> 1.727284 | O45: =N45/$N$90 -> 0.00099091782 | P45: =O45*$I$95 -> 0.00014863767 | Q45: ='7410 Kab. Buton Utara'!I52 -> 54.308129 | R45: =Q45/$Q$90 -> 0.015004517 | S45: =R45*$I$96 -> 0.0037511292 | T45: =J45+M45+P45+S45 -> 0.013931269 | U45: =FORMULASI!U45 -> 54031000 | V45: =FORMULASI!V45 -> 539824000 | W45: =3000000*12 -> 36000000 | X45: =2225000*12 -> 26700000 | Y45: =((2023000*6)+(2023000*2))*12 -> 194208000 | Z45: =$AZ$22 -> 1387284 | AA45: 0 | AB45: =$BF$22 -> 3116160 | AC45: =((150000*1)+(100000*9))*12 -> 12600000 | AD45: 49200000 | AE45: =V45*10% -> 53982400 | AF45: 14700000 | AG45: 92000000 | AH45: =V45-(W45+X45+Y45+AA45+AB45+AE45+AF45+AG45+AC45+AD45+Z45) -> 55930156 | AJ45: =(AH45/AN45)*100 -> 10.360813 | AK45: =W45+X45+Y45 -> 256908000 | AL45: =AA45+AB45 -> 3116160 | AM45: =W45+X45+Y45+Z45+AA45+AB45+AC45+AD45+AE45+AF45+AG45+AH45 -> 539824000 | AN45: =V45 -> 539824000 | AO45: =AM45-AN45 -> 0 | AP45: =ROUNDDOWN(AH45,-3) -> 55930000 | AR45: =E45+U45 -> 539824000 | AS45: =AN45-AR45 -> 0
B46: 36 | C46: =FORMULASI!C46 -> Bonegunu | D46: =FORMULASI!D46 -> Rante Gola | E46: =FORMULASI!E46 -> 485793000 | F46: ='7410 Kab. Buton Utara (2)'!D55 -> Tertinggal | G46: ='7410 Kab. Buton Utara'!E55 -> 5 | H46: ='7410 Kab. Buton Utara'!F55 -> 686 | I46: =H46/$H$90 -> 0.014343662 | J46: =I46*$I$93 -> 0.0014343662 | K46: ='7410 Kab. Buton Utara'!G55 -> 113 | L46: =K46/$K$90 -> 0.014705882 | M46: =L46*$I$94 -> 0.0073529412 | N46: ='7410 Kab. Buton Utara'!H55 -> 1.585844 | O46: =N46/$N$90 -> 0.00090977574 | P46: =O46*$I$95 -> 0.00013646636 | Q46: ='7410 Kab. Buton Utara'!I55 -> 45.360873 | R46: =Q46/$Q$90 -> 0.012532525 | S46: =R46*$I$96 -> 0.0031331313 | T46: =J46+M46+P46+S46 -> 0.012056905 | U46: =FORMULASI!U46 -> 53596000 | V46: =FORMULASI!V46 -> 539389000 | W46: =3000000*12 -> 36000000 | X46: =2225000*12 -> 26700000 | Y46: =((2023000*6)+(2023000*2))*12 -> 194208000 | Z46: =$AZ$22 -> 1387284 | AA46: 0 | AB46: =$BF$22 -> 3116160 | AC46: =((150000*1)+(100000*9))*12 -> 12600000 | AD46: 49200000 | AE46: =V46*10% -> 53938900 | AF46: 14700000 | AG46: 92000000 | AH46: =V46-(W46+X46+Y46+AA46+AB46+AE46+AF46+AG46+AC46+AD46+Z46) -> 55538656 | AJ46: =(AH46/AN46)*100 -> 10.296587 | AK46: =W46+X46+Y46 -> 256908000 | AL46: =AA46+AB46 -> 3116160 | AM46: =W46+X46+Y46+Z46+AA46+AB46+AC46+AD46+AE46+AF46+AG46+AH46 -> 539389000 | AN46: =V46 -> 539389000 | AO46: =AM46-AN46 -> 0 | AP46: =ROUNDDOWN(AH46,-3) -> 55538000 | AR46: =E46+U46 -> 539389000 | AS46: =AN46-AR46 -> 0
B47: 37 | C47: =FORMULASI!C47 -> Bonegunu | D47: =FORMULASI!D47 -> Ngapa'ea | E47: =FORMULASI!E47 -> 485793000 | F47: ='7410 Kab. Buton Utara (2)'!D64 -> Tertinggal | G47: ='7410 Kab. Buton Utara'!E64 -> 6 | H47: ='7410 Kab. Buton Utara'!F64 -> 891 | I47: =H47/$H$90 -> 0.018630034 | J47: =I47*$I$93 -> 0.0018630034 | K47: ='7410 Kab. Buton Utara'!G64 -> 202 | L47: =K47/$K$90 -> 0.026288391 | M47: =L47*$I$94 -> 0.013144196 | N47: ='7410 Kab. Buton Utara'!H64 -> 0.140733 | O47: =N47/$N$90 -> 8.0736484e-05 | P47: =O47*$I$95 -> 1.2110473e-05 | Q47: ='7410 Kab. Buton Utara'!I64 -> 53.039948 | R47: =Q47/$Q$90 -> 0.014654138 | S47: =R47*$I$96 -> 0.0036635344 | T47: =J47+M47+P47+S47 -> 0.018682844 | U47: =FORMULASI!U47 -> 78597000 | V47: =FORMULASI!V47 -> 564390000 | W47: =3000000*12 -> 36000000 | X47: =2225000*12 -> 26700000 | Y47: =((2023000*6)+(2023000*2))*12 -> 194208000 | Z47: =$AZ$22 -> 1387284 | AA47: 0 | AB47: =$BF$22 -> 3116160 | AC47: =((150000*1)+(100000*9))*12 -> 12600000 | AD47: 49200000 | AE47: =V47*10% -> 56439000 | AF47: 14700000 | AG47: 92000000 | AH47: =V47-(W47+X47+Y47+AA47+AB47+AE47+AF47+AG47+AC47+AD47+Z47) -> 78039556 | AJ47: =(AH47/AN47)*100 -> 13.827239 | AK47: =W47+X47+Y47 -> 256908000 | AL47: =AA47+AB47 -> 3116160 | AM47: =W47+X47+Y47+Z47+AA47+AB47+AC47+AD47+AE47+AF47+AG47+AH47 -> 564390000 | AN47: =V47 -> 564390000 | AO47: =AM47-AN47 -> 0 | AP47: =ROUNDDOWN(AH47,-3) -> 78039000 | AR47: =E47+U47 -> 564390000 | AS47: =AN47-AR47 -> 0
B48: 38 | C48: =FORMULASI!C48 -> Bonegunu | D48: =FORMULASI!D48 -> Koboruno | E48: =FORMULASI!E48 -> 485793000 | F48: ='7410 Kab. Buton Utara (2)'!D66 -> Tertinggal | G48: ='7410 Kab. Buton Utara'!E66 -> 3 | H48: ='7410 Kab. Buton Utara'!F66 -> 487 | I48: =H48/$H$90 -> 0.010182746 | J48: =I48*$I$93 -> 0.0010182746 | K48: ='7410 Kab. Buton Utara'!G66 -> 53 | L48: =K48/$K$90 -> 0.0068974492 | M48: =L48*$I$94 -> 0.0034487246 | N48: ='7410 Kab. Buton Utara'!H66 -> 55.655691 | O48: =N48/$N$90 -> 0.031928864 | P48: =O48*$I$95 -> 0.0047893296 | Q48: ='7410 Kab. Buton Utara'!I66 -> 57.034161 | R48: =Q48/$Q$90 -> 0.015757678 | S48: =R48*$I$96 -> 0.0039394196 | T48: =J48+M48+P48+S48 -> 0.013195748 | U48: =FORMULASI!U48 -> 29670000 | V48: =FORMULASI!V48 -> 515463000 | W48: =3000000*12 -> 36000000 | X48: =2225000*12 -> 26700000 | Y48: =((2023000*6)+(2023000*2))*12 -> 194208000 | Z48: =$AZ$22 -> 1387284 | AA48: 0 | AB48: =$BF$22 -> 3116160 | AC48: =((150000*1)+(100000*9))*12 -> 12600000 | AD48: 49200000 | AE48: =V48*10% -> 51546300 | AF48: 14700000 | AG48: 92000000 | AH48: =V48-(W48+X48+Y48+AA48+AB48+AE48+AF48+AG48+AC48+AD48+Z48) -> 34005256 | AJ48: =(AH48/AN48)*100 -> 6.5970314 | AK48: =W48+X48+Y48 -> 256908000 | AL48: =AA48+AB48 -> 3116160 | AM48: =W48+X48+Y48+Z48+AA48+AB48+AC48+AD48+AE48+AF48+AG48+AH48 -> 515463000 | AN48: =V48 -> 515463000 | AO48: =AM48-AN48 -> 0 | AP48: =ROUNDDOWN(AH48,-3) -> 34005000 | AR48: =E48+U48 -> 515463000 | AS48: =AN48-AR48 -> 0
B49: 39 | C49: =FORMULASI!C49 -> Bonegunu | D49: =FORMULASI!D49 -> Damai Laborona | E49: =FORMULASI!E49 -> 485793000 | F49: ='7410 Kab. Buton Utara (2)'!D78 -> Tertinggal | G49: ='7410 Kab. Buton Utara'!E78 -> 3 | H49: ='7410 Kab. Buton Utara'!F78 -> 836 | I49: =H49/$H$90 -> 0.017480032 | J49: =I49*$I$93 -> 0.0017480032 | K49: ='7410 Kab. Buton Utara'!G78 -> 61 | L49: =K49/$K$90 -> 0.0079385737 | M49: =L49*$I$94 -> 0.0039692868 | N49: ='7410 Kab. Buton Utara'!H78 -> 34.572273 | O49: =N49/$N$90 -> 0.019833612 | P49: =O49*$I$95 -> 0.0029750418 | Q49: ='7410 Kab. Buton Utara'!I78 -> 54.743633 | R49: =Q49/$Q$90 -> 0.01512484 | S49: =R49*$I$96 -> 0.00378121 | T49: =J49+M49+P49+S49 -> 0.012473542 | U49: =FORMULASI!U49 -> 83241000 | V49: =FORMULASI!V49 -> 569034000 | W49: =3000000*12 -> 36000000 | X49: =2225000*12 -> 26700000 | Y49: =((2023000*6)+(2023000*2))*12 -> 194208000 | Z49: =$AZ$22 -> 1387284 | AA49: 0 | AB49: =$BF$22 -> 3116160 | AC49: =((150000*1)+(100000*9))*12 -> 12600000 | AD49: 49200000 | AE49: =V49*10% -> 56903400 | AF49: 14700000 | AG49: 92000000 | AH49: =V49-(W49+X49+Y49+AA49+AB49+AE49+AF49+AG49+AC49+AD49+Z49) -> 82219156 | AJ49: =(AH49/AN49)*100 -> 14.4489 | AK49: =W49+X49+Y49 -> 256908000 | AL49: =AA49+AB49 -> 3116160 | AM49: =W49+X49+Y49+Z49+AA49+AB49+AC49+AD49+AE49+AF49+AG49+AH49 -> 569034000 | AN49: =V49 -> 569034000 | AO49: =AM49-AN49 -> 0 | AP49: =ROUNDDOWN(AH49,-3) -> 82219000 | AR49: =E49+U49 -> 569034000 | AS49: =AN49-AR49 -> 0
B50: 40 | C50: =FORMULASI!C50 -> Kulisusu Barat | D50: =FORMULASI!D50 -> Kotawo | E50: =FORMULASI!E50 -> 485793000 | F50: ='7410 Kab. Buton Utara (2)'!D7 -> Tertinggal | G50: ='7410 Kab. Buton Utara'!E7 -> 4 | H50: ='7410 Kab. Buton Utara'!F7 -> 357 | I50: =H50/$H$90 -> 0.007464559 | J50: =I50*$I$93 -> 0.0007464559 | K50: ='7410 Kab. Buton Utara'!G7 -> 81 | L50: =K50/$K$90 -> 0.010541385 | M50: =L50*$I$94 -> 0.0052706923 | N50: ='7410 Kab. Buton Utara'!H7 -> 19.923742 | O50: =N50/$N$90 -> 0.011429962 | P50: =O50*$I$95 -> 0.0017144943 | Q50: ='7410 Kab. Buton Utara'!I7 -> 48.151473 | R50: =Q50/$Q$90 -> 0.013303526 | S50: =R50*$I$96 -> 0.0033258814 | T50: =J50+M50+P50+S50 -> 0.011057524 | U50: =FORMULASI!U50 -> 55558000 | V50: =FORMULASI!V50 -> 541351000 | W50: =3000000*12 -> 36000000 | X50: =2225000*12 -> 26700000 | Y50: =((2023000*6)+(2023000*2))*12 -> 194208000 | Z50: =$AZ$22 -> 1387284 | AA50: 0 | AB50: =$BF$22 -> 3116160 | AC50: =((150000*1)+(100000*9))*12 -> 12600000 | AD50: 49200000 | AE50: =V50*10% -> 54135100 | AF50: 14700000 | AG50: 92000000 | AH50: =V50-(W50+X50+Y50+AA50+AB50+AE50+AF50+AG50+AC50+AD50+Z50) -> 57304456 | AJ50: =(AH50/AN50)*100 -> 10.585453 | AK50: =W50+X50+Y50 -> 256908000 | AL50: =AA50+AB50 -> 3116160 | AM50: =W50+X50+Y50+Z50+AA50+AB50+AC50+AD50+AE50+AF50+AG50+AH50 -> 541351000 | AN50: =V50 -> 541351000 | AO50: =AM50-AN50 -> 0 | AP50: =ROUNDDOWN(AH50,-3) -> 57304000 | AR50: =E50+U50 -> 541351000 | AS50: =AN50-AR50 -> 0
B51: 41 | C51: =FORMULASI!C51 -> Kulisusu Barat | D51: =FORMULASI!D51 -> Karya Bhakti | E51: =FORMULASI!E51 -> 485793000 | F51: ='7410 Kab. Buton Utara (2)'!D22 -> Tertinggal | G51: ='7410 Kab. Buton Utara'!E22 -> 6 | H51: ='7410 Kab. Buton Utara'!F22 -> 582 | I51: =H51/$H$90 -> 0.012169113 | J51: =I51*$I$93 -> 0.0012169113 | K51: ='7410 Kab. Buton Utara'!G22 -> 156 | L51: =K51/$K$90 -> 0.020301926 | M51: =L51*$I$94 -> 0.010150963 | N51: ='7410 Kab. Buton Utara'!H22 -> 10.405687 | O51: =N51/$N$90 -> 0.0059695919 | P51: =O51*$I$95 -> 0.00089543879 | Q51: ='7410 Kab. Buton Utara'!I22 -> 40.765119 | R51: =Q51/$Q$90 -> 0.011262788 | S51: =R51*$I$96 -> 0.0028156969 | T51: =J51+M51+P51+S51 -> 0.01507901 | U51: =FORMULASI!U51 -> 33475000 | V51: =FORMULASI!V51 -> 519268000 | W51: =3000000*12 -> 36000000 | X51: =2225000*12 -> 26700000 | Y51: =((2023000*6)+(2023000*2))*12 -> 194208000 | Z51: =$AZ$22 -> 1387284 | AA51: 0 | AB51: =$BF$22 -> 3116160 | AC51: =((150000*1)+(100000*9))*12 -> 12600000 | AD51: 49200000 | AE51: =V51*10% -> 51926800 | AF51: 14700000 | AG51: 92000000 | AH51: =V51-(W51+X51+Y51+AA51+AB51+AE51+AF51+AG51+AC51+AD51+Z51) -> 37429756 | AJ51: =(AH51/AN51)*100 -> 7.2081769 | AK51: =W51+X51+Y51 -> 256908000 | AL51: =AA51+AB51 -> 3116160 | AM51: =W51+X51+Y51+Z51+AA51+AB51+AC51+AD51+AE51+AF51+AG51+AH51 -> 519268000 | AN51: =V51 -> 519268000 | AO51: =AM51-AN51 -> 0 | AP51: =ROUNDDOWN(AH51,-3) -> 37429000 | AR51: =E51+U51 -> 519268000 | AS51: =AN51-AR51 -> 0
B52: 42 | C52: =FORMULASI!C52 -> Kulisusu Barat | D52: =FORMULASI!D52 -> Marga Karya | E52: =FORMULASI!E52 -> 485793000 | F52: ='7410 Kab. Buton Utara (2)'!D23 -> Tertinggal | G52: ='7410 Kab. Buton Utara'!E23 -> 3 | H52: ='7410 Kab. Buton Utara'!F23 -> 573 | I52: =H52/$H$90 -> 0.011980931 | J52: =I52*$I$93 -> 0.0011980931 | K52: ='7410 Kab. Buton Utara'!G23 -> 55 | L52: =K52/$K$90 -> 0.0071577303 | M52: =L52*$I$94 -> 0.0035788652 | N52: ='7410 Kab. Buton Utara'!H23 -> 66.039156 | O52: =N52/$N$90 -> 0.037885707 | P52: =O52*$I$95 -> 0.0056828561 | Q52: ='7410 Kab. Buton Utara'!I23 -> 34.806059 | R52: =Q52/$Q$90 -> 0.0096163892 | S52: =R52*$I$96 -> 0.0024040973 | T52: =J52+M52+P52+S52 -> 0.012863912 | U52: =FORMULASI!U52 -> 27569000 | V52: =FORMULASI!V52 -> 513362000 | W52: =3000000*12 -> 36000000 | X52: =2225000*12 -> 26700000 | Y52: =((2023000*6)+(2023000*2))*12 -> 194208000 | Z52: =$AZ$22 -> 1387284 | AA52: 0 | AB52: =$BF$22 -> 3116160 | AC52: =((150000*1)+(100000*9))*12 -> 12600000 | AD52: 49200000 | AE52: =V52*10% -> 51336200 | AF52: 14700000 | AG52: 92000000 | AH52: =V52-(W52+X52+Y52+AA52+AB52+AE52+AF52+AG52+AC52+AD52+Z52) -> 32114356 | AJ52: =(AH52/AN52)*100 -> 6.255694 | AK52: =W52+X52+Y52 -> 256908000 | AL52: =AA52+AB52 -> 3116160 | AM52: =W52+X52+Y52+Z52+AA52+AB52+AC52+AD52+AE52+AF52+AG52+AH52 -> 513362000 | AN52: =V52 -> 513362000 | AO52: =AM52-AN52 -> 0 | AP52: =ROUNDDOWN(AH52,-3) -> 32114000 | AR52: =E52+U52 -> 513362000 | AS52: =AN52-AR52 -> 0
B53: 43 | C53: =FORMULASI!C53 -> Kulisusu Barat | D53: =FORMULASI!D53 -> Kasulatombi | E53: =FORMULASI!E53 -> 485793000 | F53: ='7410 Kab. Buton Utara (2)'!D29 -> Tertinggal | G53: ='7410 Kab. Buton Utara'!E29 -> 5 | H53: ='7410 Kab. Buton Utara'!F29 -> 745 | I53: =H53/$H$90 -> 0.015577301 | J53: =I53*$I$93 -> 0.0015577301 | K53: ='7410 Kab. Buton Utara'!G29 -> 148 | L53: =K53/$K$90 -> 0.019260802 | M53: =L53*$I$94 -> 0.0096304008 | N53: ='7410 Kab. Buton Utara'!H29 -> 1.807888 | O53: =N53/$N$90 -> 0.0010371592 | P53: =O53*$I$95 -> 0.00015557387 | Q53: ='7410 Kab. Buton Utara'!I29 -> 41.334851 | R53: =Q53/$Q$90 -> 0.011420196 | S53: =R53*$I$96 -> 0.002855049 | T53: =J53+M53+P53+S53 -> 0.014198754 | U53: =FORMULASI!U53 -> 59303000 | V53: =FORMULASI!V53 -> 545096000 | W53: =3000000*12 -> 36000000 | X53: =2225000*12 -> 26700000 | Y53: =((2023000*6)+(2023000*2))*12 -> 194208000 | Z53: =$AZ$22 -> 1387284 | AA53: 0 | AB53: =$BF$22 -> 3116160 | AC53: =((150000*1)+(100000*9))*12 -> 12600000 | AD53: 49200000 | AE53: =V53*10% -> 54509600 | AF53: 14700000 | AG53: 92000000 | AH53: =V53-(W53+X53+Y53+AA53+AB53+AE53+AF53+AG53+AC53+AD53+Z53) -> 60674956 | AJ53: =(AH53/AN53)*100 -> 11.131059 | AK53: =W53+X53+Y53 -> 256908000 | AL53: =AA53+AB53 -> 3116160 | AM53: =W53+X53+Y53+Z53+AA53+AB53+AC53+AD53+AE53+AF53+AG53+AH53 -> 545096000 | AN53: =V53 -> 545096000 | AO53: =AM53-AN53 -> 0 | AP53: =ROUNDDOWN(AH53,-3) -> 60674000 | AR53: =E53+U53 -> 545096000 | AS53: =AN53-AR53 -> 0
B54: 44 | C54: =FORMULASI!C54 -> Kulisusu Barat | D54: =FORMULASI!D54 -> Dampala Jaya | E54: =FORMULASI!E54 -> 485793000 | F54: ='7410 Kab. Buton Utara (2)'!D40 -> Tertinggal | G54: ='7410 Kab. Buton Utara'!E40 -> 2 | H54: ='7410 Kab. Buton Utara'!F40 -> 364 | I54: =H54/$H$90 -> 0.0076109229 | J54: =I54*$I$93 -> 0.00076109229 | K54: ='7410 Kab. Buton Utara'!G40 -> 27 | L54: =K54/$K$90 -> 0.0035137949 | M54: =L54*$I$94 -> 0.0017568974 | N54: ='7410 Kab. Buton Utara'!H40 -> 5.08177 | O54: =N54/$N$90 -> 0.0029153379 | P54: =O54*$I$95 -> 0.00043730068 | Q54: ='7410 Kab. Buton Utara'!I40 -> 53.617716 | R54: =Q54/$Q$90 -> 0.014813766 | S54: =R54*$I$96 -> 0.0037034416 | T54: =J54+M54+P54+S54 -> 0.006658732 | U54: =FORMULASI!U54 -> 44057000 | V54: =FORMULASI!V54 -> 529850000 | W54: =3000000*12 -> 36000000 | X54: =2225000*12 -> 26700000 | Y54: =((2023000*6)+(2023000*2))*12 -> 194208000 | Z54: =$AZ$22 -> 1387284 | AA54: 0 | AB54: =$BF$22 -> 3116160 | AC54: =((150000*1)+(100000*9))*12 -> 12600000 | AD54: 49200000 | AE54: =V54*10% -> 52985000 | AF54: 14700000 | AG54: 92000000 | AH54: =V54-(W54+X54+Y54+AA54+AB54+AE54+AF54+AG54+AC54+AD54+Z54) -> 46953556 | AJ54: =(AH54/AN54)*100 -> 8.8616695 | AK54: =W54+X54+Y54 -> 256908000 | AL54: =AA54+AB54 -> 3116160 | AM54: =W54+X54+Y54+Z54+AA54+AB54+AC54+AD54+AE54+AF54+AG54+AH54 -> 529850000 | AN54: =V54 -> 529850000 | AO54: =AM54-AN54 -> 0 | AP54: =ROUNDDOWN(AH54,-3) -> 46953000 | AR54: =E54+U54 -> 529850000 | AS54: =AN54-AR54 -> 0
B55: 45 | C55: =FORMULASI!C55 -> Kulisusu Barat | D55: =FORMULASI!D55 -> Rahmat Baru | E55: =FORMULASI!E55 -> 485793000 | F55: ='7410 Kab. Buton Utara (2)'!D44 -> Sangat Tertinggal | G55: ='7410 Kab. Buton Utara'!E44 -> 4 | H55: ='7410 Kab. Buton Utara'!F44 -> 305 | I55: =H55/$H$90 -> 0.0063772843 | J55: =I55*$I$93 -> 0.00063772843 | K55: ='7410 Kab. Buton Utara'!G44 -> 74 | L55: =K55/$K$90 -> 0.0096304008 | M55: =L55*$I$94 -> 0.0048152004 | N55: ='7410 Kab. Buton Utara'!H44 -> 5.667586 | O55: =N55/$N$90 -> 0.003251412 | P55: =O55*$I$95 -> 0.0004877118 | Q55: ='7410 Kab. Buton Utara'!I44 -> 41.005686 | R55: =Q55/$Q$90 -> 0.011329253 | S55: =R55*$I$96 -> 0.0028323131 | T55: =J55+M55+P55+S55 -> 0.0087729538 | U55: =FORMULASI!U55 -> 37174000 | V55: =FORMULASI!V55 -> 522967000 | W55: =3000000*12 -> 36000000 | X55: =2225000*12 -> 26700000 | Y55: =((2023000*6)+(2023000*2))*12 -> 194208000 | Z55: =$AZ$22 -> 1387284 | AA55: 0 | AB55: =$BF$22 -> 3116160 | AC55: =((150000*1)+(100000*9))*12 -> 12600000 | AD55: 49200000 | AE55: =V55*10% -> 52296700 | AF55: 14700000 | AG55: 92000000 | AH55: =V55-(W55+X55+Y55+AA55+AB55+AE55+AF55+AG55+AC55+AD55+Z55) -> 40758856 | AJ55: =(AH55/AN55)*100 -> 7.7937721 | AK55: =W55+X55+Y55 -> 256908000 | AL55: =AA55+AB55 -> 3116160 | AM55: =W55+X55+Y55+Z55+AA55+AB55+AC55+AD55+AE55+AF55+AG55+AH55 -> 522967000 | AN55: =V55 -> 522967000 | AO55: =AM55-AN55 -> 0 | AP55: =ROUNDDOWN(AH55,-3) -> 40758000 | AR55: =E55+U55 -> 522967000 | AS55: =AN55-AR55 -> 0
B56: 46 | C56: =FORMULASI!C56 -> Kulisusu Barat | D56: =FORMULASI!D56 -> Soloy Agung | E56: =FORMULASI!E56 -> 485793000 | F56: ='7410 Kab. Buton Utara (2)'!D49 -> Sangat Tertinggal | G56: ='7410 Kab. Buton Utara'!E49 -> 3 | H56: ='7410 Kab. Buton Utara'!F49 -> 255 | I56: =H56/$H$90 -> 0.0053318279 | J56: =I56*$I$93 -> 0.00053318279 | K56: ='7410 Kab. Buton Utara'!G49 -> 65 | L56: =K56/$K$90 -> 0.0084591359 | M56: =L56*$I$94 -> 0.0042295679 | N56: ='7410 Kab. Buton Utara'!H49 -> 7.503739 | O56: =N56/$N$90 -> 0.0043047864 | P56: =O56*$I$95 -> 0.00064571796 | Q56: ='7410 Kab. Buton Utara'!I49 -> 69.809045 | R56: =Q56/$Q$90 -> 0.019287186 | S56: =R56*$I$96 -> 0.0048217966 | T56: =J56+M56+P56+S56 -> 0.010230265 | U56: =FORMULASI!U56 -> 62933000 | V56: =FORMULASI!V56 -> 548726000 | W56: =3000000*12 -> 36000000 | X56: =2225000*12 -> 26700000 | Y56: =((2023000*6)+(2023000*2))*12 -> 194208000 | Z56: =$AZ$22 -> 1387284 | AA56: 0 | AB56: =$BF$22 -> 3116160 | AC56: =((150000*1)+(100000*9))*12 -> 12600000 | AD56: 49200000 | AE56: =V56*10% -> 54872600 | AF56: 14700000 | AG56: 92000000 | AH56: =V56-(W56+X56+Y56+AA56+AB56+AE56+AF56+AG56+AC56+AD56+Z56) -> 63941956 | AJ56: =(AH56/AN56)*100 -> 11.652802 | AK56: =W56+X56+Y56 -> 256908000 | AL56: =AA56+AB56 -> 3116160 | AM56: =W56+X56+Y56+Z56+AA56+AB56+AC56+AD56+AE56+AF56+AG56+AH56 -> 548726000 | AN56: =V56 -> 548726000 | AO56: =AM56-AN56 -> 0 | AP56: =ROUNDDOWN(AH56,-3) -> 63941000 | AR56: =E56+U56 -> 548726000 | AS56: =AN56-AR56 -> 0
B57: 47 | C57: =FORMULASI!C57 -> Kulisusu Barat | D57: =FORMULASI!D57 -> Bumi Lapero | E57: =FORMULASI!E57 -> 485793000 | F57: ='7410 Kab. Buton Utara (2)'!D50 -> Tertinggal | G57: ='7410 Kab. Buton Utara'!E50 -> 2 | H57: ='7410 Kab. Buton Utara'!F50 -> 467 | I57: =H57/$H$90 -> 0.0097645632 | J57: =I57*$I$93 -> 0.00097645632 | K57: ='7410 Kab. Buton Utara'!G50 -> 32 | L57: =K57/$K$90 -> 0.0041644977 | M57: =L57*$I$94 -> 0.0020822488 | N57: ='7410 Kab. Buton Utara'!H50 -> 13.298423 | O57: =N57/$N$90 -> 0.0076291127 | P57: =O57*$I$95 -> 0.0011443669 | Q57: ='7410 Kab. Buton Utara'!I50 -> 43.496653 | R57: =Q57/$Q$90 -> 0.012017469 | S57: =R57*$I$96 -> 0.0030043673 | T57: =J57+M57+P57+S57 -> 0.0072074394 | U57: =FORMULASI!U57 -> 37382000 | V57: =FORMULASI!V57 -> 523175000 | W57: =3000000*12 -> 36000000 | X57: =2225000*12 -> 26700000 | Y57: =((2023000*6)+(2023000*2))*12 -> 194208000 | Z57: =$AZ$22 -> 1387284 | AA57: 0 | AB57: =$BF$22 -> 3116160 | AC57: =((150000*1)+(100000*9))*12 -> 12600000 | AD57: 49200000 | AE57: =V57*10% -> 52317500 | AF57: 14700000 | AG57: 92000000 | AH57: =V57-(W57+X57+Y57+AA57+AB57+AE57+AF57+AG57+AC57+AD57+Z57) -> 40946056 | AJ57: =(AH57/AN57)*100 -> 7.826455 | AK57: =W57+X57+Y57 -> 256908000 | AL57: =AA57+AB57 -> 3116160 | AM57: =W57+X57+Y57+Z57+AA57+AB57+AC57+AD57+AE57+AF57+AG57+AH57 -> 523175000 | AN57: =V57 -> 523175000 | AO57: =AM57-AN57 -> 0 | AP57: =ROUNDDOWN(AH57,-3) -> 40946000 | AR57: =E57+U57 -> 523175000 | AS57: =AN57-AR57 -> 0
