Workbook
Name CARI: INDIRECT("DATA!A5:A"&COUNTIF([2]DATA!$A$5:$A$548,"?*")+5,TRUE)
Name kd_daerah: #REF!
Name kd_daerah: #REF!
Name kd_daerah: #REF!
Name kd_daerah: #REF!
Name kd_daerah: #REF!
Name kd_daerah: #REF!
Name kd_daerah: #REF!
Name kd_daerah: #REF!
Name kd_daerah: #REF!
Name kode: #REF!
Name kode: #REF!
Name kode: #REF!
Name kode: #REF!
Name kode: #REF!
Name kode: #REF!
Name kode: #REF!
Name kode: #REF!
Name kode: #REF!
Name nmdaerah: #REF!
Name nmdaerah: #REF!
Name nmdaerah: #REF!
Name nmdaerah: #REF!
Name nmdaerah: #REF!
Name nmdaerah: #REF!
Name nmdaerah: #REF!
Name nmdaerah: #REF!
Name nmdaerah: #REF!
Name penduduk: #REF!
Name penduduk: #REF!
Name penduduk: #REF!
Name penduduk: #REF!
Name penduduk: #REF!
Name penduduk: #REF!
Name penduduk: #REF!
Name penduduk: #REF!
Name penduduk: #REF!
Name PER.DANA: INDIRECT("PER.DANA!A5:A"&COUNTIF([2]PER.DANA!$A$5:$A$548,"?*")+5,TRUE)
Name PER.TAHUN: INDIRECT("PER.TAHUN!A5:A"&COUNTIF([2]PER.TAHUN!$A$5:$A$548,"?*")+5,TRUE)

Sheet LAMPIRAN PERUBAHAN (lama)
AK1: =AK2+AK3 -> 12200000
C2: LAMPIRAN | D2: : PERATURAN BUPATI BUTON UTARA | AK2: 5000000
D3: NOMOR | E3: : | AK3: =600000*12 -> 7200000
D4: TANGGAL | E4: : | AK4: =(1000000+900000+800000+(700000*2))*12 -> 49200000 | AL4: 81000000
D5: TENTANG | E5: : PERUBAHAN ATAS PERATURAN BUPATI BUTON UTARA NOMOR 02 TENTANG PEDOMAN PENGALOKASIAN DAN PENGGUNAAN ALOKASI DANA DESA KABUPATEN BUTON UTARA TAHUN ANGGARAN 2020 | AK5: =AK4+5000000 -> 54200000
AK6: =AK4+AK3+AK2 -> 61400000
B7: No. | C7: Kecamatan | D7: Nama Desa | E7: Alokasi Dasar | F7: Klasifikasi Desa IDM | G7: Desil JPM | H7: Alokasi Formula | T7: Total Bobot | U7: Alokasi Formula | V7: Pagu Alokasi Dana Desa per-Desa | W7: SILTAP | Z7: Tunjangan | AE7: Operasional | AH7: Pembangunan/ Pengadaan | AK7: =AK4+AK3 -> 56400000
H8: Jumlah Penduduk | K8: Jumlah Penduduk Miskin | N8: Luas Wilayah | Q8: IKG | AK8: =AC11+AD11 -> 61800000
H9: Jumlah Penduduk | I9: Rasio Jumlah Penduduk | J9: Bobot | K9: Jumlah Penduduk Miskin | L9: Rasio Jumlah Penduduk Miskin | M9: Bobot | N9: Luas Wilayah | O9: Rasio Luas Wilayah | P9: Bobot | Q9: Indeks Kesulitan Geografis | R9: Rasio Indeks Kesulitan Geografis | S9: Bobot | W9: Kades | X9: Sekdes | Y9: Kaur, Seksi dan Kadus | Z9: BPJS Ketenagakerjaan | AA9: BPJS Kesehatan 4% | AB9: BPJS Kesehatan 1% | AC9: Kepala Desa dan Perangkat | AD9: BPD | AE9: Kantor | AF9: BPD | AG9: LKD
B10: (1) | C10: (2) | D10: (3) | E10: (4) | F10: (5) | G10: (6) | H10: (8) | I10: (9) | J10: (10) | K10: (11) | L10: (12) | M10: (13) | N10: (14) | O10: (15) | P10: (16) | Q10: (17) | R10: (18) | S10: (19) | T10: (20) = (10) + (13) + (16) + (19) | U10: (5) | V10: (6)=(4)+(5) | W10: (7) | X10: (8) | Y10: (9) | Z10: (10) | AA10: (11) | AB10: (12) | AC10: (13) | AD10: (14) | AE10: (15) | AF10: (16) | AG10: (17) | AH10: (18) | AI10: =W11+X11+Y11+Z11+AA11+AB11+AC11+AD11+AF11 -> 3.3736438e+08
B11: 1 | C11: =FORMULASI!C11 -> Kulisusu | D11: =FORMULASI!D11 -> Tri Wacu-Wacu | E11: =FORMULASI!E11 -> 485793000 | F11: ='7410 Kab. Buton Utara (2)'!D10 -> Sangat Tertinggal | G11: ='7410 Kab. Buton Utara'!E10 -> 3 | H11: ='7410 Kab. Buton Utara'!F10 -> 368 | I11: =H11/$H$90 -> 0.0076945594 | J11: =I11*$I$93 -> 0.00076945594 | K11: ='7410 Kab. Buton Utara'!G10 -> 48 | L11: =K11/$K$90 -> 0.0062467465 | M11: =L11*$I$94 -> 0.0031233732 | N11: ='7410 Kab. Buton Utara'!H10 -> 60.578715 | O11: =N11/$N$90 -> 0.034753131 | P11: =O11*$I$95 -> 0.0052129697 | Q11: ='7410 Kab. Buton Utara'!I10 -> 39.358392 | R11: =Q11/$Q$90 -> 0.01087413 | S11: =R11*$I$96 -> 0.0027185325 | T11: =J11+M11+P11+S11 -> 0.011824331 | U11: =FORMULASI!U11 -> 75294000 | V11: =FORMULASI!V11 -> 561087000 | W11: =3000000*12 -> 36000000 | X11: =2225000*12 -> 26700000 | Y11: =((2023000*6)+(2023000*2))*12 -> 194208000 | Z11: =((3000000*0.54%)+(2225000*0.54%)+((2023000*0.54%)*8))*12 -> 1387303.2 | AA11: 0 | AB11: =(W11+X11+Y11)*1% -> 2569080 | AC11: =((150000*1)+(100000*9))*12 -> 12600000 | AD11: 49200000 | AE11: =V11*10% -> 56108700 | AF11: 14700000 | AG11: 92000000 | AH11: =V11-(W11+X11+Y11+AA11+AB11+AE11+AF11+AG11+AC11+AD11+Z11) -> 75613917 | AJ11: =(AH11/AN11)*100 -> 13.476327 | AK11: =W11+X11+Y11 -> 256908000 | AL11: =AA11+AB11 -> 2569080 | AM11: =W11+X11+Y11+Z11+AA11+AB11+AC11+AD11+AE11+AF11+AG11+AH11 -> 561087000 | AN11: =V11 -> 561087000 | AO11: =AM11-AN11 -> 0 | AV11: kepala desa | AW11: 3000000 | AX11: 0.0054 | AY11: =AW11*AX11 -> 16200 | AZ11: 16200 | BB11: kepala desa | BC11: 3000000 | BD11: 0.01 | BE11: =BC11*BD11 -> 30000 | BF11: 30000
B12: 2 | C12: =FORMULASI!C12 -> Kulisusu | D12: =FORMULASI!D12 -> Waculaea | E12: =FORMULASI!E12 -> 485793000 | F12: ='7410 Kab. Buton Utara (2)'!D12 -> Tertinggal | G12: ='7410 Kab. Buton Utara'!E12 -> 5 | H12: ='7410 Kab. Buton Utara'!F12 -> 240 | I12: =H12/$H$90 -> 0.0050181909 | J12: =I12*$I$93 -> 0.00050181909 | K12: ='7410 Kab. Buton Utara'!G12 -> 105 | L12: =K12/$K$90 -> 0.013664758 | M12: =L12*$I$94 -> 0.006832379 | N12: ='7410 Kab. Buton Utara'!H12 -> 24.83881 | O12: =N12/$N$90 -> 0.014249666 | P12: =O12*$I$95 -> 0.0021374498 | Q12: ='7410 Kab. Buton Utara'!I12 -> 48.442036 | R12: =Q12/$Q$90 -> 0.013383804 | S12: =R12*$I$96 -> 0.003345951 | T12: =J12+M12+P12+S12 -> 0.012817599 | U12: =FORMULASI!U12 -> 50064000 | V12: =FORMULASI!V12 -> 535857000 | W12: =3000000*12 -> 36000000 | X12: =2225000*12 -> 26700000 | Y12: =((2023000*6)+(2023000*2))*12 -> 194208000 | Z12: =((3000000*0.54%)+(2225000*0.54%)+((2023000*0.54%)*8))*12 -> 1387303.2 | AA12: 0 | AB12: =(W12+X12+Y12)*1% -> 2569080 | AC12: =((150000*1)+(100000*9))*12 -> 12600000 | AD12: 49200000 | AE12: =V12*10% -> 53585700 | AF12: 14700000 | AG12: 92000000 | AH12: =V12-(W12+X12+Y12+AA12+AB12+AE12+AF12+AG12+AC12+AD12+Z12) -> 52906917 | AJ12: =(AH12/AN12)*100 -> 9.8733275 | AK12: =W12+X12+Y12 -> 256908000 | AL12: =AA12+AB12 -> 2569080 | AM12: =W12+X12+Y12+Z12+AA12+AB12+AC12+AD12+AE12+AF12+AG12+AH12 -> 535857000 | AN12: =V12 -> 535857000 | AO12: =AM12-AN12 -> 0 | AV12: sekdes | AW12: 2225000 | AX12: 0.0054 | AY12: =AW12*AX12 -> 12015 | AZ12: 12015 | BB12: sekdes | BC12: 2552014 | BD12: 0.01 | BE12: =BC12*BD12 -> 25520.14 | BF12: 25520
B13: 3 | C13: =FORMULASI!C13 -> Kulisusu | D13: =FORMULASI!D13 -> Eelahaji | E13: =FORMULASI!E13 -> 485793000 | F13: ='7410 Kab. Buton Utara (2)'!D15 -> Tertinggal | G13: ='7410 Kab. Buton Utara'!E15 -> 1 | H13: ='7410 Kab. Buton Utara'!F15 -> 418 | I13: =H13/$H$90 -> 0.0087400159 | J13: =I13*$I$93 -> 0.00087400159 | K13: ='7410 Kab. Buton Utara'!G15 -> 13 | L13: =K13/$K$90 -> 0.0016918272 | M13: =L13*$I$94 -> 0.00084591359 | N13: ='7410 Kab. Buton Utara'!H15 -> 19.917515 | O13: =N13/$N$90 -> 0.01142639 | P13: =O13*$I$95 -> 0.0017139585 | Q13: ='7410 Kab. Buton Utara'!I15 -> 54.790809 | R13: =Q13/$Q$90 -> 0.015137874 | S13: =R13*$I$96 -> 0.0037844685 | T13: =J13+M13+P13+S13 -> 0.0072183422 | U13: =FORMULASI!U13 -> 47822000 | V13: =FORMULASI!V13 -> 533615000 | W13: =3000000*12 -> 36000000 | X13: =2225000*12 -> 26700000 | Y13: =((2023000*6)+(2023000*2))*12 -> 194208000 | Z13: =((3000000*0.54%)+(2225000*0.54%)+((2023000*0.54%)*8))*12 -> 1387303.2 | AA13: 0 | AB13: =(W13+X13+Y13)*1% -> 2569080 | AC13: =((150000*1)+(100000*9))*12 -> 12600000 | AD13: 49200000 | AE13: =V13*10% -> 53361500 | AF13: 14700000 | AG13: 92000000 | AH13: =V13-(W13+X13+Y13+AA13+AB13+AE13+AF13+AG13+AC13+AD13+Z13) -> 50889117 | AJ13: =(AH13/AN13)*100 -> 9.5366728 | AK13: =W13+X13+Y13 -> 256908000 | AL13: =AA13+AB13 -> 2569080 | AM13: =W13+X13+Y13+Z13+AA13+AB13+AC13+AD13+AE13+AF13+AG13+AH13 -> 533615000 | AN13: =V13 -> 533615000 | AO13: =AM13-AN13 -> 0 | AV13: kaur | AW13: 2023000 | AX13: 0.0054 | AY13: =AW13*AX13 -> 10924.2 | AZ13: 10924 | BB13: kaur | BC13: 2552014 | BD13: 0.01 | BE13: =BC13*BD13 -> 25520.14 | BF13: 25520
B14: 4 | C14: =FORMULASI!C14 -> Kulisusu | D14: =FORMULASI!D14 -> Tomoahi | E14: =FORMULASI!E14 -> 485793000 | F14: ='7410 Kab. Buton Utara (2)'!D20 -> Tertinggal | G14: ='7410 Kab. Buton Utara'!E20 -> 3 | H14: ='7410 Kab. Buton Utara'!F20 -> 418 | I14: =H14/$H$90 -> 0.0087400159 | J14: =I14*$I$93 -> 0.00087400159 | K14: ='7410 Kab. Buton Utara'!G20 -> 62 | L14: =K14/$K$90 -> 0.0080687142 | M14: =L14*$I$94 -> 0.0040343571 | N14: ='7410 Kab. Buton Utara'!H20 -> 120.99737 | O14: =N14/$N$90 -> 0.069414437 | P14: =O14*$I$95 -> 0.010412166 | Q14: ='7410 Kab. Buton Utara'!I20 -> 58.255129 | R14: =Q14/$Q$90 -> 0.016095014 | S14: =R14*$I$96 -> 0.0040237534 | T14: =J14+M14+P14+S14 -> 0.019344278 | U14: =FORMULASI!U14 -> 41480000 | V14: =FORMULASI!V14 -> 527273000 | W14: =3000000*12 -> 36000000 | X14: =2225000*12 -> 26700000 | Y14: =((2023000*6)+(2023000*2))*12 -> 194208000 | Z14: =((3000000*0.54%)+(2225000*0.54%)+((2023000*0.54%)*8))*12 -> 1387303.2 | AA14: 0 | AB14: =(W14+X14+Y14)*1% -> 2569080 | AC14: =((150000*1)+(100000*9))*12 -> 12600000 | AD14: 49200000 | AE14: =V14*10% -> 52727300 | AF14: 14700000 | AG14: 92000000 | AH14: =V14-(W14+X14+Y14+AA14+AB14+AE14+AF14+AG14+AC14+AD14+Z14) -> 45181317 | AJ14: =(AH14/AN14)*100 -> 8.568866 | AK14: =W14+X14+Y14 -> 256908000 | AL14: =AA14+AB14 -> 2569080 | AM14: =W14+X14+Y14+Z14+AA14+AB14+AC14+AD14+AE14+AF14+AG14+AH14 -> 527273000 | AN14: =V14 -> 527273000 | AO14: =AM14-AN14 -> 0 | AV14: kaur | AW14: 2023000 | AX14: 0.0054 | AY14: =AW14*AX14 -> 10924.2 | AZ14: 10924 | BB14: kaur | BC14: 2552014 | BD14: 0.01 | BE14: =BC14*BD14 -> 25520.14 | BF14: 25520
B15: 5 | C15: =FORMULASI!C15 -> Kulisusu | D15: =FORMULASI!D15 -> Kalibu | E15: =FORMULASI!E15 -> 485793000 | F15: ='7410 Kab. Buton Utara (2)'!D28 -> Sangat Tertinggal | G15: ='7410 Kab. Buton Utara'!E28 -> 2 | H15: ='7410 Kab. Buton Utara'!F28 -> 204 | I15: =H15/$H$90 -> 0.0042654623 | J15: =I15*$I$93 -> 0.00042654623 | K15: ='7410 Kab. Buton Utara'!G28 -> 30 | L15: =K15/$K$90 -> 0.0039042166 | M15: =L15*$I$94 -> 0.0019521083 | N15: ='7410 Kab. Buton Utara'!H28 -> 6.801103 | O15: =N15/$N$90 -> 0.0039016943 | P15: =O15*$I$95 -> 0.00058525414 | Q15: ='7410 Kab. Buton Utara'!I28 -> 52.335044 | R15: =Q15/$Q$90 -> 0.014459383 | S15: =R15*$I$96 -> 0.0036148458 | T15: =J15+M15+P15+S15 -> 0.0065787545 | U15: =FORMULASI!U15 -> 44995000 | V15: =FORMULASI!V15 -> 530788000 | W15: =3000000*12 -> 36000000 | X15: =2225000*12 -> 26700000 | Y15: =((2023000*6)+(2023000*2))*12 -> 194208000 | Z15: =((3000000*0.54%)+(2225000*0.54%)+((2023000*0.54%)*8))*12 -> 1387303.2 | AA15: 0 | AB15: =(W15+X15+Y15)*1% -> 2569080 | AC15: =((150000*1)+(100000*9))*12 -> 12600000 | AD15: 49200000 | AE15: =V15*10% -> 53078800 | AF15: 14700000 | AG15: 92000000 | AH15: =V15-(W15+X15+Y15+AA15+AB15+AE15+AF15+AG15+AC15+AD15+Z15) -> 48344817 | AJ15: =(AH15/AN15)*100 -> 9.1081217 | AK15: =W15+X15+Y15 -> 256908000 | AL15: =AA15+AB15 -> 2569080 | AM15: =W15+X15+Y15+Z15+AA15+AB15+AC15+AD15+AE15+AF15+AG15+AH15 -> 530788000 | AN15: =V15 -> 530788000 | AO15: =AM15-AN15 -> 0 | AV15: kaur | AW15: 2023000 | AX15: 0.0054 | AY15: =AW15*AX15 -> 10924.2 | AZ15: 10924 | BB15: kaur | BC15: 2552014 | BD15: 0.01 | BE15: =BC15*BD15 -> 25520.14 | BF15: 25520
B16: 6 | C16: =FORMULASI!C16 -> Kulisusu | D16: =FORMULASI!D16 -> Jampaka | E16: =FORMULASI!E16 -> 485793000 | F16: ='7410 Kab. Buton Utara (2)'!D34 -> Berkembang | G16: ='7410 Kab. Buton Utara'!E34 -> 3 | H16: ='7410 Kab. Buton Utara'!F34 -> 484 | I16: =H16/$H$90 -> 0.010120018 | J16: =I16*$I$93 -> 0.0010120018 | K16: ='7410 Kab. Buton Utara'!G34 -> 43 | L16: =K16/$K$90 -> 0.0055960437 | M16: =L16*$I$94 -> 0.0027980219 | N16: ='7410 Kab. Buton Utara'!H34 -> 49.793788 | O16: =N16/$N$90 -> 0.028565975 | P16: =O16*$I$95 -> 0.0042848963 | Q16: ='7410 Kab. Buton Utara'!I34 -> 61.483534 | R16: =Q16/$Q$90 -> 0.016986973 | S16: =R16*$I$96 -> 0.0042467433 | T16: =J16+M16+P16+S16 -> 0.012341663 | U16: =FORMULASI!U16 -> 73234000 | V16: =FORMULASI!V16 -> 559027000 | W16: =3000000*12 -> 36000000 | X16: =2225000*12 -> 26700000 | Y16: =((2023000*6)+(2023000*2))*12 -> 194208000 | Z16: =((3000000*0.54%)+(2225000*0.54%)+((2023000*0.54%)*8))*12 -> 1387303.2 | AA16: 0 | AB16: =(W16+X16+Y16)*1% -> 2569080 | AC16: =((150000*1)+(100000*9))*12 -> 12600000 | AD16: 49200000 | AE16: =V16*10% -> 55902700 | AF16: 14700000 | AG16: 92000000 | AH16: =V16-(W16+X16+Y16+AA16+AB16+AE16+AF16+AG16+AC16+AD16+Z16) -> 73759917 | AJ16: =(AH16/AN16)*100 -> 13.194339 | AK16: =W16+X16+Y16 -> 256908000 | AL16: =AA16+AB16 -> 2569080 | AM16: =W16+X16+Y16+Z16+AA16+AB16+AC16+AD16+AE16+AF16+AG16+AH16 -> 559027000 | AN16: =V16 -> 559027000 | AO16: =AM16-AN16 -> 0 | AV16: kasi | AW16: 2023000 | AX16: 0.0054 | AY16: =AW16*AX16 -> 10924.2 | AZ16: 10924 | BB16: kasi | BC16: 2552014 | BD16: 0.01 | BE16: =BC16*BD16 -> 25520.14 | BF16: 25520
B17: 7 | C17: =FORMULASI!C17 -> Kulisusu | D17: =FORMULASI!D17 -> Loji | E17: =FORMULASI!E17 -> 485793000 | F17: ='7410 Kab. Buton Utara (2)'!D38 -> Tertinggal | G17: ='7410 Kab. Buton Utara'!E38 -> 3 | H17: ='7410 Kab. Buton Utara'!F38 -> 751 | I17: =H17/$H$90 -> 0.015702756 | J17: =I17*$I$93 -> 0.0015702756 | K17: ='7410 Kab. Buton Utara'!G38 -> 59 | L17: =K17/$K$90 -> 0.0076782926 | M17: =L17*$I$94 -> 0.0038391463 | N17: ='7410 Kab. Buton Utara'!H38 -> 8.104648 | O17: =N17/$N$90 -> 0.0046495192 | P17: =O17*$I$95 -> 0.00069742788 | Q17: ='7410 Kab. Buton Utara'!I38 -> 57.714174 | R17: =Q17/$Q$90 -> 0.015945556 | S17: =R17*$I$96 -> 0.003986389 | T17: =J17+M17+P17+S17 -> 0.010093239 | U17: =FORMULASI!U17 -> 45181000 | V17: =FORMULASI!V17 -> 530974000 | W17: =3000000*12 -> 36000000 | X17: =2225000*12 -> 26700000 | Y17: =((2023000*6)+(2023000*2))*12 -> 194208000 | Z17: =((3000000*0.54%)+(2225000*0.54%)+((2023000*0.54%)*8))*12 -> 1387303.2 | AA17: 0 | AB17: =(W17+X17+Y17)*1% -> 2569080 | AC17: =((150000*1)+(100000*9))*12 -> 12600000 | AD17: 49200000 | AE17: =V17*10% -> 53097400 | AF17: 14700000 | AG17: 92000000 | AH17: =V17-(W17+X17+Y17+AA17+AB17+AE17+AF17+AG17+AC17+AD17+Z17) -> 48512217 | AJ17: =(AH17/AN17)*100 -> 9.1364581 | AK17: =W17+X17+Y17 -> 256908000 | AL17: =AA17+AB17 -> 2569080 | AM17: =W17+X17+Y17+Z17+AA17+AB17+AC17+AD17+AE17+AF17+AG17+AH17 -> 530974000 | AN17: =V17 -> 530974000 | AO17: =AM17-AN17 -> 0 | AV17: kasi | AW17: 2023000 | AX17: 0.0054 | AY17: =AW17*AX17 -> 10924.2 | AZ17: 10924 | BB17: kasi | BC17: 2552014 | BD17: 0.01 | BE17: =BC17*BD17 -> 25520.14 | BF17: 25520
B18: 8 | C18: =FORMULASI!C18 -> Kulisusu | D18: =FORMULASI!D18 -> Linsowu | E18: =FORMULASI!E18 -> 485793000 | F18: ='7410 Kab. Buton Utara (2)'!D60 -> Sangat Tertinggal | G18: ='7410 Kab. Buton Utara'!E60 -> 7 | H18: ='7410 Kab. Buton Utara'!F60 -> 835 | I18: =H18/$H$90 -> 0.017459123 | J18: =I18*$I$93 -> 0.0017459123 | K18: ='7410 Kab. Buton Utara'!G60 -> 228 | L18: =K18/$K$90 -> 0.029672046 | M18: =L18*$I$94 -> 0.014836023 | N18: ='7410 Kab. Buton Utara'!H60 -> 56.970571 | O18: =N18/$N$90 -> 0.032683192 | P18: =O18*$I$95 -> 0.0049024787 | Q18: ='7410 Kab. Buton Utara'!I60 -> 69.362306 | R18: =Q18/$Q$90 -> 0.019163759 | S18: =R18*$I$96 -> 0.0047909398 | T18: =J18+M18+P18+S18 -> 0.026275354 | U18: =FORMULASI!U18 -> 53074000 | V18: =FORMULASI!V18 -> 538867000 | W18: =3000000*12 -> 36000000 | X18: =2225000*12 -> 26700000 | Y18: =((2023000*6)+(2023000*2))*12 -> 194208000 | Z18: =((3000000*0.54%)+(2225000*0.54%)+((2023000*0.54%)*8))*12 -> 1387303.2 | AA18: 0 | AB18: =(W18+X18+Y18)*1% -> 2569080 | AC18: =((150000*1)+(100000*9))*12 -> 12600000 | AD18: 49200000 | AE18: =V18*10% -> 53886700 | AF18: 14700000 | AG18: 92000000 | AH18: =V18-(W18+X18+Y18+AA18+AB18+AE18+AF18+AG18+AC18+AD18+Z18) -> 55615917 | AJ18: =(AH18/AN18)*100 -> 10.320899 | AK18: =W18+X18+Y18 -> 256908000 | AL18: =AA18+AB18 -> 2569080 | AM18: =W18+X18+Y18+Z18+AA18+AB18+AC18+AD18+AE18+AF18+AG18+AH18 -> 538867000 | AN18: =V18 -> 538867000 | AO18: =AM18-AN18 -> 0 | AV18: kasi | AW18: 2023000 | AX18: 0.0054 | AY18: =AW18*AX18 -> 10924.2 | AZ18: 10924 | BB18: kasi | BC18: 2552014 | BD18: 0.01 | BE18: =BC18*BD18 -> 25520.14 | BF18: 25520
B19: 9 | C19: =FORMULASI!C19 -> Kulisusu | D19: =FORMULASI!D19 -> Rombo | E19: =FORMULASI!E19 -> 485793000 | F19: ='7410 Kab. Buton Utara (2)'!D68 -> Tertinggal | G19: ='7410 Kab. Buton Utara'!E68 -> 6 | H19: ='7410 Kab. Buton Utara'!F68 -> 1070 | I19: =H19/$H$90 -> 0.022372768 | J19: =I19*$I$93 -> 0.0022372768 | K19: ='7410 Kab. Buton Utara'!G68 -> 173 | L19: =K19/$K$90 -> 0.022514315 | M19: =L19*$I$94 -> 0.011257158 | N19: ='7410 Kab. Buton Utara'!H68 -> 19.271476 | O19: =N19/$N$90 -> 0.011055767 | P19: =O19*$I$95 -> 0.001658365 | Q19: ='7410 Kab. Buton Utara'!I68 -> 57.674178 | R19: =Q19/$Q$90 -> 0.015934506 | S19: =R19*$I$96 -> 0.0039836264 | T19: =J19+M19+P19+S19 -> 0.019136426 | U19: =FORMULASI!U19 -> 64797000 | V19: =FORMULASI!V19 -> 550590000 | W19: =3000000*12 -> 36000000 | X19: =2225000*12 -> 26700000 | Y19: =((2023000*6)+(2023000*2))*12 -> 194208000 | Z19: =((3000000*0.54%)+(2225000*0.54%)+((2023000*0.54%)*8))*12 -> 1387303.2 | AA19: 0 | AB19: =(W19+X19+Y19)*1% -> 2569080 | AC19: =((150000*1)+(100000*9))*12 -> 12600000 | AD19: 49200000 | AE19: =V19*10% -> 55059000 | AF19: 14700000 | AG19: 92000000 | AH19: =V19-(W19+X19+Y19+AA19+AB19+AE19+AF19+AG19+AC19+AD19+Z19) -> 66166617 | AJ19: =(AH19/AN19)*100 -> 12.017403 | AK19: =W19+X19+Y19 -> 256908000 | AL19: =AA19+AB19 -> 2569080 | AM19: =W19+X19+Y19+Z19+AA19+AB19+AC19+AD19+AE19+AF19+AG19+AH19 -> 550590000 | AN19: =V19 -> 550590000 | AO19: =AM19-AN19 -> 0 | AV19: kadus | AW19: 2023000 | AX19: 0.0054 | AY19: =AW19*AX19 -> 10924.2 | AZ19: 10924 | BB19: kadus | BC19: 2552014 | BD19: 0.01 | BE19: =BC19*BD19 -> 25520.14 | BF19: 25520
B20: 10 | C20: =FORMULASI!C20 -> Kulisusu | D20: =FORMULASI!D20 -> Wasalabose | E20: =FORMULASI!E20 -> 485793000 | F20: ='7410 Kab. Buton Utara (2)'!D70 -> Sangat Tertinggal | G20: ='7410 Kab. Buton Utara'!E70 -> 3 | H20: ='7410 Kab. Buton Utara'!F70 -> 487 | I20: =H20/$H$90 -> 0.010182746 | J20: =I20*$I$93 -> 0.0010182746 | K20: ='7410 Kab. Buton Utara'!G70 -> 59 | L20: =K20/$K$90 -> 0.0076782926 | M20: =L20*$I$94 -> 0.0038391463 | N20: ='7410 Kab. Buton Utara'!H70 -> 124.45443 | O20: =N20/$N$90 -> 0.071397706 | P20: =O20*$I$95 -> 0.010709656 | Q20: ='7410 Kab. Buton Utara'!I70 -> 59.399377 | R20: =Q20/$Q$90 -> 0.016411152 | S20: =R20*$I$96 -> 0.004102788 | T20: =J20+M20+P20+S20 -> 0.019669865 | U20: =FORMULASI!U20 -> 49354000 | V20: =FORMULASI!V20 -> 535147000 | W20: =3000000*12 -> 36000000 | X20: =2225000*12 -> 26700000 | Y20: =((2023000*6)+(2023000*2))*12 -> 194208000 | Z20: =((3000000*0.54%)+(2225000*0.54%)+((2023000*0.54%)*8))*12 -> 1387303.2 | AA20: 0 | AB20: =(W20+X20+Y20)*1% -> 2569080 | AC20: =((150000*1)+(100000*9))*12 -> 12600000 | AD20: 49200000 | AE20: =V20*10% -> 53514700 | AF20: 14700000 | AG20: 92000000 | AH20: =V20-(W20+X20+Y20+AA20+AB20+AE20+AF20+AG20+AC20+AD20+Z20) -> 52267917 | AJ20: =(AH20/AN20)*100 -> 9.7670204 | AK20: =W20+X20+Y20 -> 256908000 | AL20: =AA20+AB20 -> 2569080 | AM20: =W20+X20+Y20+Z20+AA20+AB20+AC20+AD20+AE20+AF20+AG20+AH20 -> 535147000 | AN20: =V20 -> 535147000 | AO20: =AM20-AN20 -> 0 | AV20: kadus | AW20: 2023000 | AX20: 0.0054 | AY20: =AW20*AX20 -> 10924.2 | AZ20: 10924 | BB20: kadus | BC20: 2552014 | BD20: 0.01 | BE20: =BC20*BD20 -> 25520.14 | BF20: 25520
B21: 11 | C21: =FORMULASI!C21 -> Kulisusu | D21: =FORMULASI!D21 -> Malalanda | E21: =FORMULASI!E21 -> 485793000 | F21: ='7410 Kab. Buton Utara (2)'!D71 -> Berkembang | G21: ='7410 Kab. Buton Utara'!E71 -> 4 | H21: ='7410 Kab. Buton Utara'!F71 -> 485 | I21: =H21/$H$90 -> 0.010140928 | J21: =I21*$I$93 -> 0.0010140928 | K21: ='7410 Kab. Buton Utara'!G71 -> 78 | L21: =K21/$K$90 -> 0.010150963 | M21: =L21*$I$94 -> 0.0050754815 | N21: ='7410 Kab. Buton Utara'!H71 -> 10.201654 | O21: =N21/$N$90 -> 0.0058525412 | P21: =O21*$I$95 -> 0.00087788117 | Q21: ='7410 Kab. Buton Utara'!I71 -> 40.964353 | R21: =Q21/$Q$90 -> 0.011317833 | S21: =R21*$I$96 -> 0.0028294582 | T21: =J21+M21+P21+S21 -> 0.0097969137 | U21: =FORMULASI!U21 -> 48138000 | V21: =FORMULASI!V21 -> 533931000 | W21: =3000000*12 -> 36000000 | X21: =2225000*12 -> 26700000 | Y21: =((2023000*6)+(2023000*2))*12 -> 194208000 | Z21: =((3000000*0.54%)+(2225000*0.54%)+((2023000*0.54%)*8))*12 -> 1387303.2 | AA21: 0 | AB21: =(W21+X21+Y21)*1% -> 2569080 | AC21: =((150000*1)+(100000*9))*12 -> 12600000 | AD21: 49200000 | AE21: =V21*10% -> 53393100 | AF21: 14700000 | AG21: 92000000 | AH21: =V21-(W21+X21+Y21+AA21+AB21+AE21+AF21+AG21+AC21+AD21+Z21) -> 51173517 | AJ21: =(AH21/AN21)*100 -> 9.584294 | AK21: =W21+X21+Y21 -> 256908000 | AL21: =AA21+AB21 -> 2569080 | AM21: =W21+X21+Y21+Z21+AA21+AB21+AC21+AD21+AE21+AF21+AG21+AH21 -> 533931000 | AN21: =V21 -> 533931000 | AO21: =AM21-AN21 -> 0 | AY21: =SUM(AY11:AY20) -> 115608.6 | AZ21: =SUM(AZ11:AZ20) -> 115607 | BE21: =SUM(BE11:BE20) -> 259681.26 | BF21: =SUM(BF11:BF20) -> 259680
B22: 12 | C22: =FORMULASI!C22 -> Kulisusu | D22: =FORMULASI!D22 -> Lemo Ea | E22: =FORMULASI!E22 -> 485793000 | F22: ='7410 Kab. Buton Utara (2)'!D77 -> Tertinggal | G22: ='7410 Kab. Buton Utara'!E77 -> 7 | H22: ='7410 Kab. Buton Utara'!F77 -> 789 | I22: =H22/$H$90 -> 0.016497303 | J22: =I22*$I$93 -> 0.0016497303 | K22: ='7410 Kab. Buton Utara'!G77 -> 266 | L22: =K22/$K$90 -> 0.034617387 | M22: =L22*$I$94 -> 0.017308693 | N22: ='7410 Kab. Buton Utara'!H77 -> 54.408823 | O22: =N22/$N$90 -> 0.031213554 | P22: =O22*$I$95 -> 0.0046820331 | Q22: ='7410 Kab. Buton Utara'!I77 -> 55.286183 | R22: =Q22/$Q$90 -> 0.015274739 | S22: =R22*$I$96 -> 0.0038186846 | T22: =J22+M22+P22+S22 -> 0.027459141 | U22: =FORMULASI!U22 -> 53706000 | V22: =FORMULASI!V22 -> 539499000 | W22: =3000000*12 -> 36000000 | X22: =2225000*12 -> 26700000 | Y22: =((2023000*6)+(2023000*2))*12 -> 194208000 | Z22: =((3000000*0.54%)+(2225000*0.54%)+((2023000*0.54%)*8))*12 -> 1387303.2 | AA22: 0 | AB22: =(W22+X22+Y22)*1% -> 2569080 | AC22: =((150000*1)+(100000*9))*12 -> 12600000 | AD22: 49200000 | AE22: =V22*10% -> 53949900 | AF22: 14700000 | AG22: 92000000 | AH22: =V22-(W22+X22+Y22+AA22+AB22+AE22+AF22+AG22+AC22+AD22+Z22) -> 56184717 | AJ22: =(AH22/AN22)*100 -> 10.414239 | AK22: =W22+X22+Y22 -> 256908000 | AL22: =AA22+AB22 -> 2569080 | AM22: =W22+X22+Y22+Z22+AA22+AB22+AC22+AD22+AE22+AF22+AG22+AH22 -> 539499000 | AN22: =V22 -> 539499000 | AO22: =AM22-AN22 -> 0 | AW22: =AY22-AZ22 -> 19.2 | AX22: 12 | AY22: =AX22*AY21 -> 1387303.2 | AZ22: =AX22*AZ21 -> 1387284 | BC22: =BE22-BF22 -> 15.12 | BD22: 12 | BE22: =BE21*BD22 -> 3116175.1 | BF22: =BD22*BF21 -> 3116160
B23: 13 | C23: =FORMULASI!C23 -> Kulisusu | D23: =FORMULASI!D23 -> Lantagi | E23: =FORMULASI!E23 -> 485793000 | F23: ='7410 Kab. Buton Utara (2)'!D79 -> Tertinggal | G23: ='7410 Kab. Buton Utara'!E79 -> 4 | H23: ='7410 Kab. Buton Utara'!F79 -> 362 | I23: =H23/$H$90 -> 0.0075691047 | J23: =I23*$I$93 -> 0.00075691047 | K23: ='7410 Kab. Buton Utara'!G79 -> 86 | L23: =K23/$K$90 -> 0.011192087 | M23: =L23*$I$94 -> 0.0055960437 | N23: ='7410 Kab. Buton Utara'!H79 -> 10.86698 | O23: =N23/$N$90 -> 0.006234229 | P23: =O23*$I$95 -> 0.00093513436 | Q23: ='7410 Kab. Buton Utara'!I79 -> 40.356338 | R23: =Q23/$Q$90 -> 0.011149848 | S23: =R23*$I$96 -> 0.0027874619 | T23: =J23+M23+P23+S23 -> 0.01007555 | U23: =FORMULASI!U23 -> 85847000 | V23: =FORMULASI!V23 -> 571640000 | W23: =3000000*12 -> 36000000 | X23: =2225000*12 -> 26700000 | Y23: =((2023000*6)+(2023000*2))*12 -> 194208000 | Z23: =((3000000*0.54%)+(2225000*0.54%)+((2023000*0.54%)*8))*12 -> 1387303.2 | AA23: 0 | AB23: =(W23+X23+Y23)*1% -> 2569080 | AC23: =((150000*1)+(100000*9))*12 -> 12600000 | AD23: 49200000 | AE23: =V23*10% -> 57164000 | AF23: 14700000 | AG23: 92000000 | AH23: =V23-(W23+X23+Y23+AA23+AB23+AE23+AF23+AG23+AC23+AD23+Z23) -> 85111617 | AJ23: =(AH23/AN23)*100 -> 14.889024 | AK23: =W23+X23+Y23 -> 256908000 | AL23: =AA23+AB23 -> 2569080 | AM23: =W23+X23+Y23+Z23+AA23+AB23+AC23+AD23+AE23+AF23+AG23+AH23 -> 571640000 | AN23: =V23 -> 571640000 | AO23: =AM23-AN23 -> 0 | AW23: =AY23-AZ23 -> 1497.6 | AX23: 78 | AY23: =AX23*AY22 -> 1.0820965e+08 | AZ23: =AZ22*AX23 -> 108208152 | BC23: =BE23-BF23 -> 1179.36 | BD23: 78 | BE23: =BE22*BD23 -> 2.4306166e+08 | BF23: =BF22*BD23 -> 243060480
B24: 14 | C24: =FORMULASI!C24 -> Kulisusu | D24: =FORMULASI!D24 -> Laangke | E24: =FORMULASI!E24 -> 485793000 | F24: ='7410 Kab. Buton Utara (2)'!D3 -> Tertinggal | G24: ='7410 Kab. Buton Utara'!E3 -> 5 | H24: ='7410 Kab. Buton Utara'!F3 -> 396 | I24: =H24/$H$90 -> 0.0082800151 | J24: =I24*$I$93 -> 0.00082800151 | K24: ='7410 Kab. Buton Utara'!G3 -> 107 | L24: =K24/$K$90 -> 0.013925039 | M24: =L24*$I$94 -> 0.0069625195 | N24: ='7410 Kab. Buton Utara'!H3 -> 9.108944 | O24: =N24/$N$90 -> 0.0052256693 | P24: =O24*$I$95 -> 0.00078385039 | Q24: ='7410 Kab. Buton Utara'!I3 -> 55.21822 | R24: =Q24/$Q$90 -> 0.015255961 | S24: =R24*$I$96 -> 0.0038139903 | T24: =J24+M24+P24+S24 -> 0.012388362 | U24: =FORMULASI!U24 -> 52972000 | V24: =FORMULASI!V24 -> 538765000 | W24: =3000000*12 -> 36000000 | X24: =2225000*12 -> 26700000 | Y24: =((2023000*6)+(2023000*2))*12 -> 194208000 | Z24: =((3000000*0.54%)+(2225000*0.54%)+((2023000*0.54%)*8))*12 -> 1387303.2 | AA24: 0 | AB24: =(W24+X24+Y24)*1% -> 2569080 | AC24: =((150000*1)+(100000*9))*12 -> 12600000 | AD24: 49200000 | AE24: =V24*10% -> 53876500 | AF24: 14700000 | AG24: 92000000 | AH24: =V24-(W24+X24+Y24+AA24+AB24+AE24+AF24+AG24+AC24+AD24+Z24) -> 55524117 | AJ24: =(AH24/AN24)*100 -> 10.305814 | AK24: =W24+X24+Y24 -> 256908000 | AL24: =AA24+AB24 -> 2569080 | AM24: =W24+X24+Y24+Z24+AA24+AB24+AC24+AD24+AE24+AF24+AG24+AH24 -> 538765000 | AN24: =V24 -> 538765000 | AO24: =AM24-AN24 -> 0
B25: 15 | C25: =FORMULASI!C25 -> Kulisusu | D25: =FORMULASI!D25 -> Kadacua | E25: =FORMULASI!E25 -> 485793000 | F25: ='7410 Kab. Buton Utara (2)'!D5 -> Tertinggal | G25: ='7410 Kab. Buton Utara'!E5 -> 6 | H25: ='7410 Kab. Buton Utara'!F5 -> 913 | I25: =H25/$H$90 -> 0.019090035 | J25: =I25*$I$93 -> 0.0019090035 | K25: ='7410 Kab. Buton Utara'!G5 -> 179 | L25: =K25/$K$90 -> 0.023295159 | M25: =L25*$I$94 -> 0.011647579 | N25: ='7410 Kab. Buton Utara'!H5 -> 6.828466 | O25: =N25/$N$90 -> 0.0039173921 | P25: =O25*$I$95 -> 0.00058760881 | Q25: ='7410 Kab. Buton Utara'!I5 -> 32.71669 | R25: =Q25/$Q$90 -> 0.009039128 | S25: =R25*$I$96 -> 0.002259782 | T25: =J25+M25+P25+S25 -> 0.016403974 | U25: =FORMULASI!U25 -> 47269000 | V25: =FORMULASI!V25 -> 533062000 | W25: =3000000*12 -> 36000000 | X25: =2225000*12 -> 26700000 | Y25: =((2023000*6)+(2023000*2))*12 -> 194208000 | Z25: =((3000000*0.54%)+(2225000*0.54%)+((2023000*0.54%)*8))*12 -> 1387303.2 | AA25: 0 | AB25: =(W25+X25+Y25)*1% -> 2569080 | AC25: =((150000*1)+(100000*9))*12 -> 12600000 | AD25: 49200000 | AE25: =V25*10% -> 53306200 | AF25: 14700000 | AG25: 92000000 | AH25: =V25-(W25+X25+Y25+AA25+AB25+AE25+AF25+AG25+AC25+AD25+Z25) -> 50391417 | AJ25: =(AH25/AN25)*100 -> 9.4532 | AK25: =W25+X25+Y25 -> 256908000 | AL25: =AA25+AB25 -> 2569080 | AM25: =W25+X25+Y25+Z25+AA25+AB25+AC25+AD25+AE25+AF25+AG25+AH25 -> 533062000 | AN25: =V25 -> 533062000 | AO25: =AM25-AN25 -> 0
B26: 16 | C26: =FORMULASI!C26 -> Kulisusu | D26: =FORMULASI!D26 -> Banu-Banua Jaya | E26: =FORMULASI!E26 -> 485793000 | F26: ='7410 Kab. Buton Utara (2)'!D6 -> Tertinggal | G26: ='7410 Kab. Buton Utara'!E6 -> 4 | H26: ='7410 Kab. Buton Utara'!F6 -> 569 | I26: =H26/$H$90 -> 0.011897294 | J26: =I26*$I$93 -> 0.0011897294 | K26: ='7410 Kab. Buton Utara'!G6 -> 75 | L26: =K26/$K$90 -> 0.0097605414 | M26: =L26*$I$94 -> 0.0048802707 | N26: ='7410 Kab. Buton Utara'!H6 -> 10.820555 | O26: =N26/$N$90 -> 0.0062075957 | P26: =O26*$I$95 -> 0.00093113935 | Q26: ='7410 Kab. Buton Utara'!I6 -> 33.644462 | R26: =Q26/$Q$90 -> 0.0092954574 | S26: =R26*$I$96 -> 0.0023238644 | T26: =J26+M26+P26+S26 -> 0.0093250038 | U26: =FORMULASI!U26 -> 73835000 | V26: =FORMULASI!V26 -> 559628000 | W26: =3000000*12 -> 36000000 | X26: =2225000*12 -> 26700000 | Y26: =((2023000*6)+(2023000*2))*12 -> 194208000 | Z26: =((3000000*0.54%)+(2225000*0.54%)+((2023000*0.54%)*8))*12 -> 1387303.2 | AA26: 0 | AB26: =(W26+X26+Y26)*1% -> 2569080 | AC26: =((150000*1)+(100000*9))*12 -> 12600000 | AD26: 49200000 | AE26: =V26*10% -> 55962800 | AF26: 14700000 | AG26: 92000000 | AH26: =V26-(W26+X26+Y26+AA26+AB26+AE26+AF26+AG26+AC26+AD26+Z26) -> 74300817 | AJ26: =(AH26/AN26)*100 -> 13.276823 | AK26: =W26+X26+Y26 -> 256908000 | AL26: =AA26+AB26 -> 2569080 | AM26: =W26+X26+Y26+Z26+AA26+AB26+AC26+AD26+AE26+AF26+AG26+AH26 -> 559628000 | AN26: =V26 -> 559628000 | AO26: =AM26-AN26 -> 0
B27: 17 | C27: =FORMULASI!C27 -> Kambowa | D27: =FORMULASI!D27 -> Bubu | E27: =FORMULASI!E27 -> 485793000 | F27: ='7410 Kab. Buton Utara (2)'!D8 -> Tertinggal | G27: ='7410 Kab. Buton Utara'!E8 -> 7 | H27: ='7410 Kab. Buton Utara'!F8 -> 1016 | I27: =H27/$H$90 -> 0.021243675 | J27: =I27*$I$93 -> 0.0021243675 | K27: ='7410 Kab. Buton Utara'!G8 -> 293 | L27: =K27/$K$90 -> 0.038131182 | M27: =L27*$I$94 -> 0.019065591 | N27: ='7410 Kab. Buton Utara'!H8 -> 36.435775 | O27: =N27/$N$90 -> 0.020902676 | P27: =O27*$I$95 -> 0.0031354015 | Q27: ='7410 Kab. Buton Utara'!I8 -> 33.50976 | R27: =Q27/$Q$90 -> 0.0092582413 | S27: =R27*$I$96 -> 0.0023145603 | T27: =J27+M27+P27+S27 -> 0.02663992 | U27: =FORMULASI!U27 -> 75024000 | V27: =FORMULASI!V27 -> 560817000 | W27: =3000000*12 -> 36000000 | X27: =2225000*12 -> 26700000 | Y27: =((2023000*6)+(2023000*2))*12 -> 194208000 | Z27: =((3000000*0.54%)+(2225000*0.54%)+((2023000*0.54%)*8))*12 -> 1387303.2 | AA27: 0 | AB27: =(W27+X27+Y27)*1% -> 2569080 | AC27: =((150000*1)+(100000*9))*12 -> 12600000 | AD27: 49200000 | AE27: =V27*10% -> 56081700 | AF27: 14700000 | AG27: 92000000 | AH27: =V27-(W27+X27+Y27+AA27+AB27+AE27+AF27+AG27+AC27+AD27+Z27) -> 75370917 | AJ27: =(AH27/AN27)*100 -> 13.439485 | AK27: =W27+X27+Y27 -> 256908000 | AL27: =AA27+AB27 -> 2569080 | AM27: =W27+X27+Y27+Z27+AA27+AB27+AC27+AD27+AE27+AF27+AG27+AH27 -> 560817000 | AN27: =V27 -> 560817000 | AO27: =AM27-AN27 -> 0
B28: 18 | C28: =FORMULASI!C28 -> Kambowa | D28: =FORMULASI!D28 -> Lahumoko | E28: =FORMULASI!E28 -> 485793000 | F28: ='7410 Kab. Buton Utara (2)'!D30 -> Tertinggal | G28: ='7410 Kab. Buton Utara'!E30 -> 5 | H28: ='7410 Kab. Buton Utara'!F30 -> 901 | I28: =H28/$H$90 -> 0.018839125 | J28: =I28*$I$93 -> 0.0018839125 | K28: ='7410 Kab. Buton Utara'!G30 -> 141 | L28: =K28/$K$90 -> 0.018349818 | M28: =L28*$I$94 -> 0.0091749089 | N28: ='7410 Kab. Buton Utara'!H30 -> 27.204411 | O28: =N28/$N$90 -> 0.015606777 | P28: =O28*$I$95 -> 0.0023410165 | Q28: ='7410 Kab. Buton Utara'!I30 -> 34.748608 | R28: =Q28/$Q$90 -> 0.0096005163 | S28: =R28*$I$96 -> 0.0024001291 | T28: =J28+M28+P28+S28 -> 0.015799967 | U28: =FORMULASI!U28 -> 58755000 | V28: =FORMULASI!V28 -> 544548000 | W28: =3000000*12 -> 36000000 | X28: =2225000*12 -> 26700000 | Y28: =((2023000*6)+(2023000*2))*12 -> 194208000 | Z28: =((3000000*0.54%)+(2225000*0.54%)+((2023000*0.54%)*8))*12 -> 1387303.2 | AA28: 0 | AB28: =(W28+X28+Y28)*1% -> 2569080 | AC28: =((150000*1)+(100000*9))*12 -> 12600000 | AD28: 49200000 | AE28: =V28*10% -> 54454800 | AF28: 14700000 | AG28: 92000000 | AH28: =V28-(W28+X28+Y28+AA28+AB28+AE28+AF28+AG28+AC28+AD28+Z28) -> 60728817 | AJ28: =(AH28/AN28)*100 -> 11.152151 | AK28: =W28+X28+Y28 -> 256908000 | AL28: =AA28+AB28 -> 2569080 | AM28: =W28+X28+Y28+Z28+AA28+AB28+AC28+AD28+AE28+AF28+AG28+AH28 -> 544548000 | AN28: =V28 -> 544548000 | AO28: =AM28-AN28 -> 0
B29: 19 | C29: =FORMULASI!C29 -> Kambowa | D29: =FORMULASI!D29 -> Morindino | E29: =FORMULASI!E29 -> 485793000 | F29: ='7410 Kab. Buton Utara (2)'!D35 -> Tertinggal | G29: ='7410 Kab. Buton Utara'!E35 -> 3 | H29: ='7410 Kab. Buton Utara'!F35 -> 219 | I29: =H29/$H$90 -> 0.0045790992 | J29: =I29*$I$93 -> 0.00045790992 | K29: ='7410 Kab. Buton Utara'!G35 -> 61 | L29: =K29/$K$90 -> 0.0079385737 | M29: =L29*$I$94 -> 0.0039692868 | N29: ='7410 Kab. Buton Utara'!H35 -> 5.039458 | O29: =N29/$N$90 -> 0.0028910641 | P29: =O29*$I$95 -> 0.00043365961 | Q29: ='7410 Kab. Buton Utara'!I35 -> 63.865944 | R29: =Q29/$Q$90 -> 0.017645197 | S29: =R29*$I$96 -> 0.0044112993 | T29: =J29+M29+P29+S29 -> 0.0092721556 | U29: =FORMULASI!U29 -> 47112000 | V29: =FORMULASI!V29 -> 532905000 | W29: =3000000*12 -> 36000000 | X29: =2225000*12 -> 26700000 | Y29: =((2023000*6)+(2023000*2))*12 -> 194208000 | Z29: =((3000000*0.54%)+(2225000*0.54%)+((2023000*0.54%)*8))*12 -> 1387303.2 | AA29: 0 | AB29: =(W29+X29+Y29)*1% -> 2569080 | AC29: =((150000*1)+(100000*9))*12 -> 12600000 | AD29: 49200000 | AE29: =V29*10% -> 53290500 | AF29: 14700000 | AG29: 92000000 | AH29: =V29-(W29+X29+Y29+AA29+AB29+AE29+AF29+AG29+AC29+AD29+Z29) -> 50250117 | AJ29: =(AH29/AN29)*100 -> 9.4294699 | AK29: =W29+X29+Y29 -> 256908000 | AL29: =AA29+AB29 -> 2569080 | AM29: =W29+X29+Y29+Z29+AA29+AB29+AC29+AD29+AE29+AF29+AG29+AH29 -> 532905000 | AN29: =V29 -> 532905000 | AO29: =AM29-AN29 -> 0
B30: 20 | C30: =FORMULASI!C30 -> Kambowa | D30: =FORMULASI!D30 -> Pongkowulu | E30: =FORMULASI!E30 -> 485793000 | F30: ='7410 Kab. Buton Utara (2)'!D41 -> Tertinggal | G30: ='7410 Kab. Buton Utara'!E41 -> 4 | H30: ='7410 Kab. Buton Utara'!F41 -> 437 | I30: =H30/$H$90 -> 0.0091372893 | J30: =I30*$I$93 -> 0.00091372893 | K30: ='7410 Kab. Buton Utara'!G41 -> 70 | L30: =K30/$K$90 -> 0.0091098386 | M30: =L30*$I$94 -> 0.0045549193 | N30: ='7410 Kab. Buton Utara'!H41 -> 7.213703 | O30: =N30/$N$90 -> 0.0041383969 | P30: =O30*$I$95 -> 0.00062075954 | Q30: ='7410 Kab. Buton Utara'!I41 -> 36.948517 | R30: =Q30/$Q$90 -> 0.010208318 | S30: =R30*$I$96 -> 0.0025520795 | T30: =J30+M30+P30+S30 -> 0.0086414873 | U30: =FORMULASI!U30 -> 116678000 | V30: =FORMULASI!V30 -> 602471000 | W30: =3000000*12 -> 36000000 | X30: =2225000*12 -> 26700000 | Y30: =((2023000*6)+(2023000*2))*12 -> 194208000 | Z30: =((3000000*0.54%)+(2225000*0.54%)+((2023000*0.54%)*8))*12 -> 1387303.2 | AA30: 0 | AB30: =(W30+X30+Y30)*1% -> 2569080 | AC30: =((150000*1)+(100000*9))*12 -> 12600000 | AD30: 49200000 | AE30: =V30*10% -> 60247100 | AF30: 14700000 | AG30: 92000000 | AH30: =V30-(W30+X30+Y30+AA30+AB30+AE30+AF30+AG30+AC30+AD30+Z30) -> 1.1285952e+08 | AJ30: =(AH30/AN30)*100 -> 18.732772 | AK30: =W30+X30+Y30 -> 256908000 | AL30: =AA30+AB30 -> 2569080 | AM30: =W30+X30+Y30+Z30+AA30+AB30+AC30+AD30+AE30+AF30+AG30+AH30 -> 602471000 | AN30: =V30 -> 602471000 | AO30: =AM30-AN30 -> 0
B31: 21 | C31: =FORMULASI!C31 -> Kambowa | D31: =FORMULASI!D31 -> Lagundi | E31: =FORMULASI!E31 -> 485793000 | F31: ='7410 Kab. Buton Utara (2)'!D43 -> Tertinggal | G31: ='7410 Kab. Buton Utara'!E43 -> 2 | H31: ='7410 Kab. Buton Utara'!F43 -> 448 | I31: =H31/$H$90 -> 0.0093672898 | J31: =I31*$I$93 -> 0.00093672898 | K31: ='7410 Kab. Buton Utara'!G43 -> 37 | L31: =K31/$K$90 -> 0.0048152004 | M31: =L31*$I$94 -> 0.0024076002 | N31: ='7410 Kab. Buton Utara'!H43 -> 38.754951 | O31: =N31/$N$90 -> 0.022233154 | P31: =O31*$I$95 -> 0.0033349731 | Q31: ='7410 Kab. Buton Utara'!I43 -> 58.118174 | R31: =Q31/$Q$90 -> 0.016057175 | S31: =R31*$I$96 -> 0.0040142937 | T31: =J31+M31+P31+S31 -> 0.010693596 | U31: =FORMULASI!U31 -> 69586000 | V31: =FORMULASI!V31 -> 555379000 | W31: =3000000*12 -> 36000000 | X31: =2225000*12 -> 26700000 | Y31: =((2023000*6)+(2023000*2))*12 -> 194208000 | Z31: =((3000000*0.54%)+(2225000*0.54%)+((2023000*0.54%)*8))*12 -> 1387303.2 | AA31: 0 | AB31: =(W31+X31+Y31)*1% -> 2569080 | AC31: =((150000*1)+(100000*9))*12 -> 12600000 | AD31: 49200000 | AE31: =V31*10% -> 55537900 | AF31: 14700000 | AG31: 92000000 | AH31: =V31-(W31+X31+Y31+AA31+AB31+AE31+AF31+AG31+AC31+AD31+Z31) -> 70476717 | AJ31: =(AH31/AN31)*100 -> 12.689842 | AK31: =W31+X31+Y31 -> 256908000 | AL31: =AA31+AB31 -> 2569080 | AM31: =W31+X31+Y31+Z31+AA31+AB31+AC31+AD31+AE31+AF31+AG31+AH31 -> 555379000 | AN31: =V31 -> 555379000 | AO31: =AM31-AN31 -> 0
B32: 22 | C32: =FORMULASI!C32 -> Kambowa | D32: =FORMULASI!D32 -> Konde | E32: =FORMULASI!E32 -> 485793000 | F32: ='7410 Kab. Buton Utara (2)'!D62 -> Tertinggal | G32: ='7410 Kab. Buton Utara'!E62 -> 5 | H32: ='7410 Kab. Buton Utara'!F62 -> 621 | I32: =H32/$H$90 -> 0.012984569 | J32: =I32*$I$93 -> 0.0012984569 | K32: ='7410 Kab. Buton Utara'!G62 -> 127 | L32: =K32/$K$90 -> 0.01652785 | M32: =L32*$I$94 -> 0.008263925 | N32: ='7410 Kab. Buton Utara'!H62 -> 17.002757 | O32: =N32/$N$90 -> 0.0097542354 | P32: =O32*$I$95 -> 0.0014631353 | Q32: ='7410 Kab. Buton Utara'!I62 -> 44.714926 | R32: =Q32/$Q$90 -> 0.01235406 | S32: =R32*$I$96 -> 0.0030885149 | T32: =J32+M32+P32+S32 -> 0.014114032 | U32: =FORMULASI!U32 -> 42754000 | V32: =FORMULASI!V32 -> 528547000 | W32: =3000000*12 -> 36000000 | X32: =2225000*12 -> 26700000 | Y32: =((2023000*6)+(2023000*2))*12 -> 194208000 | Z32: =((3000000*0.54%)+(2225000*0.54%)+((2023000*0.54%)*8))*12 -> 1387303.2 | AA32: 0 | AB32: =(W32+X32+Y32)*1% -> 2569080 | AC32: =((150000*1)+(100000*9))*12 -> 12600000 | AD32: 49200000 | AE32: =V32*10% -> 52854700 | AF32: 14700000 | AG32: 92000000 | AH32: =V32-(W32+X32+Y32+AA32+AB32+AE32+AF32+AG32+AC32+AD32+Z32) -> 46327917 | AJ32: =(AH32/AN32)*100 -> 8.7651461 | AK32: =W32+X32+Y32 -> 256908000 | AL32: =AA32+AB32 -> 2569080 | AM32: =W32+X32+Y32+Z32+AA32+AB32+AC32+AD32+AE32+AF32+AG32+AH32 -> 528547000 | AN32: =V32 -> 528547000 | AO32: =AM32-AN32 -> 0
B33: 23 | C33: =FORMULASI!C33 -> Kambowa | D33: =FORMULASI!D33 -> Mata | E33: =FORMULASI!E33 -> 485793000 | F33: ='7410 Kab. Buton Utara (2)'!D65 -> Tertinggal | G33: ='7410 Kab. Buton Utara'!E65 -> 4 | H33: ='7410 Kab. Buton Utara'!F65 -> 661 | I33: =H33/$H$90 -> 0.013820934 | J33: =I33*$I$93 -> 0.0013820934 | K33: ='7410 Kab. Buton Utara'!G65 -> 72 | L33: =K33/$K$90 -> 0.0093701197 | M33: =L33*$I$94 -> 0.0046850599 | N33: ='7410 Kab. Buton Utara'!H65 -> 18.136274 | O33: =N33/$N$90 -> 0.010404518 | P33: =O33*$I$95 -> 0.0015606777 | Q33: ='7410 Kab. Buton Utara'!I65 -> 36.064888 | R33: =Q33/$Q$90 -> 0.0099641846 | S33: =R33*$I$96 -> 0.0024910462 | T33: =J33+M33+P33+S33 -> 0.010118877 | U33: =FORMULASI!U33 -> 51341000 | V33: =FORMULASI!V33 -> 537134000 | W33: =3000000*12 -> 36000000 | X33: =2225000*12 -> 26700000 | Y33: =((2023000*6)+(2023000*2))*12 -> 194208000 | Z33: =((3000000*0.54%)+(2225000*0.54%)+((2023000*0.54%)*8))*12 -> 1387303.2 | AA33: 0 | AB33: =(W33+X33+Y33)*1% -> 2569080 | AC33: =((150000*1)+(100000*9))*12 -> 12600000 | AD33: 49200000 | AE33: =V33*10% -> 53713400 | AF33: 14700000 | AG33: 92000000 | AH33: =V33-(W33+X33+Y33+AA33+AB33+AE33+AF33+AG33+AC33+AD33+Z33) -> 54056217 | AJ33: =(AH33/AN33)*100 -> 10.063823 | AK33: =W33+X33+Y33 -> 256908000 | AL33: =AA33+AB33 -> 2569080 | AM33: =W33+X33+Y33+Z33+AA33+AB33+AC33+AD33+AE33+AF33+AG33+AH33 -> 537134000 | AN33: =V33 -> 537134000 | AO33: =AM33-AN33 -> 0
B34: 24 | C34: =FORMULASI!C34 -> Kambowa | D34: =FORMULASI!D34 -> Bubu Barat | E34: =FORMULASI!E34 -> 485793000 | F34: ='7410 Kab. Buton Utara (2)'!D9 -> Tertinggal | G34: ='7410 Kab. Buton Utara'!E9 -> 4 | H34: ='7410 Kab. Buton Utara'!F9 -> 955 | I34: =H34/$H$90 -> 0.019968218 | J34: =I34*$I$93 -> 0.0019968218 | K34: ='7410 Kab. Buton Utara'!G9 -> 82 | L34: =K34/$K$90 -> 0.010671525 | M34: =L34*$I$94 -> 0.0053357626 | N34: ='7410 Kab. Buton Utara'!H9 -> 43.266349 | O34: =N34/$N$90 -> 0.024821278 | P34: =O34*$I$95 -> 0.0037231917 | Q34: ='7410 Kab. Buton Utara'!I9 -> 41.039921 | R34: =Q34/$Q$90 -> 0.011338711 | S34: =R34*$I$96 -> 0.0028346778 | T34: =J34+M34+P34+S34 -> 0.013890454 | U34: =FORMULASI!U34 -> 40057000 | V34: =FORMULASI!V34 -> 525850000 | W34: =3000000*12 -> 36000000 | X34: =2225000*12 -> 26700000 | Y34: =((2023000*6)+(2023000*2))*12 -> 194208000 | Z34: =((3000000*0.54%)+(2225000*0.54%)+((2023000*0.54%)*8))*12 -> 1387303.2 | AA34: 0 | AB34: =(W34+X34+Y34)*1% -> 2569080 | AC34: =((150000*1)+(100000*9))*12 -> 12600000 | AD34: 49200000 | AE34: =V34*10% -> 52585000 | AF34: 14700000 | AG34: 92000000 | AH34: =V34-(W34+X34+Y34+AA34+AB34+AE34+AF34+AG34+AC34+AD34+Z34) -> 43900617 | AJ34: =(AH34/AN34)*100 -> 8.3485056 | AK34: =W34+X34+Y34 -> 256908000 | AL34: =AA34+AB34 -> 2569080 | AM34: =W34+X34+Y34+Z34+AA34+AB34+AC34+AD34+AE34+AF34+AG34+AH34 -> 525850000 | AN34: =V34 -> 525850000 | AO34: =AM34-AN34 -> 0
B35: 25 | C35: =FORMULASI!C35 -> Kambowa | D35: =FORMULASI!D35 -> Bente | E35: =FORMULASI!E35 -> 485793000 | F35: ='7410 Kab. Buton Utara (2)'!D11 -> Tertinggal | G35: ='7410 Kab. Buton Utara'!E11 -> 6 | H35: ='7410 Kab. Buton Utara'!F11 -> 1034 | I35: =H35/$H$90 -> 0.021620039 | J35: =I35*$I$93 -> 0.0021620039 | K35: ='7410 Kab. Buton Utara'!G11 -> 155 | L35: =K35/$K$90 -> 0.020171786 | M35: =L35*$I$94 -> 0.010085893 | N35: ='7410 Kab. Buton Utara'!H11 -> 0.952154 | O35: =N35/$N$90 -> 0.00054623696 | P35: =O35*$I$95 -> 8.1935544e-05 | Q35: ='7410 Kab. Buton Utara'!I11 -> 45.55587 | R35: =Q35/$Q$90 -> 0.0125864 | S35: =R35*$I$96 -> 0.0031466 | T35: =J35+M35+P35+S35 -> 0.015476432 | U35: =FORMULASI!U35 -> 36734000 | V35: =FORMULASI!V35 -> 522527000 | W35: =3000000*12 -> 36000000 | X35: =2225000*12 -> 26700000 | Y35: =((2023000*6)+(2023000*2))*12 -> 194208000 | Z35: =((3000000*0.54%)+(2225000*0.54%)+((2023000*0.54%)*8))*12 -> 1387303.2 | AA35: 0 | AB35: =(W35+X35+Y35)*1% -> 2569080 | AC35: =((150000*1)+(100000*9))*12 -> 12600000 | AD35: 49200000 | AE35: =V35*10% -> 52252700 | AF35: 14700000 | AG35: 92000000 | AH35: =V35-(W35+X35+Y35+AA35+AB35+AE35+AF35+AG35+AC35+AD35+Z35) -> 40909917 | AJ35: =(AH35/AN35)*100 -> 7.8292446 | AK35: =W35+X35+Y35 -> 256908000 | AL35: =AA35+AB35 -> 2569080 | AM35: =W35+X35+Y35+Z35+AA35+AB35+AC35+AD35+AE35+AF35+AG35+AH35 -> 522527000 | AN35: =V35 -> 522527000 | AO35: =AM35-AN35 -> 0
B36: 26 | C36: =FORMULASI!C36 -> Kambowa | D36: =FORMULASI!D36 -> Baluara | E36: =FORMULASI!E36 -> 485793000 | F36: ='7410 Kab. Buton Utara (2)'!D14 -> Tertinggal | G36: ='7410 Kab. Buton Utara'!E14 -> 4 | H36: ='7410 Kab. Buton Utara'!F14 -> 1169 | I36: =H36/$H$90 -> 0.024442772 | J36: =I36*$I$93 -> 0.0024442772 | K36: ='7410 Kab. Buton Utara'!G14 -> 81 | L36: =K36/$K$90 -> 0.010541385 | M36: =L36*$I$94 -> 0.0052706923 | N36: ='7410 Kab. Buton Utara'!H14 -> 1.616592 | O36: =N36/$N$90 -> 0.00092741542 | P36: =O36*$I$95 -> 0.00013911231 | Q36: ='7410 Kab. Buton Utara'!I14 -> 58.791934 | R36: =Q36/$Q$90 -> 0.016243325 | S36: =R36*$I$96 -> 0.0040608312 | T36: =J36+M36+P36+S36 -> 0.011914913 | U36: =FORMULASI!U36 -> 55084000 | V36: =FORMULASI!V36 -> 540877000 | W36: =3000000*12 -> 36000000 | X36: =2225000*12 -> 26700000 | Y36: =((2023000*6)+(2023000*2))*12 -> 194208000 | Z36: =((3000000*0.54%)+(2225000*0.54%)+((2023000*0.54%)*8))*12 -> 1387303.2 | AA36: 0 | AB36: =(W36+X36+Y36)*1% -> 2569080 | AC36: =((150000*1)+(100000*9))*12 -> 12600000 | AD36: 49200000 | AE36: =V36*10% -> 54087700 | AF36: 14700000 | AG36: 92000000 | AH36: =V36-(W36+X36+Y36+AA36+AB36+AE36+AF36+AG36+AC36+AD36+Z36) -> 57424917 | AJ36: =(AH36/AN36)*100 -> 10.617001 | AK36: =W36+X36+Y36 -> 256908000 | AL36: =AA36+AB36 -> 2569080 | AM36: =W36+X36+Y36+Z36+AA36+AB36+AC36+AD36+AE36+AF36+AG36+AH36 -> 540877000 | AN36: =V36 -> 540877000 | AO36: =AM36-AN36 -> 0
B37: 27 | C37: =FORMULASI!C37 -> Bonegunu | D37: =FORMULASI!D37 -> Gunung Sari | E37: =FORMULASI!E37 -> 485793000 | F37: ='7410 Kab. Buton Utara (2)'!D16 -> Berkembang | G37: ='7410 Kab. Buton Utara'!E16 -> 5 | H37: ='7410 Kab. Buton Utara'!F16 -> 971 | I37: =H37/$H$90 -> 0.020302764 | J37: =I37*$I$93 -> 0.0020302764 | K37: ='7410 Kab. Buton Utara'!G16 -> 123 | L37: =K37/$K$90 -> 0.016007288 | M37: =L37*$I$94 -> 0.0080036439 | N37: ='7410 Kab. Buton Utara'!H16 -> 7.651241 | O37: =N37/$N$90 -> 0.0043894062 | P37: =O37*$I$95 -> 0.00065841092 | Q37: ='7410 Kab. Buton Utara'!I16 -> 32.990375 | R37: =Q37/$Q$90 -> 0.009114743 | S37: =R37*$I$96 -> 0.0022786858 | T37: =J37+M37+P37+S37 -> 0.012971017 | U37: =FORMULASI!U37 -> 47697000 | V37: =FORMULASI!V37 -> 533490000 | W37: =3000000*12 -> 36000000 | X37: =2225000*12 -> 26700000 | Y37: =((2023000*6)+(2023000*2))*12 -> 194208000 | Z37: =((3000000*0.54%)+(2225000*0.54%)+((2023000*0.54%)*8))*12 -> 1387303.2 | AA37: 0 | AB37: =(W37+X37+Y37)*1% -> 2569080 | AC37: =((150000*1)+(100000*9))*12 -> 12600000 | AD37: 49200000 | AE37: =V37*10% -> 53349000 | AF37: 14700000 | AG37: 92000000 | AH37: =V37-(W37+X37+Y37+AA37+AB37+AE37+AF37+AG37+AC37+AD37+Z37) -> 50776617 | AJ37: =(AH37/AN37)*100 -> 9.5178198 | AK37: =W37+X37+Y37 -> 256908000 | AL37: =AA37+AB37 -> 2569080 | AM37: =W37+X37+Y37+Z37+AA37+AB37+AC37+AD37+AE37+AF37+AG37+AH37 -> 533490000 | AN37: =V37 -> 533490000 | AO37: =AM37-AN37 -> 0
B38: 28 | C38: =FORMULASI!C38 -> Bonegunu | D38: =FORMULASI!D38 -> Ronta | E38: =FORMULASI!E38 -> 485793000 | F38: ='7410 Kab. Buton Utara (2)'!D25 -> Tertinggal | G38: ='7410 Kab. Buton Utara'!E25 -> 5 | H38: ='7410 Kab. Buton Utara'!F25 -> 496 | I38: =H38/$H$90 -> 0.010370928 | J38: =I38*$I$93 -> 0.0010370928 | K38: ='7410 Kab. Buton Utara'!G25 -> 143 | L38: =K38/$K$90 -> 0.018610099 | M38: =L38*$I$94 -> 0.0093050495 | N38: ='7410 Kab. Buton Utara'!H25 -> 54.57885 | O38: =N38/$N$90 -> 0.031311096 | P38: =O38*$I$95 -> 0.0046966644 | Q38: ='7410 Kab. Buton Utara'!I25 -> 64.750073 | R38: =Q38/$Q$90 -> 0.017889469 | S38: =R38*$I$96 -> 0.0044723672 | T38: =J38+M38+P38+S38 -> 0.019511174 | U38: =FORMULASI!U38 -> 30863000 | V38: =FORMULASI!V38 -> 516656000 | W38: =3000000*12 -> 36000000 | X38: =2225000*12 -> 26700000 | Y38: =((2023000*6)+(2023000*2))*12 -> 194208000 | Z38: =((3000000*0.54%)+(2225000*0.54%)+((2023000*0.54%)*8))*12 -> 1387303.2 | AA38: 0 | AB38: =(W38+X38+Y38)*1% -> 2569080 | AC38: =((150000*1)+(100000*9))*12 -> 12600000 | AD38: 49200000 | AE38: =V38*10% -> 51665600 | AF38: 14700000 | AG38: 92000000 | AH38: =V38-(W38+X38+Y38+AA38+AB38+AE38+AF38+AG38+AC38+AD38+Z38) -> 35626017 | AJ38: =(AH38/AN38)*100 -> 6.8955004 | AK38: =W38+X38+Y38 -> 256908000 | AL38: =AA38+AB38 -> 2569080 | AM38: =W38+X38+Y38+Z38+AA38+AB38+AC38+AD38+AE38+AF38+AG38+AH38 -> 516656000 | AN38: =V38 -> 516656000 | AO38: =AM38-AN38 -> 0
B39: 29 | C39: =FORMULASI!C39 -> Bonegunu | D39: =FORMULASI!D39 -> Waode Angkalo | E39: =FORMULASI!E39 -> 485793000 | F39: ='7410 Kab. Buton Utara (2)'!D27 -> Tertinggal | G39: ='7410 Kab. Buton Utara'!E27 -> 6 | H39: ='7410 Kab. Buton Utara'!F27 -> 569 | I39: =H39/$H$90 -> 0.011897294 | J39: =I39*$I$93 -> 0.0011897294 | K39: ='7410 Kab. Buton Utara'!G27 -> 222 | L39: =K39/$K$90 -> 0.028891202 | M39: =L39*$I$94 -> 0.014445601 | N39: ='7410 Kab. Buton Utara'!H27 -> 3.30393 | O39: =N39/$N$90 -> 0.0018954168 | P39: =O39*$I$95 -> 0.00028431252 | Q39: ='7410 Kab. Buton Utara'!I27 -> 35.253539 | R39: =Q39/$Q$90 -> 0.0097400211 | S39: =R39*$I$96 -> 0.0024350053 | T39: =J39+M39+P39+S39 -> 0.018354648 | U39: =FORMULASI!U39 -> 37814000 | V39: =FORMULASI!V39 -> 523607000 | W39: =3000000*12 -> 36000000 | X39: =2225000*12 -> 26700000 | Y39: =((2023000*6)+(2023000*2))*12 -> 194208000 | Z39: =((3000000*0.54%)+(2225000*0.54%)+((2023000*0.54%)*8))*12 -> 1387303.2 | AA39: 0 | AB39: =(W39+X39+Y39)*1% -> 2569080 | AC39: =((150000*1)+(100000*9))*12 -> 12600000 | AD39: 49200000 | AE39: =V39*10% -> 52360700 | AF39: 14700000 | AG39: 92000000 | AH39: =V39-(W39+X39+Y39+AA39+AB39+AE39+AF39+AG39+AC39+AD39+Z39) -> 41881917 | AJ39: =(AH39/AN39)*100 -> 7.9987313 | AK39: =W39+X39+Y39 -> 256908000 | AL39: =AA39+AB39 -> 2569080 | AM39: =W39+X39+Y39+Z39+AA39+AB39+AC39+AD39+AE39+AF39+AG39+AH39 -> 523607000 | AN39: =V39 -> 523607000 | AO39: =AM39-AN39 -> 0
B40: 30 | C40: =FORMULASI!C40 -> Bonegunu | D40: =FORMULASI!D40 -> Langere | E40: =FORMULASI!E40 -> 485793000 | F40: ='7410 Kab. Buton Utara (2)'!D33 -> Tertinggal | G40: ='7410 Kab. Buton Utara'!E33 -> 5 | H40: ='7410 Kab. Buton Utara'!F33 -> 592 | I40: =H40/$H$90 -> 0.012378204 | J40: =I40*$I$93 -> 0.0012378204 | K40: ='7410 Kab. Buton Utara'!G33 -> 111 | L40: =K40/$K$90 -> 0.014445601 | M40: =L40*$I$94 -> 0.0072228006 | N40: ='7410 Kab. Buton Utara'!H33 -> 4.897677 | O40: =N40/$N$90 -> 0.0028097264 | P40: =O40*$I$95 -> 0.00042145895 | Q40: ='7410 Kab. Buton Utara'!I33 -> 32.513989 | R40: =Q40/$Q$90 -> 0.0089831248 | S40: =R40*$I$96 -> 0.0022457812 | T40: =J40+M40+P40+S40 -> 0.011127861 | U40: =FORMULASI!U40 -> 110218000 | V40: =FORMULASI!V40 -> 596011000 | W40: =3000000*12 -> 36000000 | X40: =2225000*12 -> 26700000 | Y40: =((2023000*6)+(2023000*2))*12 -> 194208000 | Z40: =((3000000*0.54%)+(2225000*0.54%)+((2023000*0.54%)*8))*12 -> 1387303.2 | AA40: 0 | AB40: =(W40+X40+Y40)*1% -> 2569080 | AC40: =((150000*1)+(100000*9))*12 -> 12600000 | AD40: 49200000 | AE40: =V40*10% -> 59601100 | AF40: 14700000 | AG40: 92000000 | AH40: =V40-(W40+X40+Y40+AA40+AB40+AE40+AF40+AG40+AC40+AD40+Z40) -> 1.0704552e+08 | AJ40: =(AH40/AN40)*100 -> 17.960326 | AK40: =W40+X40+Y40 -> 256908000 | AL40: =AA40+AB40 -> 2569080 | AM40: =W40+X40+Y40+Z40+AA40+AB40+AC40+AD40+AE40+AF40+AG40+AH40 -> 596011000 | AN40: =V40 -> 596011000 | AO40: =AM40-AN40 -> 0
...

Sheet DATA (21)
A1: kddesa | B1: kdprov | C1: prov | D1: kdpemda | E1: pemda | F1: kec | G1: desa | H1: Klaster_JP | I1: KlasifikasiDesa | J1: desil_JPM | K1: skor_kinerja | L1: JP | M1: JPM | N1: LW | O1: IKG
A2: 7410012001 | B2: 74 | C2: Sulawesi Tenggara | D2: 7410 | E2: Kab. Buton Utara | F2: Kulisusu | G2: Tri Wacu-Wacu | H2: 2 | I2: TERTINGGAL | J2: 6 | K2: 46.591937 | L2: 500 | M2: 142 | N2: 54.57885 | O2: 30.767103
A3: 7410012002 | B3: 74 | C3: Sulawesi Tenggara | D3: 7410 | E3: Kab. Buton Utara | F3: Kulisusu | G3: Waculaea | H3: 2 | I3: TERTINGGAL | J3: 3 | K3: 45.934396 | L3: 531 | M3: 53 | N3: 55.655691 | O3: 28.071301
A4: 7410012003 | B4: 74 | C4: Sulawesi Tenggara | D4: 7410 | E4: Kab. Buton Utara | F4: Kulisusu | G4: Eelahaji | H4: 2 | I4: BERKEMBANG | J4: 4 | K4: 51.896119 | L4: 901 | M4: 61 | N4: 34.572273 | O4: 28.733798
A5: 7410012004 | B5: 74 | C5: Sulawesi Tenggara | D5: 7410 | E5: Kab. Buton Utara | F5: Kulisusu | G5: Tomoahi | H5: 2 | I5: BERKEMBANG | J5: 2 | K5: 48.555367 | L5: 958 | M5: 31 | N5: 43.266349 | O5: 23.981075
A6: 7410012005 | B6: 74 | C6: Sulawesi Tenggara | D6: 7410 | E6: Kab. Buton Utara | F6: Kulisusu | G6: Kalibu | H6: 2 | I6: BERKEMBANG | J6: 4 | K6: 42.029838 | L6: 989 | M6: 65 | N6: 32.588618 | O6: 17.458146
A7: 7410012006 | B7: 74 | C7: Sulawesi Tenggara | D7: 7410 | E7: Kab. Buton Utara | F7: Kulisusu | G7: Jampaka | H7: 2 | I7: BERKEMBANG | J7: 6 | K7: 54.034743 | L7: 604 | M7: 142 | N7: 48.027121 | O7: 29.342813
A8: 7410012007 | B8: 74 | C8: Sulawesi Tenggara | D8: 7410 | E8: Kab. Buton Utara | F8: Kulisusu | G8: Loji | H8: 3 | I8: BERKEMBANG | J8: 4 | K8: 50.602124 | L8: 1202 | M8: 88 | N8: 1.6165917 | O8: 27.411836
A9: 7410012011 | B9: 74 | C9: Sulawesi Tenggara | D9: 7410 | E9: Kab. Buton Utara | F9: Kulisusu | G9: Linsowu | H9: 3 | I9: BERKEMBANG | J9: 5 | K9: 49.951833 | L9: 1091 | M9: 122 | N9: 7.6512407 | O9: 19.023554
A10: 7410012013 | B10: 74 | C10: Sulawesi Tenggara | D10: 7410 | E10: Kab. Buton Utara | F10: Kulisusu | G10: Rombo | H10: 3 | I10: BERKEMBANG | J10: 6 | K10: 40.733926 | L10: 1056 | M10: 152 | N10: 0.95215439 | O10: 36.439428
A11: 7410012018 | B11: 74 | C11: Sulawesi Tenggara | D11: 7410 | E11: Kab. Buton Utara | F11: Kulisusu | G11: Wasalabose | H11: 2 | I11: BERKEMBANG | J11: 4 | K11: 50.310397 | L11: 880 | M11: 87 | N11: 4.272245 | O11: 45.107533
A12: 7410012019 | B12: 74 | C12: Sulawesi Tenggara | D12: 7410 | E12: Kab. Buton Utara | F12: Kulisusu | G12: Malalanda | H12: 2 | I12: BERKEMBANG | J12: 5 | K12: 43.955677 | L12: 667 | M12: 106 | N12: 4.8976766 | O12: 30.99914
A13: 7410012020 | B13: 74 | C13: Sulawesi Tenggara | D13: 7410 | E13: Kab. Buton Utara | F13: Kulisusu | G13: Lemo Ea | H13: 2 | I13: BERKEMBANG | J13: 5 | K13: 49.501903 | L13: 772 | M13: 113 | N13: 1.5858445 | O13: 42.233827
... A79: 7410062013 | B79: 74 | C79: Sulawesi Tenggara | D79: 7410 | E79: Kab. Buton Utara | F79: Wakorumba Utara | G79: Laba Jaya | H79: 2 | I79: TERTINGGAL | J79: 6 | K79: 48.287688 | L79: 495 | M79: 155 | N79: 15.166459 | O79: 41.324843

Sheet DATA (20)
A1: kode_desa | B1: kdprov | C1: prov | D1: kode_pemda | E1: nama_kab_kota | F1: kec | G1: desa | H1: KlasifikasiDesa | I1: desil_JPM | J1: skor | K1: JP | L1: JPM | M1: LW | N1: IKG
A2: 7410012001 | B2: 74 | C2: Sulawesi Tenggara | D2: 7410 | E2: Kab. Buton Utara | F2: Kulisusu | G2: Tri Wacu-Wacu | H2: Tertinggal | I2: 6 | J2: 45.365079 | K2: 498 | L2: 143 | M2: 54.57885 | N2: 36.029773
A3: 7410012002 | B3: 74 | C3: Sulawesi Tenggara | D3: 7410 | E3: Kab. Buton Utara | F3: Kulisusu | G3: Waculaea | H3: Tertinggal | I3: 3 | J3: 47.196203 | K3: 500 | L3: 53 | M3: 55.655691 | N3: 35.528974
A4: 7410012003 | B4: 74 | C4: Sulawesi Tenggara | D4: 7410 | E4: Kab. Buton Utara | F4: Kulisusu | G4: Eelahaji | H4: Tertinggal | I4: 4 | J4: 50.219067 | K4: 878 | L4: 61 | M4: 34.572273 | N4: 28.353249
A5: 7410012004 | B5: 74 | C5: Sulawesi Tenggara | D5: 7410 | E5: Kab. Buton Utara | F5: Kulisusu | G5: Tomoahi | H5: Berkembang | I5: 2 | J5: 48.016375 | K5: 971 | L5: 31 | M5: 43.266349 | N5: 30.785327
A6: 7410012005 | B6: 74 | C6: Sulawesi Tenggara | D6: 7410 | E6: Kab. Buton Utara | F6: Kulisusu | G6: Kalibu | H6: Berkembang | I6: 4 | J6: 48.579231 | K6: 925 | L6: 65 | M6: 32.588618 | N6: 20.263974
A7: 7410012006 | B7: 74 | C7: Sulawesi Tenggara | D7: 7410 | E7: Kab. Buton Utara | F7: Kulisusu | G7: Jampaka | H7: Tertinggal | I7: 6 | J7: 48.95957 | K7: 591 | L7: 150 | M7: 48.027121 | N7: 34.641109
A8: 7410012007 | B8: 74 | C8: Sulawesi Tenggara | D8: 7410 | E8: Kab. Buton Utara | F8: Kulisusu | G8: Loji | H8: Berkembang | I8: 5 | J8: 51.816826 | K8: 1176 | L8: 98 | M8: 1.6165917 | N8: 35.679887
A9: 7410012011 | B9: 74 | C9: Sulawesi Tenggara | D9: 7410 | E9: Kab. Buton Utara | F9: Kulisusu | G9: Linsowu | H9: Berkembang | I9: 5 | J9: 48.261159 | K9: 996 | L9: 123 | M9: 7.6512407 | N9: 22.626918
A10: 7410012013 | B10: 74 | C10: Sulawesi Tenggara | D10: 7410 | E10: Kab. Buton Utara | F10: Kulisusu | G10: Rombo | H10: Berkembang | I10: 6 | J10: 53.473781 | K10: 1039 | L10: 155 | M10: 0.95215439 | N10: 41.017188
A11: 7410012018 | B11: 74 | C11: Sulawesi Tenggara | D11: 7410 | E11: Kab. Buton Utara | F11: Kulisusu | G11: Wasalabose | H11: Berkembang | I11: 4 | J11: 55.067834 | K11: 772 | L11: 88 | M11: 4.272245 | N11: 43.603939
A12: 7410012019 | B12: 74 | C12: Sulawesi Tenggara | D12: 7410 | E12: Kab. Buton Utara | F12: Kulisusu | G12: Malalanda | H12: Berkembang | I12: 5 | J12: 46.675243 | K12: 624 | L12: 111 | M12: 4.8976766 | N12: 35.293403
A13: 7410012020 | B13: 74 | C13: Sulawesi Tenggara | D13: 7410 | E13: Kab. Buton Utara | F13: Kulisusu | G13: Lemo Ea | H13: Berkembang | I13: 5 | J13: 53.900667 | K13: 714 | L13: 113 | M13: 1.5858445 | N13: 38.474841
... A79: 7410062013 | B79: 74 | C79: Sulawesi Tenggara | D79: 7410 | E79: Kab. Buton Utara | F79: Wakorumba Utara | G79: Laba Jaya | H79: Tertinggal | I79: 6 | J79: 51.748565 | K79: 506 | L79: 158 | M79: 15.166459 | N79: 40.431739

Sheet LAMPIRAN ADD 2021
AK1: =AK2+AK3 -> 12200000
C2: LAMPIRAN | D2: : PERATURAN BUPATI BUTON UTARA | AK2: 5000000
D3: NOMOR | E3: : 4 TAHUN 2021 | AK3: =600000*12 -> 7200000
D4: TANGGAL | E4: : 15-2-2021 | AK4: =(1000000+900000+800000+(700000*2))*12 -> 49200000 | AL4: 81000000
D5: TENTANG | E5: : PERATURAN BUPATI BUTON UTARA NOMOR 00 TENTANG PEDOMAN PENGALOKASIAN DAN PENGGUNAAN ALOKASI DANA DESA KABUPATEN BUTON UTARA TAHUN ANGGARAN 2021 | AK5: =AK4+5000000 -> 54200000
AK6: =AK4+AK3+AK2 -> 61400000
B7: No. | C7: Kecamatan | D7: Nama Desa | E7: Alokasi Dasar | F7: Klasifikasi Desa IDM | G7: Desil JPM | H7: Alokasi Formula | T7: Total Bobot | U7: Alokasi Formula | V7: Pagu Alokasi Dana Desa per-Desa | W7: SILTAP | Z7: Tunjangan | AE7: Operasional | AH7: Pembangunan/ Pengadaan | AK7: =AK4+AK3 -> 56400000
H8: Jumlah Penduduk | K8: Jumlah Penduduk Miskin | N8: Luas Wilayah | Q8: IKG | AK8: =AC11+AD11 -> 61800000
H9: Jumlah Penduduk | I9: Rasio Jumlah Penduduk | J9: Bobot | K9: Jumlah Penduduk Miskin | L9: Rasio Jumlah Penduduk Miskin | M9: Bobot | N9: Luas Wilayah | O9: Rasio Luas Wilayah | P9: Bobot | Q9: Indeks Kesulitan Geografis | R9: Rasio Indeks Kesulitan Geografis | S9: Bobot | W9: Kades | X9: Sekdes | Y9: Kaur, Seksi dan Kadus | Z9: BPJS Ketenagakerjaan | AA9: BPJS Kesehatan 4% | AB9: BPJS Kesehatan 1% | AC9: Kepala Desa dan Perangkat | AD9: BPD | AE9: Kantor | AF9: BPD | AG9: LKD | AV9: BPJS KETENAGAKERJAAN | BB9: BPJS KESEHATAN
B10: (1) | C10: (2) | D10: (3) | E10: (4) | F10: (5) | G10: (6) | H10: (8) | I10: (9) | J10: (10) | K10: (11) | L10: (12) | M10: (13) | N10: (14) | O10: (15) | P10: (16) | Q10: (17) | R10: (18) | S10: (19) | T10: (20) = (10) + (13) + (16) + (19) | U10: (5) | V10: (6)=(4)+(5) | W10: (7) | X10: (8) | Y10: (9) | Z10: (10) | AA10: (11) | AB10: (11) | AC10: (12) | AD10: (13) | AE10: (14) | AF10: (15) | AG10: (16) | AH10: (17) | AI10: =W11+X11+Y11+Z11+AA11+AB11+AC11+AD11+AF11 -> 337911444
B11: 1 | C11: =FORMULASI!C11 -> Kulisusu | D11: =FORMULASI!D11 -> Tri Wacu-Wacu | E11: =FORMULASI!E11 -> 485793000 | F11: ='7410 Kab. Buton Utara (2)'!D10 -> Sangat Tertinggal | G11: ='7410 Kab. Buton Utara'!E10 -> 3 | H11: ='7410 Kab. Buton Utara'!F10 -> 368 | I11: =H11/$H$90 -> 0.0076945594 | J11: =I11*$I$93 -> 0.00076945594 | K11: ='7410 Kab. Buton Utara'!G10 -> 48 | L11: =K11/$K$90 -> 0.0062467465 | M11: =L11*$I$94 -> 0.0031233732 | N11: ='7410 Kab. Buton Utara'!H10 -> 60.578715 | O11: =N11/$N$90 -> 0.034753131 | P11: =O11*$I$95 -> 0.0052129697 | Q11: ='7410 Kab. Buton Utara'!I10 -> 39.358392 | R11: =Q11/$Q$90 -> 0.01087413 | S11: =R11*$I$96 -> 0.0027185325 | T11: =J11+M11+P11+S11 -> 0.011824331 | U11: =FORMULASI!U11 -> 75294000 | V11: =FORMULASI!V11 -> 561087000 | W11: =3000000*12 -> 36000000 | X11: =2225000*12 -> 26700000 | Y11: =((2023000*6)+(2023000*2))*12 -> 194208000 | Z11: =$AZ$22 -> 1387284 | AA11: 0 | AB11: =$BF$22 -> 3116160 | AC11: =((150000*1)+(100000*9))*12 -> 12600000 | AD11: 49200000 | AE11: =V11*10% -> 56108700 | AF11: 14700000 | AG11: 92000000 | AH11: =V11-(W11+X11+Y11+AA11+AB11+AE11+AF11+AG11+AC11+AD11+Z11) -> 75066856 | AJ11: =(AH11/AN11)*100 -> 13.378826 | AK11: =W11+X11+Y11 -> 256908000 | AL11: =AA11+AB11 -> 3116160 | AM11: =W11+X11+Y11+Z11+AA11+AB11+AC11+AD11+AE11+AF11+AG11+AH11 -> 561087000 | AN11: =V11 -> 561087000 | AO11: =AM11-AN11 -> 0 | AP11: =ROUNDDOWN(AH11,-3) -> 75066000 | AR11: =E11+U11 -> 561087000 | AS11: =AN11-AR11 -> 0 | AV11: kepala desa | AW11: 3000000 | AX11: 0.0054 | AY11: =AW11*AX11 -> 16200 | AZ11: 16200 | BB11: kepala desa | BC11: 3000000 | BD11: 0.01 | BE11: =BC11*BD11 -> 30000 | BF11: 30000
B12: 2 | C12: =FORMULASI!C12 -> Kulisusu | D12: =FORMULASI!D12 -> Waculaea | E12: =FORMULASI!E12 -> 485793000 | F12: ='7410 Kab. Buton Utara (2)'!D12 -> Tertinggal | G12: ='7410 Kab. Buton Utara'!E12 -> 5 | H12: ='7410 Kab. Buton Utara'!F12 -> 240 | I12: =H12/$H$90 -> 0.0050181909 | J12: =I12*$I$93 -> 0.00050181909 | K12: ='7410 Kab. Buton Utara'!G12 -> 105 | L12: =K12/$K$90 -> 0.013664758 | M12: =L12*$I$94 -> 0.006832379 | N12: ='7410 Kab. Buton Utara'!H12 -> 24.83881 | O12: =N12/$N$90 -> 0.014249666 | P12: =O12*$I$95 -> 0.0021374498 | Q12: ='7410 Kab. Buton Utara'!I12 -> 48.442036 | R12: =Q12/$Q$90 -> 0.013383804 | S12: =R12*$I$96 -> 0.003345951 | T12: =J12+M12+P12+S12 -> 0.012817599 | U12: =FORMULASI!U12 -> 50064000 | V12: =FORMULASI!V12 -> 535857000 | W12: =3000000*12 -> 36000000 | X12: =2225000*12 -> 26700000 | Y12: =((2023000*6)+(2023000*2))*12 -> 194208000 | Z12: =$AZ$22 -> 1387284 | AA12: 0 | AB12: =$BF$22 -> 3116160 | AC12: =((150000*1)+(100000*9))*12 -> 12600000 | AD12: 49200000 | AE12: =V12*10% -> 53585700 | AF12: 14700000 | AG12: 92000000 | AH12: =V12-(W12+X12+Y12+AA12+AB12+AE12+AF12+AG12+AC12+AD12+Z12) -> 52359856 | AJ12: =(AH12/AN12)*100 -> 9.7712367 | AK12: =W12+X12+Y12 -> 256908000 | AL12: =AA12+AB12 -> 3116160 | AM12: =W12+X12+Y12+Z12+AA12+AB12+AC12+AD12+AE12+AF12+AG12+AH12 -> 535857000 | AN12: =V12 -> 535857000 | AO12: =AM12-AN12 -> 0 | AP12: =ROUNDDOWN(AH12,-3) -> 52359000 | AR12: =E12+U12 -> 535857000 | AS12: =AN12-AR12 -> 0 | AV12: sekdes | AW12: 2225000 | AX12: 0.0054 | AY12: =AW12*AX12 -> 12015 | AZ12: 12015 | BB12: sekdes | BC12: 2552014 | BD12: 0.01 | BE12: =BC12*BD12 -> 25520.14 | BF12: 25520
